Mojolicious-Plugin-ExportExcel v1.1.1 Perl 5 v5.24.3 armv7l-linux-64int

Status
Pass
From
Nigel Horne
Dist
Mojolicious-Plugin-ExportExcel v1.1.1
Platform
Perl 5 v5.24.3 armv7l-linux-64int
Date
2018-04-12 14:17:35
ID
3f8655ce-3e5c-11e8-91ce-d3e3deac0b3f
This distribution has been tested as part of the CPAN Testers
project, supporting the Perl programming language.  See
http://wiki.cpantesters.org/ for more information or email
questions to cpan-testers-discuss@perl.org


--
Dear Shi Jie Wu,

This is a computer-generated report for Mojolicious-Plugin-ExportExcel-1.1.1
on perl 5.24.3, created by CPAN-Reporter-1.2018.

Thank you for uploading your work to CPAN.  Congratulations!
All tests were successful.

Sections of this report:

    * Tester comments
    * Program output
    * Prerequisites
    * Environment and other context

------------------------------
TESTER COMMENTS
------------------------------

Additional comments from tester:

this report is from an automated smoke testing program
and was not reviewed by a human for accuracy

------------------------------
PROGRAM OUTPUT
------------------------------

Output from '/usr/bin/make test':

PERL_DL_NONLAZY=1 "/mnt/nas/home/pi2/njh/perl5/perlbrew/perls/perl-5.24.3-64int/bin/perl5.24.3" "-MExtUtils::Command::MM" "-MTest::Harness" "-e" "undef *Test::Harness::Switches; test_harness(0, 'blib/lib', 'blib/arch')" t/*.t
t/manifest.t ...... skipped: Author tests not required for installation
t/pod-coverage.t .. skipped: Author tests not required for installation
t/pod.t ........... skipped: Author tests not required for installation
# Testing Mojolicious::Plugin::ExportExcel 1.1.1, Perl 5.024003, /mnt/nas/home/pi2/njh/perl5/perlbrew/perls/perl-5.24.3-64int/bin/perl5.24.3
t/00-load.t ....... ok
All tests successful.
Files=4, Tests=1,  3 wallclock secs ( 0.17 usr  0.07 sys +  3.14 cusr  0.63 csys =  4.01 CPU)
Result: PASS

------------------------------
PREREQUISITES
------------------------------

Prerequisite modules loaded:

requires:

    Module                  Need  Have    
    ----------------------- ----- --------
    Mojolicious             7.70  7.75    
    perl                    5.006 5.024003
    Spreadsheet::WriteExcel 2.40  2.40    

build_requires:

    Module                  Need  Have    
    ----------------------- ----- --------
    Test::More              0     1.302135

configure_requires:

    Module                  Need  Have    
    ----------------------- ----- --------
    ExtUtils::MakeMaker     0     7.30    


------------------------------
ENVIRONMENT AND OTHER CONTEXT
------------------------------

Environment variables:

    AUTOMATED_TESTING = 1
    HARNESS_OPTIONS = j4
    LANG = en_GB.UTF-8
    PATH = /home/njh/perl5/perlbrew/bin:/home/njh/perl5/perlbrew/perls/perl-5.24.3-64int/bin:src/njh/smoker/bin:/usr/bin:/bin
    PERL5LIB = /home/njh/.cpan/build/Spreadsheet-WriteExcel-2.40-1/blib/arch:/home/njh/.cpan/build/Spreadsheet-WriteExcel-2.40-1/blib/lib:/home/njh/.cpan/build/OLE-Storage_Lite-0.19-1/blib/arch:/home/njh/.cpan/build/OLE-Storage_Lite-0.19-1/blib/lib:/home/njh/.cpan/build/Mojolicious-7.75-5/blib/arch:/home/njh/.cpan/build/Mojolicious-7.75-5/blib/lib
    PERL5OPT = 
    PERL5_CPANPLUS_IS_RUNNING = 5653
    PERL5_CPAN_IS_RUNNING = 5653
    PERLBREW_BASHRC_VERSION = 0.80
    PERLBREW_HOME = /home/njh/.perlbrew
    PERLBREW_MANPATH = /home/njh/perl5/perlbrew/perls/perl-5.24.3-64int/man
    PERLBREW_PATH = /home/njh/perl5/perlbrew/bin:/home/njh/perl5/perlbrew/perls/perl-5.24.3-64int/bin
    PERLBREW_PERL = perl-5.24.3-64int
    PERLBREW_ROOT = /home/njh/perl5/perlbrew
    PERLBREW_VERSION = 0.80
    SHELL = /bin/sh

Perl special variables (and OS-specific diagnostics, for MSWin32):

    $^X = /mnt/nas/home/pi2/njh/perl5/perlbrew/perls/perl-5.24.3-64int/bin/perl5.24.3
    $UID/$EUID = 1000 / 1000
    $GID = 1000 4 20 24 25 27 29 30 44 46 60 100 101 108 997 998 999 1000
    $EGID = 1000 4 20 24 25 27 29 30 44 46 60 100 101 108 997 998 999 1000

Perl module toolchain versions installed:

    Module              Have      
    ------------------- ----------
    CPAN                2.16      
    CPAN::Meta          2.150005  
    Cwd                 3.63_01   
    ExtUtils::CBuilder  0.280225  
    ExtUtils::Command   7.30      
    ExtUtils::Install   2.06      
    ExtUtils::MakeMaker 7.30      
    ExtUtils::Manifest  1.70      
    ExtUtils::ParseXS   3.31      
    File::Spec          3.63_01   
    JSON                2.94      
    JSON::PP            2.27300_01
    Module::Build       0.4224    
    Module::Signature   n/a       
    Parse::CPAN::Meta   1.4417_001
    Test::Harness       3.36_01   
    Test::More          1.302135  
    YAML                1.24      
    YAML::Syck          1.30      
    version             0.9916    


--

Summary of my perl5 (revision 5 version 24 subversion 3) configuration:
   
  Platform:
    osname=linux, osvers=4.9.41-v7+, archname=armv7l-linux-64int
    uname='linux pi2 4.9.41-v7+ #1023 smp tue aug 8 16:00:15 bst 2017 armv7l gnulinux '
    config_args='-de -Dprefix=/home/njh/perl5/perlbrew/perls/perl-5.24.3-64int -Dusedevel -Duse64bitint -Accflags= -Aeval:scriptdir=/home/njh/perl5/perlbrew/perls/perl-5.24.3-64int/bin'
    hint=recommended, useposix=true, d_sigaction=define
    useithreads=undef, usemultiplicity=undef
    use64bitint=define, use64bitall=undef, uselongdouble=undef
    usemymalloc=n, bincompat5005=undef
  Compiler:
    cc='cc', ccflags ='-fwrapv -fno-strict-aliasing -pipe -fstack-protector-strong -I/usr/local/include -D_LARGEFILE_SOURCE -D_FILE_OFFSET_BITS=64 -D_FORTIFY_SOURCE=2',
    optimize='-O2',
    cppflags='-fwrapv -fno-strict-aliasing -pipe -fstack-protector-strong -I/usr/local/include'
    ccversion='', gccversion='6.3.0 20170516', gccosandvers=''
    intsize=4, longsize=4, ptrsize=4, doublesize=8, byteorder=12345678, doublekind=3
    d_longlong=define, longlongsize=8, d_longdbl=define, longdblsize=8, longdblkind=0
    ivtype='long long', ivsize=8, nvtype='double', nvsize=8, Off_t='off_t', lseeksize=8
    alignbytes=8, prototype=define
  Linker and Libraries:
    ld='cc', ldflags =' -fstack-protector-strong -L/usr/local/lib'
    libpth=/usr/local/lib /usr/lib/gcc/arm-linux-gnueabihf/6/include-fixed /usr/include/arm-linux-gnueabihf /usr/lib /lib/arm-linux-gnueabihf /lib /usr/lib/arm-linux-gnueabihf
    libs=-lpthread -lnsl -lgdbm -ldb -ldl -lm -lcrypt -lutil -lc -lgdbm_compat
    perllibs=-lpthread -lnsl -ldl -lm -lcrypt -lutil -lc
    libc=libc-2.24.so, so=so, useshrplib=false, libperl=libperl.a
    gnulibc_version='2.24'
  Dynamic Linking:
    dlsrc=dl_dlopen.xs, dlext=so, d_dlsymun=undef, ccdlflags='-Wl,-E'
    cccdlflags='-fPIC', lddlflags='-shared -O2 -L/usr/local/lib -fstack-protector-strong'


Characteristics of this binary (from libperl): 
  Compile-time options: HAS_TIMES PERLIO_LAYERS PERL_COPY_ON_WRITE
                        PERL_DONT_CREATE_GVSV
                        PERL_HASH_FUNC_ONE_AT_A_TIME_HARD PERL_MALLOC_WRAP
                        PERL_PRESERVE_IVUV PERL_USE_DEVEL USE_64_BIT_INT
                        USE_LARGE_FILES USE_LOCALE USE_LOCALE_COLLATE
                        USE_LOCALE_CTYPE USE_LOCALE_NUMERIC USE_LOCALE_TIME
                        USE_PERLIO USE_PERL_ATOF
  Built under linux
  Compiled at Oct  4 2017 03:26:19
  %ENV:
    PERL5LIB="/home/njh/.cpan/build/Spreadsheet-WriteExcel-2.40-1/blib/arch:/home/njh/.cpan/build/Spreadsheet-WriteExcel-2.40-1/blib/lib:/home/njh/.cpan/build/OLE-Storage_Lite-0.19-1/blib/arch:/home/njh/.cpan/build/OLE-Storage_Lite-0.19-1/blib/lib:/home/njh/.cpan/build/Mojolicious-7.75-5/blib/arch:/home/njh/.cpan/build/Mojolicious-7.75-5/blib/lib"
    PERL5OPT=""
    PERL5_CPANPLUS_IS_RUNNING="5653"
    PERL5_CPAN_IS_RUNNING="5653"
    PERLBREW_BASHRC_VERSION="0.80"
    PERLBREW_HOME="/home/njh/.perlbrew"
    PERLBREW_MANPATH="/home/njh/perl5/perlbrew/perls/perl-5.24.3-64int/man"
    PERLBREW_PATH="/home/njh/perl5/perlbrew/bin:/home/njh/perl5/perlbrew/perls/perl-5.24.3-64int/bin"
    PERLBREW_PERL="perl-5.24.3-64int"
    PERLBREW_ROOT="/home/njh/perl5/perlbrew"
    PERLBREW_VERSION="0.80"
  @INC:
    /home/njh/.cpan/build/Spreadsheet-WriteExcel-2.40-1/blib/arch
    /home/njh/.cpan/build/Spreadsheet-WriteExcel-2.40-1/blib/lib
    /home/njh/.cpan/build/OLE-Storage_Lite-0.19-1/blib/arch
    /home/njh/.cpan/build/OLE-Storage_Lite-0.19-1/blib/lib
    /home/njh/.cpan/build/Mojolicious-7.75-5/blib/arch
    /home/njh/.cpan/build/Mojolicious-7.75-5/blib/lib
    /home/njh/perl5/perlbrew/perls/perl-5.24.3-64int/lib/site_perl/5.24.3/armv7l-linux-64int
    /home/njh/perl5/perlbrew/perls/perl-5.24.3-64int/lib/site_perl/5.24.3
    /home/njh/perl5/perlbrew/perls/perl-5.24.3-64int/lib/5.24.3/armv7l-linux-64int
    /home/njh/perl5/perlbrew/perls/perl-5.24.3-64int/lib/5.24.3
    .