App-Dochazka-CLI v0.240 Perl 5 v5.27.5 x86_64-linux
- Status
- Pass
- From
- Slaven Rezić (SREZIC)
- Dist
-
App-Dochazka-CLI v0.240
- Platform
- Perl 5 v5.27.5 x86_64-linux
- Date
- 2017-10-28 15:39:56
- ID
- 3f947bc4-bbf6-11e7-b686-8892b1ea9a90
This distribution has been tested as part of the CPAN Testers
project, supporting the Perl programming language. See
http://wiki.cpantesters.org/ for more information or email
questions to cpan-testers-discuss@perl.org
--
Dear Nathan Cutler,
This is a computer-generated report for App-Dochazka-CLI-0.240
on perl 5.27.5, created by CPAN-Reporter-1.2018.
Thank you for uploading your work to CPAN. Congratulations!
All tests were successful.
Sections of this report:
* Tester comments
* Program output
* Prerequisites
* Environment and other context
------------------------------
TESTER COMMENTS
------------------------------
Additional comments from tester:
none provided
------------------------------
PROGRAM OUTPUT
------------------------------
Output from './Build test':
t/001-init.t ................. skipped: Can't connect to server
t/cmd_active/activity.t ...... skipped: Can't connect to server
t/cmd_active/employee.t ...... skipped: Can't connect to server
t/cmd_active/interval.t ...... skipped: Can't connect to server
t/cmd_admin/activity.t ....... skipped: Can't connect to server
t/cmd_admin/employee-utf8.t .. skipped: Can't connect to server
t/cmd_admin/employee.t ....... skipped: Can't connect to server
t/cmd_admin/history.t ........ skipped: Can't connect to server
t/cmd_inactive/activity.t .... skipped: Can't connect to server
t/cmd_inactive/employee.t .... skipped: Can't connect to server
t/cmd_passerby/activity.t .... skipped: Can't connect to server
t/cmd_passerby/employee.t .... skipped: Can't connect to server
t/cmd_passerby/schedule.t .... skipped: Can't connect to server
t/parser/completion.t ........ ok
t/parser/parse_test.t ........ ok
t/parser/possible_words.t .... ok
t/parser/rest_test.t ......... ok
t/parser/semantic_tree.t ..... ok
t/util/auth.t ................ skipped: Can't connect to server
t/util/datelist.t ............ ok
t/util/determine_employee.t .. skipped: Can't connect to server
t/util/truncate.t ............ ok
t/util/ts.t .................. ok
All tests successful.
Files=23, Tests=1831, 5 wallclock secs ( 0.05 usr 0.16 sys + 4.10 cusr 0.66 csys = 4.97 CPU)
Result: PASS
------------------------------
PREREQUISITES
------------------------------
Prerequisite modules loaded:
requires:
Module Need Have
--------------------- ----- --------
App::CELL 0.209 0.222
App::Dochazka::Common 0.199 0.208
Date::Calc 0 6.4
File::HomeDir 0 1.002
File::ShareDir 1.00 1.104
File::Slurp 0 9999.19
File::Temp 0 0.2304
Getopt::Long 2.32 2.5
HTTP::Cookies 0 6.04
HTTP::Request 0 6.13
JSON 0 2.94
LWP::UserAgent 0 6.27
Params::Validate 1.06 1.29
perl 5.012 5.027005
Term::ReadKey 0 2.37
Term::ReadLine::Gnu 0 1.35
Text::Table 0 1.133
Web::MREST::CLI 0.281 0.283
build_requires:
Module Need Have
--------------------- ----- --------
App::CELL 0.209 0.222
App::Dochazka::Common 0.199 0.208
Date::Calc 0 6.4
Params::Validate 1.06 1.29
Test::Deep 0 1.127
Test::Fatal 0 0.014
Test::Warnings 0 0.026
Web::MREST::CLI 0.28 0.283
configure_requires:
Module Need Have
--------------------- ----- --------
Module::Build 0.37 0.4224
Software::License 0 0.103012
------------------------------
ENVIRONMENT AND OTHER CONTEXT
------------------------------
Environment variables:
LANG = C
LC_ALL = de_DE.UTF-8
PATH = /usr/local/bin:/usr/bin:/bin:/usr/local/sbin:/usr/sbin:/sbin:/home/cpansand/bin/linux-gnu:/home/cpansand/bin/sh:/home/cpansand/bin:/usr/games:/home/cpansand/devel:/home/eserte/src/srezic-misc/scripts
PERL5LIB =
PERL5OPT =
PERL5_CPANPLUS_IS_RUNNING = 30547
PERL5_CPAN_IS_RUNNING = 30547
PERL5_CPAN_IS_RUNNING_IN_RECURSION = 29737,30547
PERLDOC = -MPod::Perldoc::ToTextOverstrike
PERL_BATCH = yes
PERL_CANARY_STABILITY_NOPROMPT = 1
PERL_CPAN_REPORTER_CONFIG = /var/tmp/cpansmoker-1023/2017102809/cpanreporter_000_config.ini
PERL_EXTUTILS_AUTOINSTALL = --defaultdeps
PERL_PARALLEL_SMOKER = yes
PERL_USE_UNSAFE_INC = 1
SHELL = /bin/zsh
TERM = screen
TMPDIR = /var/tmp/cpansmoker-1023/2017102809
Perl special variables (and OS-specific diagnostics, for MSWin32):
$^X = /bbbike/perl-5.27.5/bin/perl5.27.5
$UID/$EUID = 1023 / 1023
$GID = 1023 1023
$EGID = 1023 1023
Perl module toolchain versions installed:
Module Have
------------------- --------
CPAN 2.18
CPAN::Meta 2.150010
Cwd 3.68
ExtUtils::CBuilder 0.280228
ExtUtils::Command 7.30
ExtUtils::Install 2.14
ExtUtils::MakeMaker 7.30
ExtUtils::Manifest 1.70
ExtUtils::ParseXS 3.35
File::Spec 3.68
JSON 2.94
JSON::PP 2.94
Module::Build 0.4224
Module::Signature 0.81
Parse::CPAN::Meta 2.150010
Test::Harness 3.39
Test::More 1.302106
YAML 1.23
YAML::Syck 1.30
version 0.9918
--
Summary of my perl5 (revision 5 version 27 subversion 5) configuration:
Platform:
osname=linux
osvers=3.16.0-4-amd64
archname=x86_64-linux
uname='linux eserte 3.16.0-4-amd64 #1 smp debian 3.16.43-2+deb8u5 (2017-09-19) x86_64 gnulinux '
config_args='-ds -e -Dprefix=/opt/perl-5.27.5 -Dusedevel -Dusemallocwrap=no -Dcf_email=srezic@cpan.org'
hint=recommended
useposix=true
d_sigaction=define
useithreads=undef
usemultiplicity=undef
use64bitint=define
use64bitall=define
uselongdouble=undef
usemymalloc=n
default_inc_excludes_dot=define
bincompat5005=undef
Compiler:
cc='cc'
ccflags ='-fwrapv -fno-strict-aliasing -pipe -fstack-protector-strong -I/usr/local/include -D_LARGEFILE_SOURCE -D_FILE_OFFSET_BITS=64 -D_FORTIFY_SOURCE=2'
optimize='-O2'
cppflags='-fwrapv -fno-strict-aliasing -pipe -fstack-protector-strong -I/usr/local/include'
ccversion=''
gccversion='4.9.2'
gccosandvers=''
intsize=4
longsize=8
ptrsize=8
doublesize=8
byteorder=12345678
doublekind=3
d_longlong=define
longlongsize=8
d_longdbl=define
longdblsize=16
longdblkind=3
ivtype='long'
ivsize=8
nvtype='double'
nvsize=8
Off_t='off_t'
lseeksize=8
alignbytes=8
prototype=define
Linker and Libraries:
ld='cc'
ldflags =' -fstack-protector-strong -L/usr/local/lib'
libpth=/usr/local/lib /usr/lib/gcc/x86_64-linux-gnu/4.9/include-fixed /usr/include/x86_64-linux-gnu /usr/lib /lib/x86_64-linux-gnu /lib/../lib /usr/lib/x86_64-linux-gnu /usr/lib/../lib /lib
libs=-lpthread -lnsl -lgdbm -ldb -ldl -lm -lcrypt -lutil -lc -lgdbm_compat
perllibs=-lpthread -lnsl -ldl -lm -lcrypt -lutil -lc
libc=libc-2.19.so
so=so
useshrplib=false
libperl=libperl.a
gnulibc_version='2.19'
Dynamic Linking:
dlsrc=dl_dlopen.xs
dlext=so
d_dlsymun=undef
ccdlflags='-Wl,-E'
cccdlflags='-fPIC'
lddlflags='-shared -O2 -L/usr/local/lib -fstack-protector-strong'
Characteristics of this binary (from libperl):
Compile-time options:
HAS_TIMES
PERLIO_LAYERS
PERL_COPY_ON_WRITE
PERL_DONT_CREATE_GVSV
PERL_OP_PARENT
PERL_PRESERVE_IVUV
PERL_USE_DEVEL
USE_64_BIT_ALL
USE_64_BIT_INT
USE_LARGE_FILES
USE_LOCALE
USE_LOCALE_COLLATE
USE_LOCALE_CTYPE
USE_LOCALE_NUMERIC
USE_LOCALE_TIME
USE_PERLIO
USE_PERL_ATOF
Built under linux
Compiled at Oct 25 2017 16:04:43
%ENV:
PERL5LIB=""
PERL5OPT=""
PERL5_CPANPLUS_IS_RUNNING="30547"
PERL5_CPAN_IS_RUNNING="30547"
PERL5_CPAN_IS_RUNNING_IN_RECURSION="29737,30547"
PERLDOC="-MPod::Perldoc::ToTextOverstrike"
PERL_BATCH="yes"
PERL_CANARY_STABILITY_NOPROMPT="1"
PERL_CPAN_REPORTER_CONFIG="/var/tmp/cpansmoker-1023/2017102809/cpanreporter_000_config.ini"
PERL_EXTUTILS_AUTOINSTALL="--defaultdeps"
PERL_PARALLEL_SMOKER="yes"
PERL_USE_UNSAFE_INC="1"
@INC:
/opt/perl-5.27.5/lib/site_perl/5.27.5/x86_64-linux
/opt/perl-5.27.5/lib/site_perl/5.27.5
/opt/perl-5.27.5/lib/5.27.5/x86_64-linux
/opt/perl-5.27.5/lib/5.27.5
.