Dist-Zilla-Plugin-Test-EOL v0.19 Perl 5 v5.26.1 x86_64-linux
- Status
- Pass
- From
- Serguei Trouchelle (STRO)
- Dist
-
Dist-Zilla-Plugin-Test-EOL v0.19
- Platform
- Perl 5 v5.26.1 x86_64-linux
- Date
- 2018-01-26 19:43:57
- ID
- 3fa16858-02d1-11e8-b888-4e11c460b27d
This distribution has been tested as part of the CPAN Testers
project, supporting the Perl programming language. See
http://wiki.cpantesters.org/ for more information or email
questions to cpan-testers-discuss@perl.org
--
Dear Karen Etheridge,
This is a computer-generated report for Dist-Zilla-Plugin-Test-EOL-0.19
on perl 5.26.1, created by CPAN-Reporter-1.2018.
Thank you for uploading your work to CPAN. Congratulations!
All tests were successful.
Sections of this report:
* Tester comments
* Program output
* Prerequisites
* Environment and other context
------------------------------
TESTER COMMENTS
------------------------------
Additional comments from tester:
none provided
------------------------------
PROGRAM OUTPUT
------------------------------
Output from '/usr/bin/make test':
PERL_DL_NONLAZY=1 "/home/strushel/perl/5.26.1/bin/perl" "-MExtUtils::Command::MM" "-MTest::Harness" "-e" "undef *Test::Harness::Switches; test_harness(0, 'blib/lib', 'blib/arch')" t/*.t
#
# Versions for all modules listed in MYMETA.json (including optional ones):
#
# === Configure Requires ===
#
# Module Want Have
# ------------------- ----- -----
# Module::Build::Tiny 0.034 0.039
#
# === Build Requires ===
#
# Module Want Have
# ------------------- ---- ----
# ExtUtils::MakeMaker any 7.24
#
# === Test Requires ===
#
# Module Want Have
# ---------------- ----- --------
# File::Spec any 3.67
# File::pushd any 1.014
# FindBin any 1.51
# Module::Metadata any 1.000033
# Test::DZil any 6.010
# Test::Deep any 1.127
# Test::EOL any 2.00
# Test::More 0.88 1.302120
# Test::Warnings 0.009 0.026
# if any 0.0606
#
# === Test Recommends ===
#
# Module Want Have
# ---------- -------- --------
# CPAN::Meta 2.120900 2.150010
#
# === Runtime Requires ===
#
# Module Want Have
# --------------------------------- ----- --------
# Data::Section 0.004 0.200007
# Dist::Zilla::File::InMemory any 6.010
# Dist::Zilla::Role::FileFinderUser any 6.010
# Dist::Zilla::Role::FileGatherer any 6.010
# Dist::Zilla::Role::FileMunger any 6.010
# Dist::Zilla::Role::PrereqSource any 6.010
# Dist::Zilla::Role::TextTemplate any 6.010
# Moose any 2.2009
# Moose::Util::TypeConstraints any 2.2009
# Path::Tiny any 0.104
# Sub::Exporter::ForMethods any 0.100052
# namespace::autoclean any 0.28
# strict any 1.11
# warnings any 1.37
#
# === Other Modules ===
#
# Module Have
# --------------------- --------
# CPAN::Meta::Validator 2.150010
# Pod::Coverage 0.23
#
t/00-report-prereqs.t .. ok
t/01-basic.t ........... ok
t/02-eoltests.t ........ ok
t/03-finder.t .......... ok
t/04-filename.t ........ ok
t/eol.t ................ ok
t/prereqs.t ............ ok
t/zzz-check-breaks.t ... ok
All tests successful.
Files=8, Tests=66, 3 wallclock secs ( 0.03 usr 0.00 sys + 2.95 cusr 0.15 csys = 3.13 CPU)
Result: PASS
------------------------------
PREREQUISITES
------------------------------
Prerequisite modules loaded:
requires:
Module Need Have
--------------------------------- -------- --------
Data::Section 0.004 0.200007
Dist::Zilla::File::InMemory 0 6.010
Dist::Zilla::Role::FileFinderUser 0 6.010
Dist::Zilla::Role::FileGatherer 0 6.010
Dist::Zilla::Role::FileMunger 0 6.010
Dist::Zilla::Role::PrereqSource 0 6.010
Dist::Zilla::Role::TextTemplate 0 6.010
Moose 0 2.2009
Moose::Util::TypeConstraints 0 2.2009
namespace::autoclean 0 0.28
Path::Tiny 0 0.104
perl 5.006 5.026001
strict 0 1.11
Sub::Exporter::ForMethods 0 0.100052
warnings 0 1.37
build_requires:
Module Need Have
--------------------------------- -------- --------
ExtUtils::MakeMaker 0 7.24
File::pushd 0 1.014
File::Spec 0 3.67
FindBin 0 1.51
if 0 0.0606
Module::Metadata 0 1.000033
Test::Deep 0 1.127
Test::DZil 0 6.010
Test::EOL 0 2.00
Test::More 0.88 1.302120
Test::Warnings 0.009 0.026
configure_requires:
Module Need Have
--------------------------------- -------- --------
Module::Build::Tiny 0.034 0.039
perl 5.006 5.026001
opt_build_requires:
Module Need Have
--------------------------------- -------- --------
CPAN::Meta 2.120900 2.150010
------------------------------
ENVIRONMENT AND OTHER CONTEXT
------------------------------
Environment variables:
LANG = en_US.UTF-8
LD_LIBRARY_PATH = /usr/lib64/alliance/lib:/usr/lib64/alliance/lib
NONINTERACTIVE_TESTING = 1
PATH = /home/strushel/perl/5.26.1/bin:/home/strushel/perl5/perlbrew/perls/perl-5.26.1/bin:/usr/lib64/qt-3.3/bin:/usr/local/bin:/bin:/usr/bin:/usr/local/sbin:/usr/sbin:/sbin:/usr/lib64/alliance/bin:/home/strushel/bin:/home/strushel/bin:/usr/lib64/alliance/bin
PERL5LIB =
PERL5OPT =
PERL5_CPANPLUS_IS_RUNNING = 2937
PERL5_CPAN_IS_RUNNING = 2937
PERL_MM_USE_DEFAULT = 1
PERL_USE_UNSAFE_INC = 1
SHELL = /bin/bash
TERM = xterm
Perl special variables (and OS-specific diagnostics, for MSWin32):
$^X = /home/strushel/perl/5.26.1/bin/perl
$UID/$EUID = 500 / 500
$GID = 500 500
$EGID = 500 500
Perl module toolchain versions installed:
Module Have
------------------- ----------
CPAN 2.18
CPAN::Meta 2.150010
Cwd 3.67
ExtUtils::CBuilder 0.280225
ExtUtils::Command 7.24
ExtUtils::Install 2.04
ExtUtils::MakeMaker 7.24
ExtUtils::Manifest 1.70
ExtUtils::ParseXS 3.34
File::Spec 3.67
JSON 2.97001
JSON::PP 2.27400_02
Module::Build 0.4224
Module::Signature n/a
Parse::CPAN::Meta 2.150010
Test::Harness 3.38
Test::More 1.302120
YAML 1.24
YAML::Syck n/a
version 0.9917
--
Summary of my perl5 (revision 5 version 26 subversion 1) configuration:
Platform:
osname=linux
osvers=2.6.32-696.6.3.el6.x86_64
archname=x86_64-linux
uname='linux localhost.localdomain 2.6.32-696.6.3.el6.x86_64 #1 smp wed jul 12 14:17:22 utc 2017 x86_64 x86_64 x86_64 gnulinux '
config_args=''
hint=recommended
useposix=true
d_sigaction=define
useithreads=undef
usemultiplicity=undef
use64bitint=define
use64bitall=define
uselongdouble=undef
usemymalloc=n
default_inc_excludes_dot=define
bincompat5005=undef
Compiler:
cc='cc'
ccflags ='-fwrapv -fno-strict-aliasing -pipe -fstack-protector -I/usr/local/include -D_LARGEFILE_SOURCE -D_FILE_OFFSET_BITS=64 -D_FORTIFY_SOURCE=2'
optimize='-O2'
cppflags='-fwrapv -fno-strict-aliasing -pipe -fstack-protector -I/usr/local/include'
ccversion=''
gccversion='4.4.7 20120313 (Red Hat 4.4.7-11)'
gccosandvers=''
intsize=4
longsize=8
ptrsize=8
doublesize=8
byteorder=12345678
doublekind=3
d_longlong=define
longlongsize=8
d_longdbl=define
longdblsize=16
longdblkind=3
ivtype='long'
ivsize=8
nvtype='double'
nvsize=8
Off_t='off_t'
lseeksize=8
alignbytes=8
prototype=define
Linker and Libraries:
ld='cc'
ldflags =' -fstack-protector -L/usr/local/lib'
libpth=/usr/local/lib /usr/lib /lib/../lib64 /usr/lib/../lib64 /lib /lib64 /usr/lib64 /usr/local/lib64
libs=-lpthread -lnsl -lgdbm -ldb -ldl -lm -lcrypt -lutil -lc
perllibs=-lpthread -lnsl -ldl -lm -lcrypt -lutil -lc
libc=libc-2.12.so
so=so
useshrplib=false
libperl=libperl.a
gnulibc_version='2.12'
Dynamic Linking:
dlsrc=dl_dlopen.xs
dlext=so
d_dlsymun=undef
ccdlflags='-Wl,-E'
cccdlflags='-fPIC'
lddlflags='-shared -O2 -L/usr/local/lib -fstack-protector'
Characteristics of this binary (from libperl):
Compile-time options:
HAS_TIMES
PERLIO_LAYERS
PERL_COPY_ON_WRITE
PERL_DONT_CREATE_GVSV
PERL_MALLOC_WRAP
PERL_OP_PARENT
PERL_PRESERVE_IVUV
USE_64_BIT_ALL
USE_64_BIT_INT
USE_LARGE_FILES
USE_LOCALE
USE_LOCALE_COLLATE
USE_LOCALE_CTYPE
USE_LOCALE_NUMERIC
USE_LOCALE_TIME
USE_PERLIO
USE_PERL_ATOF
Built under linux
Compiled at Jan 25 2018 17:39:41
%ENV:
PERL5LIB=""
PERL5OPT=""
PERL5_CPANPLUS_IS_RUNNING="2937"
PERL5_CPAN_IS_RUNNING="2937"
PERL_MM_USE_DEFAULT="1"
PERL_USE_UNSAFE_INC="1"
@INC:
/home/strushel/perl/5.26.1/lib/site_perl/5.26.1/x86_64-linux
/home/strushel/perl/5.26.1/lib/site_perl/5.26.1
/home/strushel/perl/5.26.1/lib/5.26.1/x86_64-linux
/home/strushel/perl/5.26.1/lib/5.26.1
.