RT-Client-REST v0.55 Perl 5 v5.12.5 x86_64-linux

Status
Pass
From
Slaven Rezić (SREZIC)
Dist
RT-Client-REST v0.55
Platform
Perl 5 v5.12.5 x86_64-linux
Date
2018-12-10 14:02:36
ID
3faab3ce-fc84-11e8-8b0e-81097622d8d4
This distribution has been tested as part of the CPAN Testers
project, supporting the Perl programming language.  See
http://wiki.cpantesters.org/ for more information or email
questions to cpan-testers-discuss@perl.org


--
Dear Dean Hamstead,

This is a computer-generated report for RT-Client-REST-0.55
on perl 5.12.5, created by CPAN-Reporter-1.2018.

Thank you for uploading your work to CPAN.  Congratulations!
All tests were successful.

Sections of this report:

    * Tester comments
    * Program output
    * Prerequisites
    * Environment and other context

------------------------------
TESTER COMMENTS
------------------------------

Additional comments from tester:

none provided

------------------------------
PROGRAM OUTPUT
------------------------------

Output from './Build test':

t/00-compile.t ................. ok
# 
# Versions for all modules listed in MYMETA.json (including optional ones):
# 
# === Configure Requires ===
# 
#     Module              Want   Have
#     ------------------- ---- ------
#     ExtUtils::MakeMaker  any   7.34
#     Module::Build       0.28 0.4224
# 
# === Build Requires ===
# 
#     Module                                 Want     Have
#     -------------------------------------- ---- --------
#     HTTP::Server::Simple                   0.44     0.51
#     HTTP::Server::Simple::CGI               any    undef
#     HTTP::Server::Simple::CGI::Environment  any    undef
#     Module::Build                          0.28   0.4224
#     Test::Exception                         any     0.43
#     Test::More                              any 1.302136
# 
# === Test Requires ===
# 
#     Module              Want     Have
#     ------------------- ---- --------
#     ExtUtils::MakeMaker  any     7.34
#     File::Spec           any     3.74
#     IO::Handle           any     1.39
#     IPC::Open3           any     1.05
#     Test::More           any 1.302136
# 
# === Test Recommends ===
# 
#     Module         Want     Have
#     ---------- -------- --------
#     CPAN::Meta 2.120900 2.150010
# 
# === Runtime Requires ===
# 
#     Module                      Want    Have
#     --------------------------- ---- -------
#     DateTime                     any    1.49
#     DateTime::Format::DateParse  any    0.05
#     Encode                       any    2.98
#     Error                        any 0.17025
#     Exception::Class             any    1.44
#     Exporter                     any    5.72
#     HTTP::Cookies                any    6.04
#     HTTP::Request::Common        any    6.18
#     LWP                          any    6.36
#     Params::Validate             any    1.28
#     URI                          any    1.74
#     base                         any    2.23
#     constant                     any    1.33
#     strict                       any    1.04
#     vars                         any    1.01
#     warnings                     any    1.09
# 
t/00-report-prereqs.t .......... ok
t/01-use.t ..................... ok
t/10-core.t .................... ok
t/11-server-name.t ............. ok
t/20-object.t .................. ok
t/21-user.t .................... ok
t/22-ticket.t .................. ok
t/23-attachment.t .............. ok
t/24-transaction.t ............. ok
t/25-queue.t ................... ok
t/26-group.t ................... ok
t/35-db.t ...................... ok
t/40-search.t .................. ok
t/50-forms.t ................... ok
t/60-with-rt.t ................. skipped: these tests are for release candidate testing
t/80-timeout.t ................. ok
t/81-submit.t .................. ok
t/82-stringify.t ............... ok
t/83-attachments.t ............. ok
t/84-attachments-rt127607.t .... ok
t/85-attachments-rt127607.t .... ok
t/author-critic.t .............. skipped: these tests are for testing by the author
t/author-eof.t ................. skipped: these tests are for testing by the author
t/author-eol.t ................. skipped: these tests are for testing by the author
t/author-no-breakpoints.t ...... skipped: these tests are for testing by the author
t/author-no-tabs.t ............. skipped: these tests are for testing by the author
t/author-pod-coverage.t ........ skipped: these tests are for testing by the author
t/author-pod-spell.t ........... skipped: these tests are for testing by the author
t/author-pod-syntax.t .......... skipped: these tests are for testing by the author
t/author-portability.t ......... skipped: these tests are for testing by the author
t/release-distmeta.t ........... skipped: these tests are for release candidate testing
t/release-kwalitee.t ........... skipped: these tests are for release candidate testing
t/release-pause-permissions.t .. skipped: these tests are for release candidate testing
t/release-unused-vars.t ........ skipped: these tests are for release candidate testing
All tests successful.
Files=35, Tests=372, 83 wallclock secs ( 0.15 usr  0.61 sys + 14.24 cusr  3.10 csys = 18.10 CPU)
Result: PASS

------------------------------
PREREQUISITES
------------------------------

Prerequisite modules loaded:

requires:

    Module                                 Need  Have    
    -------------------------------------- ----- --------
    base                                   0     2.23    
    constant                               0     1.33    
    DateTime                               0     1.49    
    DateTime::Format::DateParse            0     0.05    
    Encode                                 0     2.98    
    Error                                  0     0.17025 
    Exception::Class                       0     1.44    
    Exporter                               0     5.72    
    HTTP::Cookies                          0     6.04    
    HTTP::Request::Common                  0     6.18    
    LWP                                    0     6.36    
    Params::Validate                       0     1.28    
    perl                                   5.004 5.012005
    strict                                 0     1.04    
    URI                                    0     1.74    
    vars                                   0     1.01    
    warnings                               0     1.09    

build_requires:

    Module                                 Need  Have    
    -------------------------------------- ----- --------
    ExtUtils::MakeMaker                    0     7.34    
    File::Spec                             0     3.74    
    HTTP::Server::Simple                   0.44  0.51    
    HTTP::Server::Simple::CGI              0     0       
    HTTP::Server::Simple::CGI::Environment 0     0       
    IO::Handle                             0     1.39    
    IPC::Open3                             0     1.05    
    Module::Build                          0.28  0.4224  
    Test::Exception                        0     0.43    
    Test::More                             0     1.302136

configure_requires:

    Module                                 Need  Have    
    -------------------------------------- ----- --------
    ExtUtils::MakeMaker                    0     7.34    
    Module::Build                          0.28  0.4224  


------------------------------
ENVIRONMENT AND OTHER CONTEXT
------------------------------

Environment variables:

    LANG = C
    LC_ALL = de_DE.UTF-8
    PATH = /usr/local/bin:/usr/bin:/bin:/usr/local/sbin:/usr/sbin:/sbin:/home/cpansand/bin/linux-gnu:/home/cpansand/bin/sh:/home/cpansand/bin:/usr/games:/home/cpansand/devel:/home/eserte/src/srezic-misc/scripts
    PERL5LIB = 
    PERL5OPT = 
    PERL5_CPANPLUS_IS_RUNNING = 23891
    PERL5_CPAN_IS_RUNNING = 23891
    PERL5_CPAN_IS_RUNNING_IN_RECURSION = 4882,23891
    PERLDOC = -MPod::Perldoc::ToTextOverstrike
    PERL_BATCH = yes
    PERL_CANARY_STABILITY_NOPROMPT = 1
    PERL_CPAN_REPORTER_CONFIG = /var/tmp/cpansmoker-1023/2018121013/cpanreporter_000_config.ini
    PERL_EXTUTILS_AUTOINSTALL = --defaultdeps
    PERL_PARALLEL_SMOKER = yes
    PERL_USE_UNSAFE_INC = 1
    SHELL = /bin/zsh
    TERM = screen
    TMPDIR = /var/tmp/cpansmoker-1023/2018121013

Perl special variables (and OS-specific diagnostics, for MSWin32):

    $^X = /bbbike/perl-5.12.5/bin/perl
    $UID/$EUID = 1023 / 1023
    $GID = 1023 1023
    $EGID = 1023 1023

Perl module toolchain versions installed:

    Module              Have    
    ------------------- --------
    CPAN                2.16    
    CPAN::Meta          2.150010
    Cwd                 3.74    
    ExtUtils::CBuilder  0.280230
    ExtUtils::Command   7.34    
    ExtUtils::Install   2.14    
    ExtUtils::MakeMaker 7.34    
    ExtUtils::Manifest  1.71    
    ExtUtils::ParseXS   3.30    
    File::Spec          3.74    
    JSON                4.00    
    JSON::PP            2.97001 
    Module::Build       0.4224  
    Module::Signature   0.81    
    Parse::CPAN::Meta   2.150010
    Test::Harness       3.42    
    Test::More          1.302136
    YAML                1.27    
    YAML::Syck          1.30    
    version             0.9918  


--

Summary of my perl5 (revision 5 version 12 subversion 5) configuration:
   
  Platform:
    osname=linux, osvers=3.16.0-4-amd64, archname=x86_64-linux
    uname='linux eserte 3.16.0-4-amd64 #1 smp debian 3.16.7-ckt25-2 (2016-04-08) x86_64 gnulinux '
    config_args='-ds -e -Dprefix=/opt/perl-5.12.5 -Dcf_email=srezic@cpan.org'
    hint=recommended, useposix=true, d_sigaction=define
    useithreads=undef, usemultiplicity=undef
    useperlio=define, d_sfio=undef, uselargefiles=define, usesocks=undef
    use64bitint=define, use64bitall=define, uselongdouble=undef
    usemymalloc=n, bincompat5005=undef
  Compiler:
    cc='cc', ccflags ='-fno-strict-aliasing -pipe -fstack-protector -I/usr/local/include -D_LARGEFILE_SOURCE -D_FILE_OFFSET_BITS=64',
    optimize='-O2',
    cppflags='-fno-strict-aliasing -pipe -fstack-protector -I/usr/local/include'
    ccversion='', gccversion='4.9.2', gccosandvers=''
    intsize=4, longsize=8, ptrsize=8, doublesize=8, byteorder=12345678
    d_longlong=define, longlongsize=8, d_longdbl=define, longdblsize=16
    ivtype='long', ivsize=8, nvtype='double', nvsize=8, Off_t='off_t', lseeksize=8
    alignbytes=8, prototype=define
  Linker and Libraries:
    ld='cc', ldflags =' -fstack-protector -L/usr/local/lib'
    libpth=/usr/local/lib /lib/x86_64-linux-gnu /lib/../lib /usr/lib/x86_64-linux-gnu /usr/lib/../lib /lib /usr/lib
    libs=-lnsl -lgdbm -ldb -ldl -lm -lcrypt -lutil -lc -lgdbm_compat
    perllibs=-lnsl -ldl -lm -lcrypt -lutil -lc
    libc=libc-2.19.so, so=so, useshrplib=false, libperl=libperl.a
    gnulibc_version='2.19'
  Dynamic Linking:
    dlsrc=dl_dlopen.xs, dlext=so, d_dlsymun=undef, ccdlflags='-Wl,-E'
    cccdlflags='-fPIC', lddlflags='-shared -O2 -L/usr/local/lib -fstack-protector'


Characteristics of this binary (from libperl): 
  Compile-time options: PERL_DONT_CREATE_GVSV PERL_MALLOC_WRAP USE_64_BIT_ALL
                        USE_64_BIT_INT USE_LARGE_FILES USE_PERLIO
                        USE_PERL_ATOF
  Locally applied patches:
	Devel::PatchPerl 1.42
  Built under linux
  Compiled at May  7 2016 10:05:30
  %ENV:
    PERL5LIB=""
    PERL5OPT=""
    PERL5_CPANPLUS_IS_RUNNING="23891"
    PERL5_CPAN_IS_RUNNING="23891"
    PERL5_CPAN_IS_RUNNING_IN_RECURSION="4882,23891"
    PERLDOC="-MPod::Perldoc::ToTextOverstrike"
    PERL_BATCH="yes"
    PERL_CANARY_STABILITY_NOPROMPT="1"
    PERL_CPAN_REPORTER_CONFIG="/var/tmp/cpansmoker-1023/2018121013/cpanreporter_000_config.ini"
    PERL_EXTUTILS_AUTOINSTALL="--defaultdeps"
    PERL_PARALLEL_SMOKER="yes"
    PERL_USE_UNSAFE_INC="1"
  @INC:
    /opt/perl-5.12.5/lib/site_perl/5.12.5/x86_64-linux
    /opt/perl-5.12.5/lib/site_perl/5.12.5
    /opt/perl-5.12.5/lib/5.12.5/x86_64-linux
    /opt/perl-5.12.5/lib/5.12.5
    .