Report for CGI-Application-Plugin-Authentication-0.20

Back
From: metabase:user:9820532a-708b-1014-9a05-b18a96298da1
Subject: PASS CGI-Application-Plugin-Authentication-0.20 v5.12.4 FreeBSD
Date: 2011-09-09T22:29:57Z

This distribution has been tested as part of the CPAN Testers
project, supporting the Perl programming language.  See
http://wiki.cpantesters.org/ for more information or email
questions to cpan-testers-discuss@perl.org


--
Dear Nicholas Bamber,

This is a computer-generated report for CGI-Application-Plugin-Authentication-0.20
on perl 5.12.4, created by CPAN-Reporter-1.2002.

Thank you for uploading your work to CPAN.  Congratulations!
All tests were successful.

Sections of this report:

    * Tester comments
    * Program output
    * Prerequisites
    * Environment and other context

------------------------------
TESTER COMMENTS
------------------------------

Additional comments from tester:

this report is from an automated smoke testing program
and was not reviewed by a human for accuracy

------------------------------
PROGRAM OUTPUT
------------------------------

Output from './Build test':

t/01_basic.t ........................ ok
t/02_config.t ....................... ok
t/03_authenticate.t ................. ok
authen config warning:  parameter POST_LOGIN_URL ignored since we already have POST_LOGIN_RUNMODE at t/03_destination.t line 43
t/03_destination.t .................. ok
# Color::Calc required for this sub test
# Color::Calc required for this sub test
# Color::Calc required for this sub test
# Color::Calc required for this sub test
t/03_login_box.t .................... ok
t/03_login_box_basic.t .............. ok
# Color::Calc required
t/03_login_box_other.t .............. skipped: Color::Calc required
t/03_missing_color.t ................ ok
t/04_attributes.t ................... ok
t/05_autorunmode.t .................. skipped: CGI::Application::Plugin::AutoRunmode required for this test
# The following tests have some small time delays
t/06_timeout.t ...................... ok
t/07_protected_runmodes.t ........... ok
Use of uninitialized value within @_ in lc at /usr/home/test/.cpan/build/CGI-Application-Plugin-Authentication-0.20-kH7d_8/blib/lib/CGI/Application/Plugin/Authentication/Driver/Filter/crypt.pm line 18.
Use of uninitialized value within @_ in lc at /usr/home/test/.cpan/build/CGI-Application-Plugin-Authentication-0.20-kH7d_8/blib/lib/CGI/Application/Plugin/Authentication/Driver/Filter/crypt.pm line 18.
Use of uninitialized value within @_ in lc at /usr/home/test/.cpan/build/CGI-Application-Plugin-Authentication-0.20-kH7d_8/blib/lib/CGI/Application/Plugin/Authentication/Driver/Filter/crypt.pm line 18.
t/40_encoder_crypt.t ................ ok
t/40_encoder_lc.t ................... ok
Use of uninitialized value within @_ in lc at /usr/home/test/.cpan/build/CGI-Application-Plugin-Authentication-0.20-kH7d_8/blib/lib/CGI/Application/Plugin/Authentication/Driver/Filter/md5.pm line 28.
Use of uninitialized value within @_ in lc at /usr/home/test/.cpan/build/CGI-Application-Plugin-Authentication-0.20-kH7d_8/blib/lib/CGI/Application/Plugin/Authentication/Driver/Filter/md5.pm line 28.
Use of uninitialized value within @_ in lc at /usr/home/test/.cpan/build/CGI-Application-Plugin-Authentication-0.20-kH7d_8/blib/lib/CGI/Application/Plugin/Authentication/Driver/Filter/md5.pm line 28.
t/40_encoder_md5.t .................. ok
Use of uninitialized value within @_ in lc at /usr/home/test/.cpan/build/CGI-Application-Plugin-Authentication-0.20-kH7d_8/blib/lib/CGI/Application/Plugin/Authentication/Driver/Filter/sha1.pm line 28.
Use of uninitialized value within @_ in lc at /usr/home/test/.cpan/build/CGI-Application-Plugin-Authentication-0.20-kH7d_8/blib/lib/CGI/Application/Plugin/Authentication/Driver/Filter/sha1.pm line 28.
Use of uninitialized value within @_ in lc at /usr/home/test/.cpan/build/CGI-Application-Plugin-Authentication-0.20-kH7d_8/blib/lib/CGI/Application/Plugin/Authentication/Driver/Filter/sha1.pm line 28.
t/40_encoder_sha1.t ................. ok
t/40_encoder_strip.t ................ ok
t/40_encoder_uc.t ................... ok
Use of uninitialized value within @_ in lc at /usr/home/test/.cpan/build/CGI-Application-Plugin-Authentication-0.20-kH7d_8/blib/lib/CGI/Application/Plugin/Authentication/Driver/Filter/md5.pm line 28.
Use of uninitialized value within @_ in lc at /usr/home/test/.cpan/build/CGI-Application-Plugin-Authentication-0.20-kH7d_8/blib/lib/CGI/Application/Plugin/Authentication/Driver/Filter/sha1.pm line 28.
t/50_driver_missing_modules.t ....... ok
t/50_driver_undefined.t ............. ok
t/51_driver_dummy.t ................. ok
t/52_driver_generic.t ............... ok
Use of uninitialized value within @_ in lc at /usr/home/test/.cpan/build/CGI-Application-Plugin-Authentication-0.20-kH7d_8/blib/lib/CGI/Application/Plugin/Authentication/Driver/Filter/crypt.pm line 18.
Use of uninitialized value within @_ in lc at /usr/home/test/.cpan/build/CGI-Application-Plugin-Authentication-0.20-kH7d_8/blib/lib/CGI/Application/Plugin/Authentication/Driver/Filter/crypt.pm line 18.
Use of uninitialized value within @_ in lc at /usr/home/test/.cpan/build/CGI-Application-Plugin-Authentication-0.20-kH7d_8/blib/lib/CGI/Application/Plugin/Authentication/Driver/Filter/md5.pm line 28.
Use of uninitialized value within @_ in lc at /usr/home/test/.cpan/build/CGI-Application-Plugin-Authentication-0.20-kH7d_8/blib/lib/CGI/Application/Plugin/Authentication/Driver/Filter/crypt.pm line 18.
Use of uninitialized value within @_ in lc at /usr/home/test/.cpan/build/CGI-Application-Plugin-Authentication-0.20-kH7d_8/blib/lib/CGI/Application/Plugin/Authentication/Driver/Filter/md5.pm line 28.
Use of uninitialized value within @_ in lc at /usr/home/test/.cpan/build/CGI-Application-Plugin-Authentication-0.20-kH7d_8/blib/lib/CGI/Application/Plugin/Authentication/Driver/Filter/md5.pm line 28.
Use of uninitialized value within @_ in lc at /usr/home/test/.cpan/build/CGI-Application-Plugin-Authentication-0.20-kH7d_8/blib/lib/CGI/Application/Plugin/Authentication/Driver/Filter/crypt.pm line 18.
Use of uninitialized value within @_ in lc at /usr/home/test/.cpan/build/CGI-Application-Plugin-Authentication-0.20-kH7d_8/blib/lib/CGI/Application/Plugin/Authentication/Driver/Filter/crypt.pm line 18.
t/53_driver_dbi.t ................... ok
t/53_driver_dbi_bad.t ............... ok
t/53_driver_dbi_die.t ............... ok
t/53_driver_dbi_syntax.t ............ ok
t/54_driver_htpasswd.t .............. skipped: Apache::Htpasswd >= 1.8 required for this test
t/55_driver_authensimple.t .......... ok
t/55_driver_authensimple_die.t ...... ok
t/55_driver_missing_authensimple.t .. ok
t/60_parsimony.t .................... ok
t/60_store.t ........................ ok
t/60_store_cookie.t ................. ok
t/60_store_session.t ................ ok
t/61_cookie_badargs.t ............... ok
t/61_store_cookie_noexpiry.t ........ ok
t/61_store_cookie_other.t ........... ok
t/70_action_dispatch.t .............. skipped: CGI::Application::Plugin::ActionDispatch required
t/80_devpopup.t ..................... ok
t/98_pod.t .......................... skipped: Author test.  Set $ENV{TEST_AUTHOR} to a true value to run.
t/99_pod_coverage.t ................. skipped: Author test.  Set $ENV{TEST_AUTHOR} to a true value to run.
t/changes.t ......................... skipped: Author test.  Set $ENV{TEST_AUTHOR} to a true value to run.
t/manifest.t ........................ skipped: Author test.  Set $ENV{TEST_AUTHOR} to a true value to run.
t/podspell.t ........................ skipped: Author test.  Set $ENV{TEST_AUTHOR} to a true value to run.
t/prereq.t .......................... skipped: Author test.  Set $ENV{TEST_PREREQ} to a true value to run.
All tests successful.
Files=45, Tests=530, 12 wallclock secs ( 0.52 usr  1.05 sys +  3.42 cusr  1.76 csys =  6.75 CPU)
Result: PASS

------------------------------
PREREQUISITES
------------------------------

Prerequisite modules loaded:

requires:

    Module                Need  Have      
    --------------------- ----- ----------
    Attribute::Handlers   0     0.91      
    CGI                   3.16  3.55      
    CGI::Application      4     4.50      
    Class::ISA            0     0.36      
    Digest::SHA           0     5.62      
    MIME::Base64          0     3.13      
    perl                  5.006 5.012004  
    Scalar::Util          0     1.23      
    UNIVERSAL::require    0     0.13      

build_requires:

    Module                Need  Have      
    --------------------- ----- ----------
    Readonly              0     1.03      
    Test::Exception       0     0.31      
    Test::MockObject      0     1.20110612
    Test::More            0.93  0.98      
    Test::NoWarnings      0     1.03      
    Test::Regression      0     0.06      
    Test::Taint           0     1.04      
    Test::Warn            0.11  0.23      
    Test::Without::Module 0     0.17      

configure_requires:

    Module                Need  Have      
    --------------------- ----- ----------
    Module::Build         0.38  0.3800    


------------------------------
ENVIRONMENT AND OTHER CONTEXT
------------------------------

Environment variables:

    AUTOMATED_TESTING = 1
    LANG = C
    LC_ALL = C
    PATH = /home/test/perl5/perlbrew/bin:/home/test/perl5/perlbrew/perls/perl-5.12.4/bin:~/bin:/sbin:/bin:/usr/sbin:/usr/bin:/usr/games:/usr/local/sbin:/usr/local/bin:/home/test/bin
    PATH_WITHOUT_PERLBREW = ~/bin:/sbin:/bin:/usr/sbin:/usr/bin:/usr/games:/usr/local/sbin:/usr/local/bin:/home/test/bin
    PERL5LIB = 
    PERL5OPT = 
    PERL5_CPANPLUS_IS_RUNNING = 43741
    PERL5_CPAN_IS_RUNNING = 43741
    PERL5_CPAN_IS_RUNNING_IN_RECURSION = 13897,43741
    PERLBREW_HOME = /home/test/.perlbrew
    PERLBREW_PATH = /home/test/perl5/perlbrew/bin:/home/test/perl5/perlbrew/perls/perl-5.12.4/bin
    PERLBREW_PERL = perl-5.12.4
    PERLBREW_ROOT = /home/test/perl5/perlbrew
    PERLBREW_VERSION = 0.28
    PERL_CPANM_OPT = --prompt --mirror http://172.16.1.3/cpan/
    PERL_CR_SMOKER_CURRENT = CGI-Application-Plugin-Authentication-Driver-CDBI-0.03
    PERL_EXTUTILS_AUTOINSTALL = --defaultdeps
    PERL_MM_USE_DEFAULT = 1
    SHELL = /usr/local/bin/bash
    TERM = linux

Perl special variables (and OS-specific diagnostics, for MSWin32):

    $^X = /home/test/perl5/perlbrew/perls/perl-5.12.4/bin/perl
    $UID/$EUID = 1002 / 1002
    $GID = 1002 1002
    $EGID = 1002 1002

Perl module toolchain versions installed:

    Module              Have    
    ------------------- --------
    CPAN                1.9800  
    CPAN::Meta          2.112150
    Cwd                 3.33    
    ExtUtils::CBuilder  0.280202
    ExtUtils::Command   1.17    
    ExtUtils::Install   1.55    
    ExtUtils::MakeMaker 6.59    
    ExtUtils::Manifest  1.60    
    ExtUtils::ParseXS   3.04    
    File::Spec          3.33    
    JSON                2.53    
    JSON::PP            2.27200 
    Module::Build       0.3800  
    Module::Signature   n/a     
    Parse::CPAN::Meta   1.4401  
    Test::Harness       3.23    
    Test::More          0.98    
    YAML                0.73    
    YAML::Syck          1.17    
    version             0.94    


--

Summary of my perl5 (revision 5 version 12 subversion 4) configuration:
   
  Platform:
    osname=freebsd, osvers=8.1-release, archname=amd64-freebsd
    uname='freebsd fbsd.local 8.1-release freebsd 8.1-release #0: mon jul 19 02:36:49 utc 2010 root@mason.cse.buffalo.edu:usrobjusrsrcsysgeneric amd64 '
    config_args='-de -Dprefix=/home/test/perl5/perlbrew/perls/perl-5.12.4'
    hint=recommended, useposix=true, d_sigaction=define
    useithreads=undef, usemultiplicity=undef
    useperlio=define, d_sfio=undef, uselargefiles=define, usesocks=undef
    use64bitint=define, use64bitall=define, uselongdouble=undef
    usemymalloc=n, bincompat5005=undef
  Compiler:
    cc='cc', ccflags ='-DHAS_FPSETMASK -DHAS_FLOATINGPOINT_H -fno-strict-aliasing -pipe -fstack-protector -I/usr/local/include',
    optimize='-O',
    cppflags='-DHAS_FPSETMASK -DHAS_FLOATINGPOINT_H -fno-strict-aliasing -pipe -fstack-protector -I/usr/local/include'
    ccversion='', gccversion='4.2.1 20070719  [FreeBSD]', gccosandvers=''
    intsize=4, longsize=8, ptrsize=8, doublesize=8, byteorder=12345678
    d_longlong=define, longlongsize=8, d_longdbl=define, longdblsize=16
    ivtype='long', ivsize=8, nvtype='double', nvsize=8, Off_t='off_t', lseeksize=8
    alignbytes=8, prototype=define
  Linker and Libraries:
    ld='cc', ldflags ='-Wl,-E  -fstack-protector -L/usr/local/lib'
    libpth=/usr/lib /usr/local/lib
    libs=-lm -lcrypt -lutil -lc
    perllibs=-lm -lcrypt -lutil -lc
    libc=, so=so, useshrplib=false, libperl=libperl.a
    gnulibc_version=''
  Dynamic Linking:
    dlsrc=dl_dlopen.xs, dlext=so, d_dlsymun=undef, ccdlflags=' '
    cccdlflags='-DPIC -fPIC', lddlflags='-shared  -L/usr/local/lib -fstack-protector'


Characteristics of this binary (from libperl): 
  Compile-time options: PERL_DONT_CREATE_GVSV PERL_MALLOC_WRAP USE_64_BIT_ALL
                        USE_64_BIT_INT USE_LARGE_FILES USE_PERLIO
                        USE_PERL_ATOF
  Built under freebsd
  Compiled at Sep  8 2011 15:32:22
  %ENV:
    PERL5LIB=""
    PERL5OPT=""
    PERL5_CPANPLUS_IS_RUNNING="43741"
    PERL5_CPAN_IS_RUNNING="43741"
    PERL5_CPAN_IS_RUNNING_IN_RECURSION="13897,43741"
    PERLBREW_HOME="/home/test/.perlbrew"
    PERLBREW_PATH="/home/test/perl5/perlbrew/bin:/home/test/perl5/perlbrew/perls/perl-5.12.4/bin"
    PERLBREW_PERL="perl-5.12.4"
    PERLBREW_ROOT="/home/test/perl5/perlbrew"
    PERLBREW_VERSION="0.28"
    PERL_CPANM_OPT="--prompt --mirror http://172.16.1.3/cpan/"
    PERL_CR_SMOKER_CURRENT="CGI-Application-Plugin-Authentication-Driver-CDBI-0.03"
    PERL_EXTUTILS_AUTOINSTALL="--defaultdeps"
    PERL_MM_USE_DEFAULT="1"
  @INC:
    /home/test/perl5/perlbrew/perls/perl-5.12.4/lib/site_perl/5.12.4/amd64-freebsd
    /home/test/perl5/perlbrew/perls/perl-5.12.4/lib/site_perl/5.12.4
    /home/test/perl5/perlbrew/perls/perl-5.12.4/lib/5.12.4/amd64-freebsd
    /home/test/perl5/perlbrew/perls/perl-5.12.4/lib/5.12.4
    .