Dist-Zilla-Plugin-CopyFilesFromRelease v0.007 Perl 5 v5.26.2 x86_64-linux-thread-multi

Status
Pass
From
David Cantrell (DCANTRELL)
Dist
Dist-Zilla-Plugin-CopyFilesFromRelease v0.007
Platform
Perl 5 v5.26.2 x86_64-linux-thread-multi
Date
2020-08-15 16:34:54
ID
3fb8bd64-df15-11ea-b8f8-cee1a1724e2f
This distribution has been tested as part of the CPAN Testers
project, supporting the Perl programming language.  See
http://wiki.cpantesters.org/ for more information or email
questions to cpan-testers-discuss@perl.org


--
Dear Karen Etheridge,

This is a computer-generated report for Dist-Zilla-Plugin-CopyFilesFromRelease-0.007
on perl 5.26.2, created by CPAN-Reporter-1.2018.

Thank you for uploading your work to CPAN.  Congratulations!
All tests were successful.

Sections of this report:

    * Tester comments
    * Program output
    * Prerequisites
    * Environment and other context

------------------------------
TESTER COMMENTS
------------------------------

Additional comments from tester:

this report is from an automated smoke testing program
and was not reviewed by a human for accuracy

------------------------------
PROGRAM OUTPUT
------------------------------

Output from './Build test':

# 
# Versions for all modules listed in MYMETA.json (including optional ones):
# 
# === Configure Requires ===
# 
#     Module               Want  Have
#     ------------------- ----- -----
#     ExtUtils::MakeMaker   any  7.24
#     Module::Build::Tiny 0.034 0.039
# 
# === Test Requires ===
# 
#     Module           Want     Have
#     ---------------- ---- --------
#     File::Spec        any     3.67
#     Module::Metadata  any 1.000033
#     Test::DZil        any    6.015
#     Test::Deep        any    1.130
#     Test::Fatal       any    0.014
#     Test::More       0.88 1.302177
#     if                any   0.0606
# 
# === Test Recommends ===
# 
#     Module         Want     Have
#     ---------- -------- --------
#     CPAN::Meta 2.120900 2.150010
# 
# === Runtime Requires ===
# 
#     Module                           Want   Have
#     ------------------------------- ----- ------
#     Dist::Zilla::Role::AfterRelease   any  6.015
#     Moose                             any 2.2013
#     Path::Tiny                      0.070  0.108
#     namespace::autoclean              any   0.29
#     strict                            any   1.11
#     warnings                          any   1.37
# 
# === Other Modules ===
# 
#     Module          Have
#     --------- ----------
#     JSON::PP  2.27400_02
#     Sub::Name       0.26
#     YAML            1.30
#     autodie         2.29
# 
t/00-report-prereqs.t .. ok
t/01-basic.t ........... ok
t/zzz-check-breaks.t ... ok
All tests successful.
Files=3, Tests=9, 13 wallclock secs ( 0.02 usr  0.01 sys +  2.06 cusr  0.09 csys =  2.18 CPU)
Result: PASS

------------------------------
PREREQUISITES
------------------------------

Prerequisite modules loaded:

requires:

    Module                          Need  Have    
    ------------------------------- ----- --------
    Dist::Zilla::Role::AfterRelease 0     6.015   
    Moose                           0     2.2013  
    namespace::autoclean            0     0.29    
    Path::Tiny                      0.070 0.108   
    perl                            5.006 5.026002
    strict                          0     1.11    
    warnings                        0     1.37    

build_requires:

    Module                          Need  Have    
    ------------------------------- ----- --------
    File::Spec                      0     3.67    
    if                              0     0.0606  
    Module::Metadata                0     1.000033
    perl                            5.006 5.026002
    Test::Deep                      0     1.130   
    Test::DZil                      0     6.015   
    Test::Fatal                     0     0.014   
    Test::More                      0.88  1.302177

configure_requires:

    Module                          Need  Have    
    ------------------------------- ----- --------
    ExtUtils::MakeMaker             0     7.24    
    Module::Build::Tiny             0.034 0.039   
    perl                            5.006 5.026002


------------------------------
ENVIRONMENT AND OTHER CONTEXT
------------------------------

Environment variables:

    AUTOMATED_TESTING = 1
    LANG = en_US.UTF-8
    NONINTERACTIVE_TESTING = 1
    PATH = /usr/local/bin:/usr/bin:/bin:/usr/local/games:/usr/games
    PERL = 5.26.2
    PERL5LIB = 
    PERL5OPT = 
    PERL5_CPANPLUS_IS_RUNNING = 31722
    PERL5_CPAN_IS_RUNNING = 31722
    PERLVER = 5.26.2
    PERL_INLINE_DIRECTORY = /home/david/.Inline-5.26.2
    PERL_MM_USE_DEFAULT = 1
    PERL_USE_UNSAFE_INC = 0
    SHELL = /bin/bash
    TERM = screen

Perl special variables (and OS-specific diagnostics, for MSWin32):

    $^X = /home/david/cpantesting/perl-5.26.2/bin/perl
    $UID/$EUID = 1000 / 1000
    $GID = 1000 27 1000
    $EGID = 1000 27 1000

Perl module toolchain versions installed:

    Module              Have      
    ------------------- ----------
    CPAN                2.18      
    CPAN::Meta          2.150010  
    Cwd                 3.67      
    ExtUtils::CBuilder  0.280225  
    ExtUtils::Command   7.24      
    ExtUtils::Install   2.04      
    ExtUtils::MakeMaker 7.24      
    ExtUtils::Manifest  1.70      
    ExtUtils::ParseXS   3.34      
    File::Spec          3.67      
    JSON                4.02      
    JSON::PP            2.27400_02
    Module::Build       0.4231    
    Module::Signature   n/a       
    Parse::CPAN::Meta   2.150010  
    Test::Harness       3.38      
    Test::More          1.302177  
    YAML                1.30      
    YAML::Syck          n/a       
    version             0.9917    


--

Summary of my perl5 (revision 5 version 26 subversion 2) configuration:
   
  Platform:
    osname=linux
    osvers=4.9.0-8-amd64
    archname=x86_64-linux-thread-multi
    uname='linux pigsty 4.9.0-8-amd64 #1 smp debian 4.9.144-3 (2019-02-02) x86_64 gnulinux '
    config_args='-de -Duse64bitall -Dusethreads -Dprefix=/home/david/cpantesting/perl-5.26.2'
    hint=recommended
    useposix=true
    d_sigaction=define
    useithreads=define
    usemultiplicity=define
    use64bitint=define
    use64bitall=define
    uselongdouble=undef
    usemymalloc=n
    default_inc_excludes_dot=define
    bincompat5005=undef
  Compiler:
    cc='cc'
    ccflags ='-D_REENTRANT -D_GNU_SOURCE -fwrapv -fno-strict-aliasing -pipe -fstack-protector-strong -I/usr/local/include -D_LARGEFILE_SOURCE -D_FILE_OFFSET_BITS=64 -D_FORTIFY_SOURCE=2'
    optimize='-O2'
    cppflags='-D_REENTRANT -D_GNU_SOURCE -fwrapv -fno-strict-aliasing -pipe -fstack-protector-strong -I/usr/local/include'
    ccversion=''
    gccversion='6.3.0 20170516'
    gccosandvers=''
    intsize=4
    longsize=8
    ptrsize=8
    doublesize=8
    byteorder=12345678
    doublekind=3
    d_longlong=define
    longlongsize=8
    d_longdbl=define
    longdblsize=16
    longdblkind=3
    ivtype='long'
    ivsize=8
    nvtype='double'
    nvsize=8
    Off_t='off_t'
    lseeksize=8
    alignbytes=8
    prototype=define
  Linker and Libraries:
    ld='cc'
    ldflags =' -fstack-protector-strong -L/usr/local/lib'
    libpth=/usr/local/lib /usr/lib/gcc/x86_64-linux-gnu/6/include-fixed /usr/include/x86_64-linux-gnu /usr/lib /lib/x86_64-linux-gnu /lib/../lib /usr/lib/x86_64-linux-gnu /usr/lib/../lib /lib
    libs=-lpthread -lnsl -ldb -ldl -lm -lcrypt -lutil -lc
    perllibs=-lpthread -lnsl -ldl -lm -lcrypt -lutil -lc
    libc=libc-2.24.so
    so=so
    useshrplib=false
    libperl=libperl.a
    gnulibc_version='2.24'
  Dynamic Linking:
    dlsrc=dl_dlopen.xs
    dlext=so
    d_dlsymun=undef
    ccdlflags='-Wl,-E'
    cccdlflags='-fPIC'
    lddlflags='-shared -O2 -L/usr/local/lib -fstack-protector-strong'


Characteristics of this binary (from libperl): 
  Compile-time options:
    HAS_TIMES
    MULTIPLICITY
    PERLIO_LAYERS
    PERL_COPY_ON_WRITE
    PERL_DONT_CREATE_GVSV
    PERL_IMPLICIT_CONTEXT
    PERL_MALLOC_WRAP
    PERL_OP_PARENT
    PERL_PRESERVE_IVUV
    USE_64_BIT_ALL
    USE_64_BIT_INT
    USE_ITHREADS
    USE_LARGE_FILES
    USE_LOCALE
    USE_LOCALE_COLLATE
    USE_LOCALE_CTYPE
    USE_LOCALE_NUMERIC
    USE_LOCALE_TIME
    USE_PERLIO
    USE_PERL_ATOF
    USE_REENTRANT_API
  Built under linux
  Compiled at Apr 25 2019 01:36:50
  %ENV:
    PERL="5.26.2"
    PERL5LIB=""
    PERL5OPT=""
    PERL5_CPANPLUS_IS_RUNNING="31722"
    PERL5_CPAN_IS_RUNNING="31722"
    PERLVER="5.26.2"
    PERL_INLINE_DIRECTORY="/home/david/.Inline-5.26.2"
    PERL_MM_USE_DEFAULT="1"
    PERL_USE_UNSAFE_INC="0"
  @INC:
    /home/david/cpantesting/perl-5.26.2/lib/site_perl/5.26.2/x86_64-linux-thread-multi
    /home/david/cpantesting/perl-5.26.2/lib/site_perl/5.26.2
    /home/david/cpantesting/perl-5.26.2/lib/5.26.2/x86_64-linux-thread-multi
    /home/david/cpantesting/perl-5.26.2/lib/5.26.2