Back
From: metabase:user:fcf99560-6bf4-1014-86b3-1cf189224fdf
Subject: PASS Rose-HTMLx-Form-Field-PopUpMenuNumeric-0.001 v5.14.4
Date: 2013-09-25T08:16:40Z
This distribution has been tested as part of the CPAN Testers
project, supporting the Perl programming language. See
http://wiki.cpantesters.org/ for more information or email
questions to cpan-testers-discuss@perl.org
--
Dear Peter Karman,
This is a computer-generated report for Rose-HTMLx-Form-Field-PopUpMenuNumeric-0.001
on perl 5.14.4, created by CPAN-Reporter-1.2010.
Thank you for uploading your work to CPAN. Congratulations!
All tests were successful.
Sections of this report:
* Tester comments
* Program output
* Prerequisites
* Environment and other context
------------------------------
TESTER COMMENTS
------------------------------
Additional comments from tester:
this report is from an automated smoke testing program
and was not reviewed by a human for accuracy
------------------------------
PROGRAM OUTPUT
------------------------------
Output from 'C:\sp5-14-4-32b\c\bin\dmake.exe test':
C:\sp5-14-4-32b\perl\bin\perl.exe "-MExtUtils::Command::MM" "-e" "test_harness(0, 'blib\lib', 'blib\arch')" t/*.t
# Testing Rose::HTMLx::Form::Field::PopUpMenuNumeric 0.001
t/00-load.t ....... ok
t/pod-coverage.t .. ok
t/pod.t ........... ok
All tests successful.
Files=3, Tests=3, 2 wallclock secs ( 0.11 usr + 0.01 sys = 0.12 CPU)
Result: PASS
------------------------------
PREREQUISITES
------------------------------
Prerequisite modules loaded:
requires:
Module Need Have
------------------- ---- -------
Rose::HTML::Objects 0 0.619
Test::More 0 0.98
build_requires:
Module Need Have
------------------- ---- -------
ExtUtils::MakeMaker 0 6.67_04
------------------------------
ENVIRONMENT AND OTHER CONTEXT
------------------------------
Environment variables:
AUTOMATED_TESTING = 1
COMSPEC = C:\windows\system32\cmd.exe
NUMBER_OF_PROCESSORS = 4
PATH = C:\sp5-14-4-32b\perl\site\bin;C:\sp5-14-4-32b\perl\bin;C:\sp5-14-4-32b\c\bin;C:\windows\system32;C:\windows;C:\windows\System32\Wbem;C:\windows\System32\WindowsPowerShell\v1.0\;
PERL5LIB = C:\sp5-14-4-32b\cpan\build\Rose-HTMLx-Form-Field-Serial-0.002-eFjrtl/blib/arch;C:\sp5-14-4-32b\cpan\build\Rose-HTMLx-Form-Field-Serial-0.002-eFjrtl/blib/lib;C:\sp5-14-4-32b\cpan\build\Rose-HTML-Objects-0.619-tkYX5L/blib/arch;C:\sp5-14-4-32b\cpan\build\Rose-HTML-Objects-0.619-tkYX5L/blib/lib;C:\sp5-14-4-32b\cpan\build\Rose-URI-1.00-_MIEJP/blib/arch;C:\sp5-14-4-32b\cpan\build\Rose-URI-1.00-_MIEJP/blib/lib
PERL5OPT =
PERL5_CPANPLUS_IS_RUNNING = 14960
PERL5_CPAN_IS_RUNNING = 14960
PERL5_CPAN_IS_RUNNING_IN_RECURSION = 3392,14960
PERL_CR_SMOKER_CURRENT = Rose-HTMLx-Form-Related-0.23
PERL_EXTUTILS_AUTOINSTALL = --defaultdeps
PERL_MM_USE_DEFAULT = 1
PROCESSOR_IDENTIFIER = Intel64 Family 6 Model 42 Stepping 7, GenuineIntel
TEMP = C:\Users\training\AppData\Local\Temp
TERM = dumb
Perl special variables (and OS-specific diagnostics, for MSWin32):
$^X = C:\sp5-14-4-32b\perl\bin\perl.exe
$UID/$EUID = 0 / 0
$GID = 0
$EGID = 0
Win32::GetOSName = Win7
Win32::GetOSVersion = Service Pack 1, 6, 1, 7601, 2, 1, 0, 768, 1
Win32::FsType = NTFS
Win32::IsAdminUser = 0
Perl module toolchain versions installed:
Module Have
------------------- --------
CPAN 1.9800
CPAN::Meta 2.131560
Cwd 3.40
ExtUtils::CBuilder 0.280205
ExtUtils::Command 1.17
ExtUtils::Install 1.56
ExtUtils::MakeMaker 6.67_04
ExtUtils::Manifest 1.61
ExtUtils::ParseXS 3.18
File::Spec 3.40
JSON 2.59
JSON::PP 2.27200
Module::Build 0.4005
Module::Signature 0.73
Parse::CPAN::Meta 1.4404
Test::Harness 3.26
Test::More 0.98
YAML 0.84
YAML::Syck 1.24
version 0.9902
--
Summary of my perl5 (revision 5 version 14 subversion 4) configuration:
Platform:
osname=MSWin32, osvers=4.0, archname=MSWin32-x86-multi-thread
uname='Win32 strawberry-perl 5.14.4.1 #1 Mon Mar 11 19:56:31 2013 i386'
config_args='undef'
hint=recommended, useposix=true, d_sigaction=undef
useithreads=define, usemultiplicity=define
useperlio=define, d_sfio=undef, uselargefiles=define, usesocks=undef
use64bitint=undef, use64bitall=undef, uselongdouble=undef
usemymalloc=n, bincompat5005=undef
Compiler:
cc='gcc', ccflags =' -s -O2 -DWIN32 -DPERL_TEXTMODE_SCRIPTS -DPERL_IMPLICIT_CONTEXT -DPERL_IMPLICIT_SYS -fno-strict-aliasing -mms-bitfields',
optimize='-s -O2',
cppflags='-DWIN32'
ccversion='', gccversion='4.6.3', gccosandvers=''
intsize=4, longsize=4, ptrsize=4, doublesize=8, byteorder=1234
d_longlong=undef, longlongsize=8, d_longdbl=define, longdblsize=12
ivtype='long', ivsize=4, nvtype='double', nvsize=8, Off_t='long long', lseeksize=8
alignbytes=8, prototype=define
Linker and Libraries:
ld='g++.exe', ldflags ='-s -L"C:\sp5-14-4-32b\perl\lib\CORE" -L"C:\sp5-14-4-32b\c\lib"'
libpth=C:\sp5-14-4-32b\c\lib C:\sp5-14-4-32b\c\i686-w64-mingw32\lib
libs=-lmoldname -lkernel32 -luser32 -lgdi32 -lwinspool -lcomdlg32 -ladvapi32 -lshell32 -lole32 -loleaut32 -lnetapi32 -luuid -lws2_32 -lmpr -lwinmm -lversion -lodbc32 -lodbccp32 -lcomctl32
perllibs=-lmoldname -lkernel32 -luser32 -lgdi32 -lwinspool -lcomdlg32 -ladvapi32 -lshell32 -lole32 -loleaut32 -lnetapi32 -luuid -lws2_32 -lmpr -lwinmm -lversion -lodbc32 -lodbccp32 -lcomctl32
libc=, so=dll, useshrplib=true, libperl=libperl514.a
gnulibc_version=''
Dynamic Linking:
dlsrc=dl_win32.xs, dlext=dll, d_dlsymun=undef, ccdlflags=' '
cccdlflags=' ', lddlflags='-mdll -s -L"C:\sp5-14-4-32b\perl\lib\CORE" -L"C:\sp5-14-4-32b\c\lib"'
Characteristics of this binary (from libperl):
Compile-time options: MULTIPLICITY PERL_DONT_CREATE_GVSV
PERL_IMPLICIT_CONTEXT PERL_IMPLICIT_SYS
PERL_MALLOC_WRAP PERL_PRESERVE_IVUV PL_OP_SLAB_ALLOC
USE_ITHREADS USE_LARGE_FILES USE_PERLIO
USE_PERL_ATOF
Built under MSWin32
Compiled at Mar 11 2013 20:02:09
%ENV:
PERL5LIB="C:\sp5-14-4-32b\cpan\build\Rose-HTMLx-Form-Field-Serial-0.002-eFjrtl/blib/arch;C:\sp5-14-4-32b\cpan\build\Rose-HTMLx-Form-Field-Serial-0.002-eFjrtl/blib/lib;C:\sp5-14-4-32b\cpan\build\Rose-HTML-Objects-0.619-tkYX5L/blib/arch;C:\sp5-14-4-32b\cpan\build\Rose-HTML-Objects-0.619-tkYX5L/blib/lib;C:\sp5-14-4-32b\cpan\build\Rose-URI-1.00-_MIEJP/blib/arch;C:\sp5-14-4-32b\cpan\build\Rose-URI-1.00-_MIEJP/blib/lib"
PERL5_CPANPLUS_IS_RUNNING="14960"
PERL5_CPAN_IS_RUNNING="14960"
PERL5_CPAN_IS_RUNNING_IN_RECURSION="3392,14960"
PERL_CR_SMOKER_CURRENT="Rose-HTMLx-Form-Related-0.23"
PERL_EXTUTILS_AUTOINSTALL="--defaultdeps"
PERL_MM_USE_DEFAULT="1"
@INC:
C:\sp5-14-4-32b\cpan\build\Rose-HTMLx-Form-Field-Serial-0.002-eFjrtl/blib/arch
C:\sp5-14-4-32b\cpan\build\Rose-HTMLx-Form-Field-Serial-0.002-eFjrtl/blib/lib
C:\sp5-14-4-32b\cpan\build\Rose-HTML-Objects-0.619-tkYX5L/blib/arch
C:\sp5-14-4-32b\cpan\build\Rose-HTML-Objects-0.619-tkYX5L/blib/lib
C:\sp5-14-4-32b\cpan\build\Rose-URI-1.00-_MIEJP/blib/arch
C:\sp5-14-4-32b\cpan\build\Rose-URI-1.00-_MIEJP/blib/lib
C:/sp5-14-4-32b/perl/site/lib/MSWin32-x86-multi-thread
C:/sp5-14-4-32b/perl/site/lib
C:/sp5-14-4-32b/perl/vendor/lib
C:/sp5-14-4-32b/perl/lib
.