MooseX-MethodAttributes v0.32 Perl 5 v5.8.9 x86_64-linux-thread-multi

Status
Pass
From
David Cantrell (DCANTRELL)
Dist
MooseX-MethodAttributes v0.32
Platform
Perl 5 v5.8.9 x86_64-linux-thread-multi
Date
2020-09-01 21:58:20
ID
3fd6e0aa-ec9e-11ea-a3f7-a573a1724e2f
This distribution has been tested as part of the CPAN Testers
project, supporting the Perl programming language.  See
http://wiki.cpantesters.org/ for more information or email
questions to cpan-testers-discuss@perl.org


--
Dear Karen Etheridge,

This is a computer-generated report for MooseX-MethodAttributes-0.32
on perl 5.8.9, created by CPAN-Reporter-1.2018.

Thank you for uploading your work to CPAN.  Congratulations!
All tests were successful.

Sections of this report:

    * Tester comments
    * Program output
    * Prerequisites
    * Environment and other context

------------------------------
TESTER COMMENTS
------------------------------

Additional comments from tester:

this report is from an automated smoke testing program
and was not reviewed by a human for accuracy

------------------------------
PROGRAM OUTPUT
------------------------------

Output from '/usr/bin/make test':

PERL_DL_NONLAZY=1 "/home/david/cpantesting/perl-5.8.9/bin/perl" "-MExtUtils::Command::MM" "-MTest::Harness" "-e" "undef *Test::Harness::Switches; test_harness(0, 'blib/lib', 'blib/arch')" t/*.t
# 
# Versions for all modules listed in MYMETA.json (including optional ones):
# 
# === Configure Requires ===
# 
#     Module              Want Have
#     ------------------- ---- ----
#     ExtUtils::MakeMaker  any 7.34
# 
# === Build Requires ===
# 
#     Module              Want Have
#     ------------------- ---- ----
#     ExtUtils::MakeMaker  any 7.34
# 
# === Test Requires ===
# 
#     Module                      Want     Have
#     --------------------------- ---- --------
#     ExtUtils::MakeMaker          any     7.34
#     File::Spec                   any     3.75
#     Moose::Meta::Class           any   2.2013
#     MooseX::Role::Parameterized  any     1.11
#     Test::Fatal                  any    0.014
#     Test::More                  0.88 1.302162
#     Test::Needs                  any 0.002006
#     base                         any     2.13
#     lib                          any     0.61
#     strict                       any     1.03
#     warnings                     any  1.05_01
# 
# === Test Recommends ===
# 
#     Module         Want     Have
#     ---------- -------- --------
#     CPAN::Meta 2.120900 2.143240
# 
# === Runtime Requires ===
# 
#     Module                  Want   Have
#     --------------------- ------ ------
#     Carp                     any   1.50
#     Moose                 2.1602 2.2013
#     Moose::Exporter          any 2.2013
#     Moose::Role              any 2.2013
#     Moose::Util              any 2.2013
#     Moose::Util::MetaRole    any 2.2013
#     namespace::autoclean    0.08   0.29
# 
# === Other Modules ===
# 
#     Module               Have
#     ----------------- -------
#     Catalyst::Runtime missing
#     Encode               2.26
#     File::Temp         0.2309
#     JSON::PP             4.02
#     Module::Runtime     0.016
#     Pod::Coverage     missing
#     Sub::Name            0.26
#     YAML              missing
#     autodie           missing
# 
t/00-report-prereqs.t .................. ok
t/basic.t .............................. ok
t/calling.t ............................ ok
t/catalyst.t ........................... ok
t/catalyst_role.t ...................... ok
t/catalyst_role_method_exclusion.t ..... ok
t/catalyst_role_preexist_methods.t ..... ok
t/inherited.t .......................... ok
t/inherited_non_moose_multilevel.t ..... ok
t/late_reinitialize.t .................. ok
t/multiple_roles.t ..................... ok
t/multiple_roles_astrait.t ............. ok
t/override_method_with_no_attribute.t .. ok
t/param_role.t ......................... ok
t/role.t ............................... ok
t/role_applied.t ....................... ok
t/role_comp.t .......................... ok
t/role_in_role.t ....................... ok
t/role_in_role_more.t .................. ok
t/role_method_conflict_detection.t ..... ok
t/role_with_anon_class.t ............... ok
t/zzz-check-breaks.t ................... ok
All tests successful.

Test Summary Report
-------------------
t/late_reinitialize.t                (Wstat: 0 Tests: 10 Failed: 0)
  TODO passed:   1-10
Files=22, Tests=144, 33 wallclock secs ( 0.09 usr  0.03 sys +  7.52 cusr  0.49 csys =  8.13 CPU)
Result: PASS

------------------------------
PREREQUISITES
------------------------------

Prerequisite modules loaded:

requires:

    Module                      Need   Have    
    --------------------------- ------ --------
    Carp                        0      1.50    
    Moose                       2.1602 2.2013  
    Moose::Exporter             0      2.2013  
    Moose::Role                 0      2.2013  
    Moose::Util                 0      2.2013  
    Moose::Util::MetaRole       0      2.2013  
    namespace::autoclean        0.08   0.29    
    perl                        5.006  5.008009

build_requires:

    Module                      Need   Have    
    --------------------------- ------ --------
    base                        0      2.13    
    ExtUtils::MakeMaker         0      7.34    
    File::Spec                  0      3.75    
    lib                         0      0.61    
    Moose::Meta::Class          0      2.2013  
    MooseX::Role::Parameterized 0      1.11    
    strict                      0      1.03    
    Test::Fatal                 0      0.014   
    Test::More                  0.88   1.302162
    Test::Needs                 0      0.002006
    warnings                    0      1.05_01 

configure_requires:

    Module                      Need   Have    
    --------------------------- ------ --------
    ExtUtils::MakeMaker         0      7.34    
    perl                        5.006  5.008009


------------------------------
ENVIRONMENT AND OTHER CONTEXT
------------------------------

Environment variables:

    AUTOMATED_TESTING = 1
    LANG = en_US.UTF-8
    NONINTERACTIVE_TESTING = 1
    PATH = /usr/local/bin:/usr/bin:/bin:/usr/local/games:/usr/games
    PERL = 5.8.9
    PERL5LIB = 
    PERL5OPT = 
    PERL5_CPANPLUS_IS_RUNNING = 3521
    PERL5_CPAN_IS_RUNNING = 3521
    PERLVER = 5.8.9
    PERL_INLINE_DIRECTORY = /home/david/.Inline-5.8.9
    PERL_MM_USE_DEFAULT = 1
    PERL_USE_UNSAFE_INC = 0
    SHELL = /bin/bash
    TERM = screen

Perl special variables (and OS-specific diagnostics, for MSWin32):

    $^X = /home/david/cpantesting/perl-5.8.9/bin/perl
    $UID/$EUID = 1000 / 1000
    $GID = 1000 27 1000
    $EGID = 1000 27 1000

Perl module toolchain versions installed:

    Module              Have    
    ------------------- --------
    CPAN                2.26    
    CPAN::Meta          2.143240
    Cwd                 3.75    
    ExtUtils::CBuilder  0.280234
    ExtUtils::Command   7.34    
    ExtUtils::Install   2.06    
    ExtUtils::MakeMaker 7.34    
    ExtUtils::Manifest  1.70    
    ExtUtils::ParseXS   3.35    
    File::Spec          3.75    
    JSON                n/a     
    JSON::PP            4.02    
    Module::Build       0.4231  
    Module::Signature   n/a     
    Parse::CPAN::Meta   1.4414  
    Test::Harness       3.42    
    Test::More          1.302162
    YAML                n/a     
    YAML::Syck          n/a     
    version             0.9924  


--

Summary of my perl5 (revision 5 version 8 subversion 9) configuration:
  Platform:
    osname=linux, osvers=4.9.0-8-amd64, archname=x86_64-linux-thread-multi
    uname='linux pigsty 4.9.0-8-amd64 #1 smp debian 4.9.144-3 (2019-02-02) x86_64 gnulinux '
    config_args='-de -Duse64bitall -Dusethreads -Dprefix=/home/david/cpantesting/perl-5.8.9 -A ccflags=-fwrapv'
    hint=previous, useposix=true, d_sigaction=define
    usethreads=define use5005threads=undef useithreads=define usemultiplicity=define
    useperlio=define d_sfio=undef uselargefiles=define usesocks=undef
    use64bitint=define use64bitall=define uselongdouble=undef
    usemymalloc=n, bincompat5005=undef
  Compiler:
    cc='cc', ccflags ='-D_REENTRANT -D_GNU_SOURCE -fwrapv -fno-strict-aliasing -pipe -I/usr/local/include -D_LARGEFILE_SOURCE -D_FILE_OFFSET_BITS=64 -fwrapv',
    optimize='-O2',
    cppflags='-D_REENTRANT -D_GNU_SOURCE -fwrapv -fno-strict-aliasing -pipe -I/usr/local/include -D_REENTRANT -D_GNU_SOURCE -fwrapv -fno-strict-aliasing -pipe -I/usr/local/include -D_LARGEFILE_SOURCE -D_FILE_OFFSET_BITS=64 -fwrapv'
    ccversion='', gccversion='6.3.0 20170516', gccosandvers=''
    intsize=4, longsize=8, ptrsize=8, doublesize=8, byteorder=12345678
    d_longlong=define, longlongsize=8, d_longdbl=define, longdblsize=16
    ivtype='long', ivsize=8, nvtype='double', nvsize=8, Off_t='off_t', lseeksize=8
    alignbytes=8, prototype=define
  Linker and Libraries:
    ld='cc', ldflags =' -L/usr/local/lib'
    libpth=/usr/local/lib /lib/x86_64-linux-gnu /lib/../lib /usr/lib/x86_64-linux-gnu /usr/lib/../lib /lib /usr/lib
    libs=-lnsl -ldb -ldl -lm -lcrypt -lutil -lpthread -lc
    perllibs=-lnsl -ldl -lm -lcrypt -lutil -lpthread -lc
    libc=libc-2.24.so, so=so, useshrplib=false, libperl=libperl.a
    gnulibc_version='2.24'
  Dynamic Linking:
    dlsrc=dl_dlopen.xs, dlext=so, d_dlsymun=undef, ccdlflags='-Wl,-E'
    cccdlflags='-fPIC', lddlflags='-shared -O2 -L/usr/local/lib'


Characteristics of this binary (from libperl): 
  Compile-time options: MULTIPLICITY PERL_IMPLICIT_CONTEXT PERL_MALLOC_WRAP
                        USE_64_BIT_ALL USE_64_BIT_INT USE_FAST_STDIO
                        USE_ITHREADS USE_LARGE_FILES USE_PERLIO
                        USE_REENTRANT_API
  Locally applied patches:
	Devel::PatchPerl 1.56
  Built under linux
  Compiled at Apr 25 2019 16:01:13
  %ENV:
    PERL="5.8.9"
    PERL5LIB=""
    PERL5OPT=""
    PERL5_CPANPLUS_IS_RUNNING="3521"
    PERL5_CPAN_IS_RUNNING="3521"
    PERLVER="5.8.9"
    PERL_INLINE_DIRECTORY="/home/david/.Inline-5.8.9"
    PERL_MM_USE_DEFAULT="1"
    PERL_USE_UNSAFE_INC="0"
  @INC:
    /home/david/cpantesting/perl-5.8.9/lib/5.8.9/x86_64-linux-thread-multi
    /home/david/cpantesting/perl-5.8.9/lib/5.8.9
    /home/david/cpantesting/perl-5.8.9/lib/site_perl/5.8.9/x86_64-linux-thread-multi
    /home/david/cpantesting/perl-5.8.9/lib/site_perl/5.8.9
    .