LWP-Protocol-Coro-http vv1.8.0 Perl 5 v5.22.2 x86_64-linux-ld

Status
Pass
From
Andreas J. König (ANDK)
Dist
LWP-Protocol-Coro-http vv1.8.0
Platform
Perl 5 v5.22.2 x86_64-linux-ld
Date
2017-11-27 06:36:07
ID
3fd7f404-d33d-11e7-a044-710b3e3a84c9
This distribution has been tested as part of the CPAN Testers
project, supporting the Perl programming language.  See
http://wiki.cpantesters.org/ for more information or email
questions to cpan-testers-discuss@perl.org


--
Dear ikegami,

This is a computer-generated report for LWP-Protocol-Coro-http-v1.8.0
on perl 5.22.2, created by CPAN-Reporter-1.2018.

Thank you for uploading your work to CPAN.  Congratulations!
All tests were successful.

Sections of this report:

    * Tester comments
    * Program output
    * Prerequisites
    * Environment and other context

------------------------------
TESTER COMMENTS
------------------------------

Additional comments from tester:

this report is from an automated smoke testing program
and was not reviewed by a human for accuracy

------------------------------
PROGRAM OUTPUT
------------------------------

Output from './Build test':

# Testing LWP::Protocol::Coro::http v1.8.0, Perl 5.022002
# AnyEvent 7.14
# AnyEvent::HTTP 2.23
# AnyEvent::Handle 7.14
# AnyEvent::Util 7.14
# AutoLoader 5.74
# Carp 1.38
# Config 5.022002
# Coro 6.514
# Coro::Channel 6.514
# Coro::Semaphore 6.514
# Coro::State 6.514
# DynaLoader 1.32
# Errno 1.23
# Exporter 5.72
# Exporter::Heavy 5.72
# Fcntl 1.13
# Guard 1.023
# HTTP::Headers 6.13
# HTTP::Message 6.13
# HTTP::Response 6.13
# HTTP::Status 6.13
# IO 1.35
# IO::Handle 1.35
# IO::Socket 1.38
# IO::Socket::INET 1.35
# IO::Socket::IP 0.37
# IO::Socket::UNIX 1.26
# LWP::MemberMixin 6.28
# LWP::Protocol 6.27
# LWP::Protocol::Coro::http v1.8.0
# LWP::Protocol::http 6.28
# List::Util 1.49
# Log::Agent 1.003
# Log::Agent::Formatting <unknown>
# Log::Agent::Message <unknown>
# Log::Agent::Priorities <unknown>
# Net::HTTP 6.17
# Net::HTTP::Methods 6.17
# POSIX 1.53_01
# PerlIO 1.09
# Scalar::Util 1.49
# SelectSaver 1.02
# Socket 2.018
# Storable 3.0514
# Sub::Util 1.49
# Symbol 1.07
# Test::Builder 1.302115
# Test::Builder::Formatter 1.302115
# Test::Builder::Module 1.302115
# Test::Builder::TodoDiag 1.302115
# Test::More 1.302115
# Test2::API 1.302115
# Test2::API::Context 1.302115
# Test2::API::Instance 1.302115
# Test2::API::Stack 1.302115
# Test2::Event 1.302115
# Test2::Event::Bail 1.302115
# Test2::Event::Diag 1.302115
# Test2::Event::Exception 1.302115
# Test2::Event::Fail 1.302115
# Test2::Event::Note 1.302115
# Test2::Event::Ok 1.302115
# Test2::Event::Pass 1.302115
# Test2::Event::Plan 1.302115
# Test2::Event::Skip 1.302115
# Test2::Event::Subtest 1.302115
# Test2::Event::Waiting 1.302115
# Test2::EventFacet 1.302115
# Test2::EventFacet::About 1.302115
# Test2::EventFacet::Amnesty 1.302115
# Test2::EventFacet::Assert 1.302115
# Test2::EventFacet::Control 1.302115
# Test2::EventFacet::Error 1.302115
# Test2::EventFacet::Info 1.302115
# Test2::EventFacet::Meta 1.302115
# Test2::EventFacet::Parent 1.302115
# Test2::EventFacet::Plan 1.302115
# Test2::EventFacet::Trace 1.302115
# Test2::Formatter 1.302115
# Test2::Formatter::TAP 1.302115
# Test2::Hub 1.302115
# Test2::Hub::Interceptor 1.302115
# Test2::Hub::Interceptor::Terminator 1.302115
# Test2::Hub::Subtest 1.302115
# Test2::Util 1.302115
# Test2::Util::ExternalMeta 1.302115
# Test2::Util::HashBase 1.302115
# Test2::Util::Trace 1.302115
# Tie::Hash 1.05
# Try::Tiny 0.28
# URI 1.72
# URI::Escape 3.31
# XSLoader 0.24
# base 2.22
# common::sense 3.74
# constant 1.33
# mro 1.17
# overload 1.26
# overloading 0.02
# strict 1.09
# vars 1.03
# version 0.9918
# version::regex 0.9918
# version::vxs 0.9918
# warnings 1.34
# warnings::register 1.04
t/00_load.t .................. ok
# Retrieving URL: http://localhost:38891/
# Waiting for reply
# Waiting for reply
# Waiting for reply
# Waiting for reply
# Shutting down server
# Done
t/01_timer.t ................. ok
# Retrieving URL: http://localhost:54619/chunks
# Waiting for reply
# Got chunk
# Waiting for reply
# Got chunk
# Waiting for reply
# Got chunk
# Waiting for reply
# Got chunk
# Waiting for reply
# Got chunk
# Waiting for reply
# Shutting down server
# Done
t/02_large.t ................. ok
# Retrieving URL: http://localhost:44821/error/after_headers
# Waiting for reply
# Got chunk
# Waiting for reply
# Got chunk
# Waiting for reply
# Shutting down server
# Done
t/03_error_after_headers.t ... ok
# Retrieving URL: http://localhost:55909/error/notfound/foo
# Waiting for reply
# Shutting down server
# Done
t/04_error_404.t ............. ok
# Retrieving URL: http://doesnotexist.example
t/05_error_500_bogus_host.t .. ok
# Retrieving URL: http://localhost:39393/referer
# Waiting for reply
# Shutting down server
# Done
t/06_referer.t ............... ok
# Retrieving URL: http://localhost:56267/
# Shutting down server
# Done
t/07_proxy.t ................. ok
# Retrieving URL: http://localhost:54193/multiline_header
# Waiting for reply
# Shutting down server
# Done
t/08_multiline_header.t ...... ok
All tests successful.
Files=9, Tests=28, 37 wallclock secs ( 0.03 usr  0.08 sys +  2.21 cusr  0.57 csys =  2.89 CPU)
Result: PASS

------------------------------
PREREQUISITES
------------------------------

Prerequisite modules loaded:

requires:

    Module                     Need   Have    
    -------------------------- ------ --------
    AnyEvent::HTTP             2      2.23    
    Coro::Channel              0      6.514   
    HTTP::Response             0      6.13    
    LWP::Protocol              0      6.27    
    LWP::Protocol::http        0      6.28    
    LWP::Simple                5.827  6.27    
    version                    0      0.9918  

build_requires:

    Module                     Need   Have    
    -------------------------- ------ --------
    AnyEvent                   0      7.14    
    Carp                       0      1.38    
    CGI                        0      4.36    
    File::Spec                 0      3.62    
    File::Temp                 0      0.2304  
    FindBin                    0      1.51    
    Getopt::Long               0      2.5     
    HTTP::Daemon               0      6.01    
    LWP::Simple                0      6.27    
    Test::More                 0      1.302115
    URI                        0      1.72    
    URI::URL                   0      5.04    

configure_requires:

    Module                     Need   Have    
    -------------------------- ------ --------
    Module::Build              0.3614 0.4224  
    Software::License::CC0_1_0 0      0.103012


------------------------------
ENVIRONMENT AND OTHER CONTEXT
------------------------------

Environment variables:

    AUTOMATED_TESTING = 1
    LANG = en_US.UTF-8
    PATH = /home/sand/bin:/usr/local/bin:/usr/bin:/bin:/usr/games:/usr/local/perl/bin:/usr/X11/bin:/sbin:/usr/sbin
    PERL5LIB = 
    PERL5OPT = 
    PERL5_CPANPLUS_IS_RUNNING = 27844
    PERL5_CPAN_IS_RUNNING = 27844
    PERL5_CPAN_IS_RUNNING_IN_RECURSION = 1978,27844
    PERL_CANARY_STABILITY_NOPROMPT = 1
    PERL_MM_USE_DEFAULT = 1
    PERL_USE_UNSAFE_INC = 1
    SHELL = /usr/bin/zsh
    TERM = screen

Perl special variables (and OS-specific diagnostics, for MSWin32):

    $^X = /home/sand/src/perl/repoperls/installed-perls/host/k93msid/v5.22.2/0a29/bin/perl
    $UID/$EUID = 1005 / 1005
    $GID = 1005 1005
    $EGID = 1005 1005

Perl module toolchain versions installed:

    Module              Have    
    ------------------- --------
    CPAN                2.18    
    CPAN::Meta          2.150010
    Cwd                 3.62    
    ExtUtils::CBuilder  0.280226
    ExtUtils::Command   7.30    
    ExtUtils::Install   2.06    
    ExtUtils::MakeMaker 7.30    
    ExtUtils::Manifest  1.70    
    ExtUtils::ParseXS   3.35    
    File::Spec          3.62    
    JSON                2.94    
    JSON::PP            2.96    
    Module::Build       0.4224  
    Module::Signature   0.81    
    Parse::CPAN::Meta   2.150010
    Test::Harness       3.39    
    Test::More          1.302115
    YAML                1.23    
    YAML::Syck          1.30    
    version             0.9918  


--

Summary of my perl5 (revision 5 version 22 subversion 2) configuration:
  Derived from: 9cbffb38735712e3a34e6f537892b6ef06fb815f
  Platform:
    osname=linux, osvers=4.12.0-2-amd64, archname=x86_64-linux-ld
    uname='linux k93msid 4.12.0-2-amd64 #1 smp debian 4.12.13-1 (2017-09-19) x86_64 gnulinux '
    config_args='-Dprefix=/home/sand/src/perl/repoperls/installed-perls/host/k93msid/v5.22.2/0a29 -Dmyhostname=k93msid -Dinstallusrbinperl=n -Uversiononly -Dusedevel -des -Ui_db -Dlibswanted=cl pthread socket inet nsl gdbm dbm malloc dl ld sun m crypt sec util c cposix posix ucb BSD gdbm_compat -Uuseithreads -Duselongdouble -DDEBUGGING=both'
    hint=recommended, useposix=true, d_sigaction=define
    useithreads=undef, usemultiplicity=undef
    use64bitint=define, use64bitall=define, uselongdouble=define
    usemymalloc=n, bincompat5005=undef
  Compiler:
    cc='cc', ccflags ='-fwrapv -DDEBUGGING -fno-strict-aliasing -pipe -fstack-protector-strong -I/usr/local/include -D_LARGEFILE_SOURCE -D_FILE_OFFSET_BITS=64',
    optimize='-O2 -g',
    cppflags='-fwrapv -DDEBUGGING -fno-strict-aliasing -pipe -fstack-protector-strong -I/usr/local/include'
    ccversion='', gccversion='7.2.0', gccosandvers=''
    intsize=4, longsize=8, ptrsize=8, doublesize=8, byteorder=12345678, doublekind=3
    d_longlong=define, longlongsize=8, d_longdbl=define, longdblsize=16, longdblkind=3
    ivtype='long', ivsize=8, nvtype='long double', nvsize=16, Off_t='off_t', lseeksize=8
    alignbytes=16, prototype=define
  Linker and Libraries:
    ld='cc', ldflags =' -fstack-protector-strong -L/usr/local/lib'
    libpth=/usr/local/lib /usr/lib/gcc/x86_64-linux-gnu/7/include-fixed /usr/include/x86_64-linux-gnu /usr/lib /lib/x86_64-linux-gnu /lib/../lib /usr/lib/x86_64-linux-gnu /usr/lib/../lib /lib
    libs=-lpthread -lnsl -ldl -lm -lcrypt -lutil -lc
    perllibs=-lpthread -lnsl -ldl -lm -lcrypt -lutil -lc
    libc=libc-2.24.so, so=so, useshrplib=false, libperl=libperl.a
    gnulibc_version='2.24'
  Dynamic Linking:
    dlsrc=dl_dlopen.xs, dlext=so, d_dlsymun=undef, ccdlflags='-Wl,-E'
    cccdlflags='-fPIC', lddlflags='-shared -O2 -g -L/usr/local/lib -fstack-protector-strong'


Characteristics of this binary (from libperl): 
  Compile-time options: DEBUGGING HAS_TIMES PERLIO_LAYERS
                        PERL_DONT_CREATE_GVSV
                        PERL_HASH_FUNC_ONE_AT_A_TIME_HARD PERL_MALLOC_WRAP
                        PERL_NEW_COPY_ON_WRITE PERL_PRESERVE_IVUV
                        PERL_USE_DEVEL USE_64_BIT_ALL USE_64_BIT_INT
                        USE_LARGE_FILES USE_LOCALE USE_LOCALE_COLLATE
                        USE_LOCALE_CTYPE USE_LOCALE_NUMERIC USE_LOCALE_TIME
                        USE_LONG_DOUBLE USE_PERLIO USE_PERL_ATOF
  Locally applied patches:
	uncommitted-changes
  Built under linux
  Compiled at Oct  4 2017 02:50:37
  %ENV:
    PERL5LIB=""
    PERL5OPT=""
    PERL5_CPANPLUS_IS_RUNNING="27844"
    PERL5_CPAN_IS_RUNNING="27844"
    PERL5_CPAN_IS_RUNNING_IN_RECURSION="1978,27844"
    PERL_CANARY_STABILITY_NOPROMPT="1"
    PERL_MM_USE_DEFAULT="1"
    PERL_USE_UNSAFE_INC="1"
  @INC:
    /home/sand/src/perl/repoperls/installed-perls/host/k93msid/v5.22.2/0a29/lib/site_perl/5.22.2/x86_64-linux-ld
    /home/sand/src/perl/repoperls/installed-perls/host/k93msid/v5.22.2/0a29/lib/site_perl/5.22.2
    /home/sand/src/perl/repoperls/installed-perls/host/k93msid/v5.22.2/0a29/lib/5.22.2/x86_64-linux-ld
    /home/sand/src/perl/repoperls/installed-perls/host/k93msid/v5.22.2/0a29/lib/5.22.2
    .