Report for Graphics-Color-0.29

Back
From: metabase:user:30977d10-2aae-11df-837a-5e0a49663a4f
Subject: PASS Graphics-Color-0.29 v5.18.0 Mac OS X
Date: 2013-12-27T05:03:39Z

This distribution has been tested as part of the CPAN Testers
project, supporting the Perl programming language.  See
http://wiki.cpantesters.org/ for more information or email
questions to cpan-testers-discuss@perl.org


--
Dear Cory G Watson,

This is a computer-generated report for Graphics-Color-0.29
on perl 5.18.0, created by CPAN-Reporter-1.2010.

Thank you for uploading your work to CPAN.  Congratulations!
All tests were successful.

Sections of this report:

    * Tester comments
    * Program output
    * Prerequisites
    * Environment and other context

------------------------------
TESTER COMMENTS
------------------------------

Additional comments from tester:

this report is from an automated smoke testing program
and was not reviewed by a human for accuracy

------------------------------
PROGRAM OUTPUT
------------------------------

Output from '/usr/bin/make test':

PERL_DL_NONLAZY=1 /Users/trushel/perl/5.18.0-m/bin/perl "-MExtUtils::Command::MM" "-MTest::Harness" "-e" "undef *Test::Harness::Switches; test_harness(0, 'blib/lib', 'blib/arch')" t/*.t t/author/*.t
# Testing Graphics::Color 0.29, Perl 5.018000, /Users/trushel/perl/5.18.0-m/bin/perl
t/00-load.t .............. ok
t/01-cmyk.t .............. ok
t/01-hsl.t ............... ok
t/01-hsv.t ............... ok
t/01-rgb.t ............... ok
t/01-yiq.t ............... ok
t/01-yuv.t ............... ok
t/11-color-library.t ..... ok
Class::MOP::load_class is deprecated at /Users/trushel/perl/5.18.0-m/lib/site_perl/5.18.0/darwin-multi-2level/Class/MOP.pm line 76.
	Class::MOP::load_class('Graphics::Color') called at /Users/trushel/perl/5.18.0-m/lib/site_perl/5.18.0/Pod/Coverage/Moose.pm line 159
	Class::MOP::Class:::around('CODE(0x7faf0b107d90)', 'Pod::Coverage::Moose', 'package', 'Graphics::Color') called at /Users/trushel/perl/5.18.0-m/lib/site_perl/5.18.0/darwin-multi-2level/Class/MOP/Method/Wrapped.pm line 162
	Class::MOP::Method::Wrapped::__ANON__('Pod::Coverage::Moose', 'package', 'Graphics::Color') called at /Users/trushel/perl/5.18.0-m/lib/site_perl/5.18.0/darwin-multi-2level/Class/MOP/Method/Wrapped.pm line 91
	Pod::Coverage::Moose::new('Pod::Coverage::Moose', 'package', 'Graphics::Color') called at /Users/trushel/perl/5.18.0-m/lib/site_perl/5.18.0/Test/Pod/Coverage.pm line 160
	Test::Pod::Coverage::pod_coverage_ok('Graphics::Color', 'HASH(0x7faf09828a38)', 'Pod coverage on Graphics::Color') called at /Users/trushel/perl/5.18.0-m/lib/site_perl/5.18.0/Test/Pod/Coverage.pm line 126
	Test::Pod::Coverage::all_pod_coverage_ok('HASH(0x7faf09828a38)') called at t/author/pod-coverage.t line 22
t/author/pod-coverage.t .. ok
t/author/pod.t ........... ok
t/release-pod-syntax.t ... skipped: these tests are for release candidate testing
t/release-synopsis.t ..... skipped: these tests are for release candidate testing
All tests successful.
Files=12, Tests=129,  4 wallclock secs ( 0.06 usr  0.02 sys +  3.66 cusr  0.26 csys =  4.00 CPU)
Result: PASS

------------------------------
PREREQUISITES
------------------------------

Prerequisite modules loaded:

requires:

    Module                       Need Have    
    ---------------------------- ---- --------
    Color::Library               0    0.021   
    Moose                        0    2.1100  
    Moose::Role                  0    2.1100  
    Moose::Util::TypeConstraints 0    2.1100  
    MooseX::Aliases              0.10 0.11    
    MooseX::Clone                0    0.05    
    MooseX::Storage::Deferred    0    0.42    
    MooseX::Types                0    0.40    
    MooseX::Types::Moose         0    0.40    

build_requires:

    Module                       Need Have    
    ---------------------------- ---- --------
    Test::More                   0    1.001002
    Test::Number::Delta          0    1.03    

configure_requires:

    Module                       Need Have    
    ---------------------------- ---- --------
    ExtUtils::MakeMaker          6.30 6.84    


------------------------------
ENVIRONMENT AND OTHER CONTEXT
------------------------------

Environment variables:

    AUTOMATED_TESTING = 1
    LANG = en_US.UTF-8
    PATH = /usr/bin:/bin:/usr/sbin:/sbin:/usr/local/bin:/usr/local/bin/g4bin:/usr/local/sbin
    PERL5LIB = 
    PERL5OPT = 
    PERL5_CPANPLUS_IS_RUNNING = 9099
    PERL5_CPAN_IS_RUNNING = 9099
    PERL5_CPAN_IS_RUNNING_IN_RECURSION = 9091,9099
    PERL_CR_SMOKER_CURRENT = WWW-AdventCalendar-1.110
    PERL_EXTUTILS_AUTOINSTALL = --defaultdeps
    PERL_MM_USE_DEFAULT = 1
    SHELL = /bin/bash
    TERM = xterm-256color
    TMPDIR = /var/folders/00/11s1r000h01000cxqpysvccm004747/T/

Perl special variables (and OS-specific diagnostics, for MSWin32):

    $^X = /Users/trushel/perl/5.18.0-m/bin/perl
    $UID/$EUID = 138375 / 138375
    $GID = 5762 5762
    $EGID = 5762 5762

Perl module toolchain versions installed:

    Module              Have    
    ------------------- --------
    CPAN                2.00    
    CPAN::Meta          2.132510
    Cwd                 3.40    
    ExtUtils::CBuilder  0.280212
    ExtUtils::Command   1.18    
    ExtUtils::Install   1.59    
    ExtUtils::MakeMaker 6.84    
    ExtUtils::Manifest  1.63    
    ExtUtils::ParseXS   3.21    
    File::Spec          3.40    
    JSON                2.59    
    JSON::PP            2.27203 
    Module::Build       0.4203  
    Module::Signature   n/a     
    Parse::CPAN::Meta   1.4407  
    Test::Harness       3.30    
    Test::More          1.001002
    YAML                0.84    
    YAML::Syck          1.27    
    version             0.9903  


--

Summary of my perl5 (revision 5 version 18 subversion 0) configuration:
   
  Platform:
    osname=darwin, osvers=12.4.0, archname=darwin-multi-2level
    uname='darwin trushel-macbookpro.local 12.4.0 darwin kernel version 12.4.0: wed may 1 17:57:12 pdt 2013; root:xnu-2050.24.15~1release_x86_64 x86_64 '
    config_args=''
    hint=recommended, useposix=true, d_sigaction=define
    useithreads=undef, usemultiplicity=define
    useperlio=define, d_sfio=undef, uselargefiles=define, usesocks=undef
    use64bitint=define, use64bitall=define, uselongdouble=undef
    usemymalloc=n, bincompat5005=undef
  Compiler:
    cc='cc', ccflags ='-fno-common -DPERL_DARWIN -fno-strict-aliasing -pipe -fstack-protector',
    optimize='-O3',
    cppflags='-fno-common -DPERL_DARWIN -fno-strict-aliasing -pipe -fstack-protector'
    ccversion='', gccversion='4.2.1 Compatible Apple LLVM 4.2 (clang-425.0.28)', gccosandvers=''
    intsize=4, longsize=8, ptrsize=8, doublesize=8, byteorder=12345678
    d_longlong=define, longlongsize=8, d_longdbl=define, longdblsize=16
    ivtype='long', ivsize=8, nvtype='double', nvsize=8, Off_t='off_t', lseeksize=8
    alignbytes=8, prototype=define
  Linker and Libraries:
    ld='env MACOSX_DEPLOYMENT_TARGET=10.3 cc', ldflags =' -fstack-protector -L/usr/local/lib'
    libpth=/usr/local/lib /usr/lib
    libs=-ldbm -ldl -lm -lutil -lc
    perllibs=-ldl -lm -lutil -lc
    libc=, so=dylib, useshrplib=false, libperl=libperl.a
    gnulibc_version=''
  Dynamic Linking:
    dlsrc=dl_dlopen.xs, dlext=bundle, d_dlsymun=undef, ccdlflags=' '
    cccdlflags=' ', lddlflags=' -bundle -undefined dynamic_lookup -L/usr/local/lib -fstack-protector'


Characteristics of this binary (from libperl): 
  Compile-time options: HAS_TIMES MULTIPLICITY PERLIO_LAYERS
                        PERL_DONT_CREATE_GVSV
                        PERL_HASH_FUNC_ONE_AT_A_TIME_HARD
                        PERL_IMPLICIT_CONTEXT PERL_MALLOC_WRAP
                        PERL_PRESERVE_IVUV PERL_SAWAMPERSAND USE_64_BIT_ALL
                        USE_64_BIT_INT USE_LARGE_FILES USE_LOCALE
                        USE_LOCALE_COLLATE USE_LOCALE_CTYPE
                        USE_LOCALE_NUMERIC USE_PERLIO USE_PERL_ATOF
  Built under darwin
  Compiled at Jul  9 2013 02:13:55
  %ENV:
    PERL5LIB=""
    PERL5OPT=""
    PERL5_CPANPLUS_IS_RUNNING="9099"
    PERL5_CPAN_IS_RUNNING="9099"
    PERL5_CPAN_IS_RUNNING_IN_RECURSION="9091,9099"
    PERL_CR_SMOKER_CURRENT="WWW-AdventCalendar-1.110"
    PERL_EXTUTILS_AUTOINSTALL="--defaultdeps"
    PERL_MM_USE_DEFAULT="1"
  @INC:
    /Users/trushel/perl/5.18.0-m/lib/site_perl/5.18.0/darwin-multi-2level
    /Users/trushel/perl/5.18.0-m/lib/site_perl/5.18.0
    /Users/trushel/perl/5.18.0-m/lib/5.18.0/darwin-multi-2level
    /Users/trushel/perl/5.18.0-m/lib/5.18.0
    .