Test-Without-Module v0.23 Perl 5 v5.42.0 x86_64-linux-thread-multi
- Status
- Pass
- From
- Arpad Szasz
- Dist
-
Test-Without-Module v0.23
- Platform
- Perl 5 v5.42.0 x86_64-linux-thread-multi
- Date
- 2025-07-04 11:23:03
- ID
- 402baeea-58c9-11f0-9fe9-e2365622e8a0
This distribution has been tested as part of the CPAN Testers
project, supporting the Perl programming language. See
http://wiki.cpantesters.org/ for more information or email
questions to cpan-testers-discuss@perl.org
--
Dear CORION,
This is a computer-generated report for Test-Without-Module-0.23
on perl 5.42.0, created by App::cpanminus::reporter 0.22 (1.7048).
Thank you for uploading your work to CPAN. Congratulations!
All tests were successful.
Sections of this report:
* Tester comments
* Program output
* Prerequisites
* Environment and other context
------------------------------
TESTER COMMENTS
------------------------------
Additional comments from tester:
none provided
------------------------------
PROGRAM OUTPUT
------------------------------
Output from '':
Building and testing Test-Without-Module-0.23
cp lib/Test/Without/Module.pm blib/lib/Test/Without/Module.pm
Manifying 1 pod document
PERL_DL_NONLAZY=1 "/home/arpi/opt/perl5/perls/perl-5.42.0/bin/perl" "-MExtUtils::Command::MM" "-MTest::Harness" "-e" "undef *Test::Harness::Switches; test_harness(0, 'blib/lib', 'blib/arch')" t/00-load.t t/01-api.t t/02-block-use-module.t t/03-block-require-module.t t/04-import-export.t t/05-redefine.t t/06-missing-hidden-modules.t t/embedded-Test-Without-Module.t t/rt122551.t
t/01-api.t ........................ ok
t/02-block-use-module.t ........... ok
t/05-redefine.t ................... ok
t/04-import-export.t .............. ok
t/embedded-Test-Without-Module.t .. ok
t/03-block-require-module.t ....... ok
t/06-missing-hidden-modules.t ..... ok
t/rt122551.t ...................... ok
# Testing Test::Without::Module 0.23, Perl 5.042000
# Carp 1.54
# Config 5.042000
# Cwd 3.94
# Encode 3.21
# Encode::Alias 2.25
# Encode::Config 2.05
# Encode::Encoding 2.08
# Encode::MIME::Name 1.03
# Exporter 5.79
# Exporter::Heavy 5.79
# ExtUtils::Liblist 7.76
# ExtUtils::Liblist::Kid 7.76
# ExtUtils::MM 7.76
# ExtUtils::MM_Any 7.76
# ExtUtils::MM_Unix 7.76
# ExtUtils::MY 7.76
# ExtUtils::MakeMaker 7.76
# ExtUtils::MakeMaker::Config 7.76
# ExtUtils::MakeMaker::Locale 7.76
# ExtUtils::MakeMaker::version 7.76
# Fcntl 1.20
# File::Basename 2.86
# File::Glob 1.42
# File::Path 2.18
# File::Spec 3.94
# File::Spec::Unix 3.94
# I18N::Langinfo 0.24
# List::Util 1.6801
# Scalar::Util 1.6801
# Storable 3.37
# Test::Builder 1.302210
# Test::Builder::Formatter 1.302210
# Test::Builder::Module 1.302210
# Test::Builder::TodoDiag 1.302210
# Test::More 1.302210
# Test::Without::Module 0.23
# Test2::API 1.302210
# Test2::API::Context 1.302210
# Test2::API::Instance 1.302210
# Test2::API::Stack 1.302210
# Test2::Event 1.302210
# Test2::Event::Bail 1.302210
# Test2::Event::Diag 1.302210
# Test2::Event::Exception 1.302210
# Test2::Event::Fail 1.302210
# Test2::Event::Note 1.302210
# Test2::Event::Ok 1.302210
# Test2::Event::Pass 1.302210
# Test2::Event::Plan 1.302210
# Test2::Event::Skip 1.302210
# Test2::Event::Subtest 1.302210
# Test2::Event::V2 1.302210
# Test2::Event::Waiting 1.302210
# Test2::EventFacet 1.302210
# Test2::EventFacet::About 1.302210
# Test2::EventFacet::Amnesty 1.302210
# Test2::EventFacet::Assert 1.302210
# Test2::EventFacet::Control 1.302210
# Test2::EventFacet::Error 1.302210
# Test2::EventFacet::Hub 1.302210
# Test2::EventFacet::Info 1.302210
# Test2::EventFacet::Meta 1.302210
# Test2::EventFacet::Parent 1.302210
# Test2::EventFacet::Plan 1.302210
# Test2::EventFacet::Trace 1.302210
# Test2::Formatter 1.302210
# Test2::Formatter::TAP 1.302210
# Test2::Hub 1.302210
# Test2::Hub::Interceptor 1.302210
# Test2::Hub::Interceptor::Terminator 1.302210
# Test2::Hub::Subtest 1.302210
# Test2::Util 1.302210
# Test2::Util::ExternalMeta 1.302210
# Test2::Util::Facets2Legacy 1.302210
# Test2::Util::HashBase 1.302210
# Test2::Util::Trace 1.302210
# Time::HiRes 1.9778
# XSLoader 0.32
# base 2.27
# bytes 1.09
# constant 1.33
# mro 1.29
# overloading 0.02
# parent 0.244
# strict 1.14
# vars 1.05
# version 0.9933
# version::regex 0.9933
# warnings 1.74
# warnings::register 1.06
t/00-load.t ....................... ok
All tests successful.
Test Summary Report
-------------------
t/rt122551.t (Wstat: 0 Tests: 2 Failed: 0)
TODO passed: 2
Files=9, Tests=24, 0 wallclock secs ( 0.01 usr 0.01 sys + 0.35 cusr 0.05 csys = 0.42 CPU)
Result: PASS
------------------------------
PREREQUISITES
------------------------------
Prerequisite modules loaded:
runtime:
Module Need Have
------------------- ----- --------
Carp 0 1.54
perl 5.006 5.042000
build:
Module Need Have
------------------- ----- --------
ExtUtils::MakeMaker 0 7.76
File::Find 0 1.44
File::Spec 0 3.94
configure:
Module Need Have
------------------- ----- --------
ExtUtils::MakeMaker 0 7.76
------------------------------
ENVIRONMENT AND OTHER CONTEXT
------------------------------
Environment variables:
LANG = en_US.UTF-8
LC_ADDRESS = ro_RO.UTF-8
LC_IDENTIFICATION = ro_RO.UTF-8
LC_MEASUREMENT = ro_RO.UTF-8
LC_MONETARY = ro_RO.UTF-8
LC_NAME = ro_RO.UTF-8
LC_NUMERIC = ro_RO.UTF-8
LC_PAPER = ro_RO.UTF-8
LC_TELEPHONE = ro_RO.UTF-8
LC_TIME = ro_RO.UTF-8
PATH = /home/arpi/opt/perl5/bin:/home/arpi/opt/perl5/perls/stable/bin:/home/arpi/.cargo/bin:/home/arpi/.nvm/versions/node/v20.0.0/bin:/home/arpi/.rvm/gems/ruby-3.2.2/bin:/home/arpi/.rvm/gems/ruby-3.2.2@global/bin:/home/arpi/.rvm/rubies/ruby-3.2.2/bin:/home/arpi/.cargo/bin:/home/arpi/.local/share/umake/bin::/home/arpi/.rakudobrew/bin:/home/arpi/.local/bin:/home/arpi/bin:/home/arpi/bin:/usr/local/sbin:/usr/local/bin:/usr/sbin:/usr/bin:/sbin:/bin:/usr/games:/usr/local/games:/snap/bin:/snap/bin:/home/arpi/.yarn/bin:/home/arpi/go/bin:/home/arpi/.rvm/bin:/home/arpi/.fzf/bin:/home/arpi/go/bin:/home/arpi/.rvm/bin
PERLBREW_HOME = /home/arpi/.perlbrew
PERLBREW_MANPATH = /home/arpi/opt/perl5/perls/stable/man
PERLBREW_PATH = /home/arpi/opt/perl5/bin:/home/arpi/opt/perl5/perls/stable/bin
PERLBREW_PERL = stable
PERLBREW_ROOT = /home/arpi/opt/perl5
PERLBREW_SHELLRC_VERSION = 1.01
PERLBREW_VERSION = 1.01
PROGRAMMING_TESTS = /home/arpi/Tresors/Default/Programming
SHELL = /bin/bash
TERM = xterm-ghostty
Perl special variables (and OS-specific diagnostics, for MSWin32):
EGID = 1000 4 20 24 27 29 30 46 108 115 131 132 145 998 1000 1007
EUID = 1000
EXECUTABLE_NAME = /home/arpi/opt/perl5/perls/perl-5.42.0/bin/perl
GID = 1000 4 20 24 27 29 30 46 108 115 131 132 145 998 1000 1007
UID = 1000
Perl module toolchain versions installed:
Module Have
------------------- --------
CPAN 2.38
CPAN::Meta 2.150010
Cwd 3.94
ExtUtils::CBuilder 0.280242
ExtUtils::Command 7.76
ExtUtils::Install 2.22
ExtUtils::MakeMaker 7.76
ExtUtils::Manifest 1.75
ExtUtils::ParseXS 3.57
File::Spec 3.94
JSON 4.10
JSON::PP 4.16
Module::Build 0.4234
Module::Signature n/a
Parse::CPAN::Meta 2.150010
Test::Harness 3.50
Test::More 1.302210
YAML 1.31
YAML::Syck n/a
version 0.9933
--
Summary of my perl5 (revision 5 version 42 subversion 0) configuration:
Platform:
osname=linux
osvers=6.14.0-22-generic
archname=x86_64-linux-thread-multi
uname='linux guppy 6.14.0-22-generic #22-ubuntu smp preempt_dynamic wed may 21 15:01:51 utc 2025 x86_64 x86_64 x86_64 gnulinux '
config_args='-de -Dprefix=/home/arpi/opt/perl5/perls/perl-5.42.0 -Dusethreads -Duselargefiles -Duse64bitall -Dusesitecustomize -Duseshrplib -Dinc_version_list=none -Dpager=/bin/less -Doptimize=-O2 -Dcf_by=Plenum.ro -Dcf_email=arpad.szasz@plenum.ro -Uuserelocatableinc -UDEBUGGING -Aeval:scriptdir=/home/arpi/opt/perl5/perls/perl-5.42.0/bin'
hint=recommended
useposix=true
d_sigaction=define
useithreads=define
usemultiplicity=define
use64bitint=define
use64bitall=define
uselongdouble=undef
usemymalloc=n
default_inc_excludes_dot=define
Compiler:
cc='cc'
ccflags ='-D_REENTRANT -D_GNU_SOURCE -fwrapv -fno-strict-aliasing -pipe -fstack-protector-strong -I/usr/local/include -D_LARGEFILE_SOURCE -D_FILE_OFFSET_BITS=64'
optimize='-O2'
cppflags='-D_REENTRANT -D_GNU_SOURCE -fwrapv -fno-strict-aliasing -pipe -fstack-protector-strong -I/usr/local/include'
ccversion=''
gccversion='14.2.0'
gccosandvers=''
intsize=4
longsize=8
ptrsize=8
doublesize=8
byteorder=12345678
doublekind=3
d_longlong=define
longlongsize=8
d_longdbl=define
longdblsize=16
longdblkind=3
ivtype='long'
ivsize=8
nvtype='double'
nvsize=8
Off_t='off_t'
lseeksize=8
alignbytes=8
prototype=define
Linker and Libraries:
ld='cc'
ldflags =' -fstack-protector-strong -L/usr/local/lib'
libpth=/usr/local/lib /usr/lib/x86_64-linux-gnu /usr/lib /usr/lib64
libs=-lpthread -lgdbm -ldl -lm -lcrypt -lutil -lc
perllibs=-lpthread -ldl -lm -lcrypt -lutil -lc
libc=/lib/x86_64-linux-gnu/libc.so.6
so=so
useshrplib=true
libperl=libperl.so
gnulibc_version='2.41'
Dynamic Linking:
dlsrc=dl_dlopen.xs
dlext=so
d_dlsymun=undef
ccdlflags='-Wl,-E -Wl,-rpath,/home/arpi/opt/perl5/perls/perl-5.42.0/lib/5.42.0/x86_64-linux-thread-multi/CORE'
cccdlflags='-fPIC'
lddlflags='-shared -O2 -L/usr/local/lib -fstack-protector-strong'
Characteristics of this binary (from libperl):
Compile-time options:
HAS_LONG_DOUBLE
HAS_STRTOLD
HAS_TIMES
MULTIPLICITY
PERLIO_LAYERS
PERL_COPY_ON_WRITE
PERL_DONT_CREATE_GVSV
PERL_HASH_FUNC_SIPHASH13
PERL_HASH_USE_SBOX32
PERL_MALLOC_WRAP
PERL_OP_PARENT
PERL_PRESERVE_IVUV
PERL_USE_SAFE_PUTENV
USE_64_BIT_ALL
USE_64_BIT_INT
USE_ITHREADS
USE_LARGE_FILES
USE_LOCALE
USE_LOCALE_COLLATE
USE_LOCALE_CTYPE
USE_LOCALE_NUMERIC
USE_LOCALE_TIME
USE_PERLIO
USE_PERL_ATOF
USE_REENTRANT_API
USE_SITECUSTOMIZE
USE_THREAD_SAFE_LOCALE
Built under linux
Compiled at Jul 4 2025 13:55:43
%ENV:
PERLBREW_HOME="/home/arpi/.perlbrew"
PERLBREW_MANPATH="/home/arpi/opt/perl5/perls/stable/man"
PERLBREW_PATH="/home/arpi/opt/perl5/bin:/home/arpi/opt/perl5/perls/stable/bin"
PERLBREW_PERL="stable"
PERLBREW_ROOT="/home/arpi/opt/perl5"
PERLBREW_SHELLRC_VERSION="1.01"
PERLBREW_VERSION="1.01"
@INC:
/home/arpi/opt/perl5/perls/perl-5.42.0/lib/site_perl/5.42.0/x86_64-linux-thread-multi
/home/arpi/opt/perl5/perls/perl-5.42.0/lib/site_perl/5.42.0
/home/arpi/opt/perl5/perls/perl-5.42.0/lib/5.42.0/x86_64-linux-thread-multi
/home/arpi/opt/perl5/perls/perl-5.42.0/lib/5.42.0