Report for JIRA-Client-REST-0.06

Back
From: metabase:user:2183aee3-6c02-1014-ab71-a5cc8cea407e
Subject: PASS JIRA-Client-REST-0.06 v5.18.2 
Date: 2015-12-17T08:15:00Z

This distribution has been tested as part of the CPAN Testers
project, supporting the Perl programming language.  See
http://wiki.cpantesters.org/ for more information or email
questions to cpan-testers-discuss@perl.org


--
Dear GPHAT,

This is a computer-generated report for JIRA-Client-REST-0.06
on perl 5.18.2, created by App::cpanminus::reporter 0.11 (1.7004).

Thank you for uploading your work to CPAN.  Congratulations!
All tests were successful.

Sections of this report:

    * Tester comments
    * Program output
    * Prerequisites
    * Environment and other context

------------------------------
TESTER COMMENTS
------------------------------

Additional comments from tester:

none provided

------------------------------
PROGRAM OUTPUT
------------------------------

Output from '':

Building and testing JIRA-Client-REST-0.06
cp lib/JIRA/Client/REST.pm blib\lib\JIRA\Client\REST.pm
D:\strawberry\perl\bin\perl.exe "-MExtUtils::Command::MM" "-MTest::Harness" "-e" "undef *Test::Harness::Switches; test_harness(0, 'blib\lib', 'blib\arch')" t/*.t
Passing a list of values to enum is deprecated. Enum values should be wrapped in an arrayref. at D:/strawberry/perl/site/lib/Net/HTTP/Spore/Meta/Types.pm line 18.
	require Net/HTTP/Spore/Meta/Types.pm called at D:/strawberry/perl/site/lib/Net/HTTP/Spore/Meta/Method.pm line 16
	Net::HTTP::Spore::Meta::Method::BEGIN() called at D:/strawberry/perl/site/lib/Net/HTTP/Spore/Meta/Types.pm line 0
	eval {...} called at D:/strawberry/perl/site/lib/Net/HTTP/Spore/Meta/Types.pm line 0
	require Net/HTTP/Spore/Meta/Method.pm called at D:/strawberry/perl/site/lib/Net/HTTP/Spore/Meta/Method/Spore.pm line 11
	Net::HTTP::Spore::Meta::Method::Spore::BEGIN() called at D:/strawberry/perl/site/lib/Net/HTTP/Spore/Meta/Types.pm line 0
	eval {...} called at D:/strawberry/perl/site/lib/Net/HTTP/Spore/Meta/Types.pm line 0
	require Net/HTTP/Spore/Meta/Method/Spore.pm called at D:/strawberry/perl/vendor/lib/Module/Runtime.pm line 317
	Module::Runtime::require_module("Net::HTTP::Spore::Meta::Method::Spore") called at D:/strawberry/perl/vendor/lib/Module/Runtime.pm line 348
	Module::Runtime::use_module("Net::HTTP::Spore::Meta::Method::Spore") called at D:/strawberry/perl/site/lib/Moose/Util.pm line 150
	Moose::Util::_apply_all_roles(Moose::Meta::Role=HASH(0x3934d68), undef, "Net::HTTP::Spore::Meta::Method::Spore") called at D:/strawberry/perl/site/lib/Moose/Util.pm line 117
	Moose::Util::apply_all_roles(Moose::Meta::Role=HASH(0x3934d68), "Net::HTTP::Spore::Meta::Method::Spore") called at D:/strawberry/perl/site/lib/Moose/Role.pm line 27
	Moose::Role::with(Moose::Meta::Role=HASH(0x3934d68), "Net::HTTP::Spore::Meta::Method::Spore") called at D:/strawberry/perl/site/lib/Moose/Exporter.pm line 405
	Moose::Role::with("Net::HTTP::Spore::Meta::Method::Spore") called at D:/strawberry/perl/site/lib/Net/HTTP/Spore/Meta/Class.pm line 10
	require Net/HTTP/Spore/Meta/Class.pm called at D:/strawberry/perl/vendor/lib/Module/Runtime.pm line 317
	Module::Runtime::require_module("Net::HTTP::Spore::Meta::Class") called at D:/strawberry/perl/vendor/lib/Module/Runtime.pm line 348
	Module::Runtime::use_module("Net::HTTP::Spore::Meta::Class") called at D:/strawberry/perl/site/lib/Moose/Util.pm line 150
	Moose::Util::_apply_all_roles(Moose::Meta::Class=HASH(0x392b178), undef, "Net::HTTP::Spore::Meta::Class") called at D:/strawberry/perl/site/lib/Moose/Util.pm line 117
	Moose::Util::apply_all_roles(Moose::Meta::Class=HASH(0x392b178), "Net::HTTP::Spore::Meta::Class") called at D:/strawberry/perl/site/lib/Moose/Meta/Class.pm line 92
	Moose::Meta::Class::create("Moose::Meta::Class", "Moose::Meta::Class::__ANON__::SERIAL::1", "weaken", "", "roles", ARRAY(0x3920638), "superclasses", ARRAY(0x3929440)) called at D:/strawberry/perl/site/lib/Class/MOP/Package.pm line 123
	Class::MOP::Package::create_anon("Moose::Meta::Class", "superclasses", ARRAY(0x3929440), "roles", ARRAY(0x3920638), "cache", 1) called at D:/strawberry/perl/site/lib/Class/MOP/Class.pm line 473
	Class::MOP::Class::create_anon_class("Moose::Meta::Class", "superclasses", ARRAY(0x3929440), "roles", ARRAY(0x3920638), "cache", 1) called at D:/strawberry/perl/site/lib/Moose/Util/MetaRole.pm line 113
	Moose::Util::MetaRole::_make_new_class("Moose::Meta::Class", ARRAY(0x3920638)) called at D:/strawberry/perl/site/lib/Moose/Util/MetaRole.pm line 56
	Moose::Util::MetaRole::_make_new_metaclass(Moose::Meta::Class=HASH(0x3929488), HASH(0x3705b50), "class") called at D:/strawberry/perl/site/lib/Moose/Util/MetaRole.pm line 26
	Moose::Util::MetaRole::apply_metaroles("for", "Net::HTTP::Spore::Core", "class_metaroles", HASH(0x3705b50)) called at D:/strawberry/perl/site/lib/Net/HTTP/Spore/Meta.pm line 28
	Net::HTTP::Spore::Meta::init_meta("Net::HTTP::Spore::Meta", "for_class", "Net::HTTP::Spore::Meta::Types", "metaclass", undef, "meta_name", "meta") called at D:/strawberry/perl/site/lib/Moose/Exporter.pm line 470
	Moose::Exporter::__ANON__("Net::HTTP::Spore::Meta") called at D:/strawberry/perl/site/lib/Net/HTTP/Spore/Core.pm line 6
	Net::HTTP::Spore::Core::BEGIN() called at D:/strawberry/perl/site/lib/Net/HTTP/Spore/Meta/Types.pm line 0
	eval {...} called at D:/strawberry/perl/site/lib/Net/HTTP/Spore/Meta/Types.pm line 0
	require Net/HTTP/Spore/Core.pm called at D:/strawberry/perl/site/lib/Net/HTTP/Spore.pm line 16
	Net::HTTP::Spore::BEGIN() called at D:/strawberry/perl/site/lib/Net/HTTP/Spore/Meta/Types.pm line 0
	eval {...} called at D:/strawberry/perl/site/lib/Net/HTTP/Spore/Meta/Types.pm line 0
	require Net/HTTP/Spore.pm called at C:\Users\gogr\.cpanm\work\1450339880.4832\JIRA-Client-REST-0.06\blib\lib/JIRA/Client/REST.pm line 10
	JIRA::Client::REST::BEGIN() called at D:/strawberry/perl/site/lib/Net/HTTP/Spore/Meta/Types.pm line 0
	eval {...} called at D:/strawberry/perl/site/lib/Net/HTTP/Spore/Meta/Types.pm line 0
	require JIRA/Client/REST.pm called at t/issue.t line 3
	main::BEGIN() called at D:/strawberry/perl/site/lib/Net/HTTP/Spore/Meta/Types.pm line 0
	eval {...} called at D:/strawberry/perl/site/lib/Net/HTTP/Spore/Meta/Types.pm line 0
t/issue.t ............... skipped: Set JIRA_CLIENT_REST_URL
Passing a list of values to enum is deprecated. Enum values should be wrapped in an arrayref. at D:/strawberry/perl/site/lib/Net/HTTP/Spore/Meta/Types.pm line 18.
	require Net/HTTP/Spore/Meta/Types.pm called at D:/strawberry/perl/site/lib/Net/HTTP/Spore/Meta/Method.pm line 16
	Net::HTTP::Spore::Meta::Method::BEGIN() called at D:/strawberry/perl/site/lib/Net/HTTP/Spore/Meta/Types.pm line 0
	eval {...} called at D:/strawberry/perl/site/lib/Net/HTTP/Spore/Meta/Types.pm line 0
	require Net/HTTP/Spore/Meta/Method.pm called at D:/strawberry/perl/site/lib/Net/HTTP/Spore/Meta/Method/Spore.pm line 11
	Net::HTTP::Spore::Meta::Method::Spore::BEGIN() called at D:/strawberry/perl/site/lib/Net/HTTP/Spore/Meta/Types.pm line 0
	eval {...} called at D:/strawberry/perl/site/lib/Net/HTTP/Spore/Meta/Types.pm line 0
	require Net/HTTP/Spore/Meta/Method/Spore.pm called at D:/strawberry/perl/vendor/lib/Module/Runtime.pm line 317
	Module::Runtime::require_module("Net::HTTP::Spore::Meta::Method::Spore") called at D:/strawberry/perl/vendor/lib/Module/Runtime.pm line 348
	Module::Runtime::use_module("Net::HTTP::Spore::Meta::Method::Spore") called at D:/strawberry/perl/site/lib/Moose/Util.pm line 150
	Moose::Util::_apply_all_roles(Moose::Meta::Role=HASH(0x3a7a060), undef, "Net::HTTP::Spore::Meta::Method::Spore") called at D:/strawberry/perl/site/lib/Moose/Util.pm line 117
	Moose::Util::apply_all_roles(Moose::Meta::Role=HASH(0x3a7a060), "Net::HTTP::Spore::Meta::Method::Spore") called at D:/strawberry/perl/site/lib/Moose/Role.pm line 27
	Moose::Role::with(Moose::Meta::Role=HASH(0x3a7a060), "Net::HTTP::Spore::Meta::Method::Spore") called at D:/strawberry/perl/site/lib/Moose/Exporter.pm line 405
	Moose::Role::with("Net::HTTP::Spore::Meta::Method::Spore") called at D:/strawberry/perl/site/lib/Net/HTTP/Spore/Meta/Class.pm line 10
	require Net/HTTP/Spore/Meta/Class.pm called at D:/strawberry/perl/vendor/lib/Module/Runtime.pm line 317
	Module::Runtime::require_module("Net::HTTP::Spore::Meta::Class") called at D:/strawberry/perl/vendor/lib/Module/Runtime.pm line 348
	Module::Runtime::use_module("Net::HTTP::Spore::Meta::Class") called at D:/strawberry/perl/site/lib/Moose/Util.pm line 150
	Moose::Util::_apply_all_roles(Moose::Meta::Class=HASH(0x3a70458), undef, "Net::HTTP::Spore::Meta::Class") called at D:/strawberry/perl/site/lib/Moose/Util.pm line 117
	Moose::Util::apply_all_roles(Moose::Meta::Class=HASH(0x3a70458), "Net::HTTP::Spore::Meta::Class") called at D:/strawberry/perl/site/lib/Moose/Meta/Class.pm line 92
	Moose::Meta::Class::create("Moose::Meta::Class", "Moose::Meta::Class::__ANON__::SERIAL::1", "superclasses", ARRAY(0x3a6ea80), "weaken", "", "roles", ARRAY(0x3a65918)) called at D:/strawberry/perl/site/lib/Class/MOP/Package.pm line 123
	Class::MOP::Package::create_anon("Moose::Meta::Class", "superclasses", ARRAY(0x3a6ea80), "roles", ARRAY(0x3a65918), "cache", 1) called at D:/strawberry/perl/site/lib/Class/MOP/Class.pm line 473
	Class::MOP::Class::create_anon_class("Moose::Meta::Class", "superclasses", ARRAY(0x3a6ea80), "roles", ARRAY(0x3a65918), "cache", 1) called at D:/strawberry/perl/site/lib/Moose/Util/MetaRole.pm line 113
	Moose::Util::MetaRole::_make_new_class("Moose::Meta::Class", ARRAY(0x3a65918)) called at D:/strawberry/perl/site/lib/Moose/Util/MetaRole.pm line 56
	Moose::Util::MetaRole::_make_new_metaclass(Moose::Meta::Class=HASH(0x3a6e738), HASH(0x3870090), "class") called at D:/strawberry/perl/site/lib/Moose/Util/MetaRole.pm line 26
	Moose::Util::MetaRole::apply_metaroles("for", "Net::HTTP::Spore::Core", "class_metaroles", HASH(0x3870090)) called at D:/strawberry/perl/site/lib/Net/HTTP/Spore/Meta.pm line 28
	Net::HTTP::Spore::Meta::init_meta("Net::HTTP::Spore::Meta", "for_class", "Net::HTTP::Spore::Meta::Types", "metaclass", undef, "meta_name", "meta") called at D:/strawberry/perl/site/lib/Moose/Exporter.pm line 470
	Moose::Exporter::__ANON__("Net::HTTP::Spore::Meta") called at D:/strawberry/perl/site/lib/Net/HTTP/Spore/Core.pm line 6
	Net::HTTP::Spore::Core::BEGIN() called at D:/strawberry/perl/site/lib/Net/HTTP/Spore/Meta/Types.pm line 0
	eval {...} called at D:/strawberry/perl/site/lib/Net/HTTP/Spore/Meta/Types.pm line 0
	require Net/HTTP/Spore/Core.pm called at D:/strawberry/perl/site/lib/Net/HTTP/Spore.pm line 16
	Net::HTTP::Spore::BEGIN() called at D:/strawberry/perl/site/lib/Net/HTTP/Spore/Meta/Types.pm line 0
	eval {...} called at D:/strawberry/perl/site/lib/Net/HTTP/Spore/Meta/Types.pm line 0
	require Net/HTTP/Spore.pm called at C:\Users\gogr\.cpanm\work\1450339880.4832\JIRA-Client-REST-0.06\blib\lib/JIRA/Client/REST.pm line 10
	JIRA::Client::REST::BEGIN() called at D:/strawberry/perl/site/lib/Net/HTTP/Spore/Meta/Types.pm line 0
	eval {...} called at D:/strawberry/perl/site/lib/Net/HTTP/Spore/Meta/Types.pm line 0
	require JIRA/Client/REST.pm called at t/project.t line 3
	main::BEGIN() called at D:/strawberry/perl/site/lib/Net/HTTP/Spore/Meta/Types.pm line 0
	eval {...} called at D:/strawberry/perl/site/lib/Net/HTTP/Spore/Meta/Types.pm line 0
t/project.t ............. skipped: Set JIRA_CLIENT_REST_URL
t/release-pod-syntax.t .. skipped: these tests are for release candidate testing
t/release-synopsis.t .... skipped: these tests are for release candidate testing
Passing a list of values to enum is deprecated. Enum values should be wrapped in an arrayref. at D:/strawberry/perl/site/lib/Net/HTTP/Spore/Meta/Types.pm line 18.
	require Net/HTTP/Spore/Meta/Types.pm called at D:/strawberry/perl/site/lib/Net/HTTP/Spore/Meta/Method.pm line 16
	Net::HTTP::Spore::Meta::Method::BEGIN() called at D:/strawberry/perl/site/lib/Net/HTTP/Spore/Meta/Types.pm line 0
	eval {...} called at D:/strawberry/perl/site/lib/Net/HTTP/Spore/Meta/Types.pm line 0
	require Net/HTTP/Spore/Meta/Method.pm called at D:/strawberry/perl/site/lib/Net/HTTP/Spore/Meta/Method/Spore.pm line 11
	Net::HTTP::Spore::Meta::Method::Spore::BEGIN() called at D:/strawberry/perl/site/lib/Net/HTTP/Spore/Meta/Types.pm line 0
	eval {...} called at D:/strawberry/perl/site/lib/Net/HTTP/Spore/Meta/Types.pm line 0
	require Net/HTTP/Spore/Meta/Method/Spore.pm called at D:/strawberry/perl/vendor/lib/Module/Runtime.pm line 317
	Module::Runtime::require_module("Net::HTTP::Spore::Meta::Method::Spore") called at D:/strawberry/perl/vendor/lib/Module/Runtime.pm line 348
	Module::Runtime::use_module("Net::HTTP::Spore::Meta::Method::Spore") called at D:/strawberry/perl/site/lib/Moose/Util.pm line 150
	Moose::Util::_apply_all_roles(Moose::Meta::Role=HASH(0x3aebdd8), undef, "Net::HTTP::Spore::Meta::Method::Spore") called at D:/strawberry/perl/site/lib/Moose/Util.pm line 117
	Moose::Util::apply_all_roles(Moose::Meta::Role=HASH(0x3aebdd8), "Net::HTTP::Spore::Meta::Method::Spore") called at D:/strawberry/perl/site/lib/Moose/Role.pm line 27
	Moose::Role::with(Moose::Meta::Role=HASH(0x3aebdd8), "Net::HTTP::Spore::Meta::Method::Spore") called at D:/strawberry/perl/site/lib/Moose/Exporter.pm line 405
	Moose::Role::with("Net::HTTP::Spore::Meta::Method::Spore") called at D:/strawberry/perl/site/lib/Net/HTTP/Spore/Meta/Class.pm line 10
	require Net/HTTP/Spore/Meta/Class.pm called at D:/strawberry/perl/vendor/lib/Module/Runtime.pm line 317
	Module::Runtime::require_module("Net::HTTP::Spore::Meta::Class") called at D:/strawberry/perl/vendor/lib/Module/Runtime.pm line 348
	Module::Runtime::use_module("Net::HTTP::Spore::Meta::Class") called at D:/strawberry/perl/site/lib/Moose/Util.pm line 150
	Moose::Util::_apply_all_roles(Moose::Meta::Class=HASH(0x3ae21e8), undef, "Net::HTTP::Spore::Meta::Class") called at D:/strawberry/perl/site/lib/Moose/Util.pm line 117
	Moose::Util::apply_all_roles(Moose::Meta::Class=HASH(0x3ae21e8), "Net::HTTP::Spore::Meta::Class") called at D:/strawberry/perl/site/lib/Moose/Meta/Class.pm line 92
	Moose::Meta::Class::create("Moose::Meta::Class", "Moose::Meta::Class::__ANON__::SERIAL::1", "weaken", "", "superclasses", ARRAY(0x3ae0420), "roles", ARRAY(0x3ad76a8)) called at D:/strawberry/perl/site/lib/Class/MOP/Package.pm line 123
	Class::MOP::Package::create_anon("Moose::Meta::Class", "superclasses", ARRAY(0x3ae0420), "roles", ARRAY(0x3ad76a8), "cache", 1) called at D:/strawberry/perl/site/lib/Class/MOP/Class.pm line 473
	Class::MOP::Class::create_anon_class("Moose::Meta::Class", "superclasses", ARRAY(0x3ae0420), "roles", ARRAY(0x3ad76a8), "cache", 1) called at D:/strawberry/perl/site/lib/Moose/Util/MetaRole.pm line 113
	Moose::Util::MetaRole::_make_new_class("Moose::Meta::Class", ARRAY(0x3ad76a8)) called at D:/strawberry/perl/site/lib/Moose/Util/MetaRole.pm line 56
	Moose::Util::MetaRole::_make_new_metaclass(Moose::Meta::Class=HASH(0x3ae04b0), HASH(0x38da960), "class") called at D:/strawberry/perl/site/lib/Moose/Util/MetaRole.pm line 26
	Moose::Util::MetaRole::apply_metaroles("for", "Net::HTTP::Spore::Core", "class_metaroles", HASH(0x38da960)) called at D:/strawberry/perl/site/lib/Net/HTTP/Spore/Meta.pm line 28
	Net::HTTP::Spore::Meta::init_meta("Net::HTTP::Spore::Meta", "for_class", "Net::HTTP::Spore::Meta::Types", "metaclass", undef, "meta_name", "meta") called at D:/strawberry/perl/site/lib/Moose/Exporter.pm line 470
	Moose::Exporter::__ANON__("Net::HTTP::Spore::Meta") called at D:/strawberry/perl/site/lib/Net/HTTP/Spore/Core.pm line 6
	Net::HTTP::Spore::Core::BEGIN() called at D:/strawberry/perl/site/lib/Net/HTTP/Spore/Meta/Types.pm line 0
	eval {...} called at D:/strawberry/perl/site/lib/Net/HTTP/Spore/Meta/Types.pm line 0
	require Net/HTTP/Spore/Core.pm called at D:/strawberry/perl/site/lib/Net/HTTP/Spore.pm line 16
	Net::HTTP::Spore::BEGIN() called at D:/strawberry/perl/site/lib/Net/HTTP/Spore/Meta/Types.pm line 0
	eval {...} called at D:/strawberry/perl/site/lib/Net/HTTP/Spore/Meta/Types.pm line 0
	require Net/HTTP/Spore.pm called at C:\Users\gogr\.cpanm\work\1450339880.4832\JIRA-Client-REST-0.06\blib\lib/JIRA/Client/REST.pm line 10
	JIRA::Client::REST::BEGIN() called at D:/strawberry/perl/site/lib/Net/HTTP/Spore/Meta/Types.pm line 0
	eval {...} called at D:/strawberry/perl/site/lib/Net/HTTP/Spore/Meta/Types.pm line 0
	require JIRA/Client/REST.pm called at t/version.t line 3
	main::BEGIN() called at D:/strawberry/perl/site/lib/Net/HTTP/Spore/Meta/Types.pm line 0
	eval {...} called at D:/strawberry/perl/site/lib/Net/HTTP/Spore/Meta/Types.pm line 0
t/version.t ............. skipped: Set JIRA_CLIENT_REST_URL
Files=5, Tests=0,  3 wallclock secs ( 0.05 usr +  0.06 sys =  0.11 CPU)
Result: NOTESTS
Installing D:\strawberry\perl\site\lib\JIRA\Client\REST.pm
Appending installation info to D:\strawberry\perl\lib/perllocal.pod
-> OK

------------------------------
PREREQUISITES
------------------------------

Prerequisite modules loaded:

    No requirements found

------------------------------
ENVIRONMENT AND OTHER CONTEXT
------------------------------

Environment variables:

    COMSPEC = C:\Windows\system32\cmd.exe
    NUMBER_OF_PROCESSORS = 4
    PATH = C:\Windows\system32;C:\Windows;C:\Windows\System32\Wbem;C:\Windows\System32\WindowsPowerShell\v1.0\;C:\Program Files (x86)\ATI Technologies\ATI.ACE\Core-Static;C:\Program Files\TortoiseSVN\bin;D:\apache-ant-1.8.4\bin;D:\strawberry\c\bin;D:\strawberry\perl\site\bin;D:\strawberry\perl\bin;d:\Dwimperl\perl\bin;d:\Dwimperl\perl\site\bin;d:\Dwimperl\c\bin;C:\Program Files\Java\jdk1.7.0_60\bin;C:\Program Files\CenterTools\DriveLock\;d:\dvinci_pdf\miktex\bin\;C:\Program Files (x86)\Microsoft SQL Server\110\Tools\Binn\;C:\Program Files\Microsoft SQL Server\110\Tools\Binn\;C:\Program Files\Microsoft SQL Server\110\DTS\Binn\;C:\Program Files (x86)\Microsoft SQL Server\110\Tools\Binn\ManagementStudio\;C:\Program Files (x86)\Microsoft SQL Server\110\DTS\Binn\;d:\Ruby193\bin;D:\MiKTeX\miktex\bin\x64\;C:\Users\gogr\AppData\Local\Pandoc\;D:\Framework\Webdriver\
    PROCESSOR_IDENTIFIER = Intel64 Family 6 Model 42 Stepping 7, GenuineIntel
    TEMP = C:\Users\gogr\AppData\Local\Temp

Perl special variables (and OS-specific diagnostics, for MSWin32):

    EGID = 0
    EUID = 0
    EXECUTABLE_NAME = D:\strawberry\perl\bin\perl.exe
    GID = 0
    UID = 0
    Win32::FsType = NTFS
    Win32::GetOSName = Win7
    Win32::GetOSVersion = Service Pack 1, 6, 1, 7601, 2, 1, 0, 256, 1
    Win32::IsAdminUser = 0

Perl module toolchain versions installed:

    Module              Have    
    ------------------- --------
    CPAN                2.00    
    CPAN::Meta          2.140640
    Cwd                 3.40    
    ExtUtils::CBuilder  0.280216
    ExtUtils::Command   1.18    
    ExtUtils::Install   1.64    
    ExtUtils::MakeMaker 6.94    
    ExtUtils::Manifest  1.63    
    ExtUtils::ParseXS   3.24    
    File::Spec          3.40    
    JSON                2.90    
    JSON::PP            2.27203 
    Module::Build       0.4205  
    Module::Signature   n/a     
    Parse::CPAN::Meta   1.4414  
    Test::Harness       3.28    
    Test::More          1.001003
    YAML                0.90    
    YAML::Syck          1.27    
    version             0.9908  


--

Summary of my perl5 (revision 5 version 18 subversion 2) configuration:
   
  Platform:
    osname=MSWin32, osvers=6.2, archname=MSWin32-x64-multi-thread
    uname='Win32 strawberry-perl 5.18.2.2 #1 Tue Apr 15 14:36:23 2014 x64'
    config_args='undef'
    hint=recommended, useposix=true, d_sigaction=undef
    useithreads=define, usemultiplicity=define
    useperlio=define, d_sfio=undef, uselargefiles=define, usesocks=undef
    use64bitint=define, use64bitall=undef, uselongdouble=undef
    usemymalloc=n, bincompat5005=undef
  Compiler:
    cc='gcc', ccflags =' -s -O2 -DWIN32 -DWIN64 -DCONSERVATIVE  -DPERL_TEXTMODE_SCRIPTS -DPERL_IMPLICIT_CONTEXT -DPERL_IMPLICIT_SYS -DUSE_PERLIO -fno-strict-aliasing -mms-bitfields',
    optimize='-s -O2',
    cppflags='-DWIN32'
    ccversion='', gccversion='4.7.3', gccosandvers=''
    intsize=4, longsize=4, ptrsize=8, doublesize=8, byteorder=12345678
    d_longlong=define, longlongsize=8, d_longdbl=define, longdblsize=12
    ivtype='long long', ivsize=8, nvtype='double', nvsize=8, Off_t='long long', lseeksize=8
    alignbytes=8, prototype=define
  Linker and Libraries:
    ld='g++', ldflags ='-s -L"D:\strawberry\perl\lib\CORE" -L"D:\strawberry\c\lib"'
    libpth=D:\strawberry\c\lib D:\strawberry\c\x86_64-w64-mingw32\lib D:\strawberry\c\lib\gcc\x86_64-w64-mingw32\4.7.3
    libs=-lmoldname -lkernel32 -luser32 -lgdi32 -lwinspool -lcomdlg32 -ladvapi32 -lshell32 -lole32 -loleaut32 -lnetapi32 -luuid -lws2_32 -lmpr -lwinmm -lversion -lodbc32 -lodbccp32 -lcomctl32
    perllibs=-lmoldname -lkernel32 -luser32 -lgdi32 -lwinspool -lcomdlg32 -ladvapi32 -lshell32 -lole32 -loleaut32 -lnetapi32 -luuid -lws2_32 -lmpr -lwinmm -lversion -lodbc32 -lodbccp32 -lcomctl32
    libc=, so=dll, useshrplib=true, libperl=libperl518.a
    gnulibc_version=''
  Dynamic Linking:
    dlsrc=dl_win32.xs, dlext=dll, d_dlsymun=undef, ccdlflags=' '
    cccdlflags=' ', lddlflags='-mdll -s -L"D:\strawberry\perl\lib\CORE" -L"D:\strawberry\c\lib"'


Characteristics of this binary (from libperl): 
  Compile-time options: HAS_TIMES HAVE_INTERP_INTERN MULTIPLICITY
                        PERLIO_LAYERS PERL_DONT_CREATE_GVSV
                        PERL_HASH_FUNC_ONE_AT_A_TIME_HARD
                        PERL_IMPLICIT_CONTEXT PERL_IMPLICIT_SYS
                        PERL_MALLOC_WRAP PERL_PRESERVE_IVUV PERL_SAWAMPERSAND
                        USE_64_BIT_INT USE_ITHREADS USE_LARGE_FILES
                        USE_LOCALE USE_LOCALE_COLLATE USE_LOCALE_CTYPE
                        USE_LOCALE_NUMERIC USE_PERLIO USE_PERL_ATOF
  Built under MSWin32
  Compiled at Apr 15 2014 14:45:10
  @INC:
    D:/strawberry/perl/site/lib/MSWin32-x64-multi-thread
    D:/strawberry/perl/site/lib
    D:/strawberry/perl/vendor/lib
    D:/strawberry/perl/lib
    .