Report for Class-MakeMethods-1.01

Back
From: metabase:user:0d96120c-29e2-11e5-b049-ede3035d37de
Subject: PASS Class-MakeMethods-1.01 v5.23.1 GNU/Linux
Date: 2015-08-07T05:22:10Z

This distribution has been tested as part of the CPAN Testers
project, supporting the Perl programming language.  See
http://wiki.cpantesters.org/ for more information or email
questions to cpan-testers-discuss@perl.org


--
Dear Matthew Simon Cavalletto,

This is a computer-generated report for Class-MakeMethods-1.01
on perl 5.23.1, created by CPAN-Reporter-1.2015.

Thank you for uploading your work to CPAN.  Congratulations!
All tests were successful.

Sections of this report:

    * Tester comments
    * Program output
    * Prerequisites
    * Environment and other context

------------------------------
TESTER COMMENTS
------------------------------

Additional comments from tester:

this report is from an automated smoke testing program
and was not reviewed by a human for accuracy

CPU            : Intel(R) Xeon(R) CPU E5-2680 v2 @ 2.80GHz
MEMORY         : 1.94 GB
ARCH           : x86_64
OS             : CentOS 7.1.1503
KERNEL         : Linux 4.1.0-x86_64-linode59
VIRTUALIZATION : xen0

------------------------------
PROGRAM OUTPUT
------------------------------

Output from '/usr/bin/make test':

PERL_DL_NONLAZY=1 "/home/jmaslak/perl5/perlbrew/perls/perl-5.23.1-thread-multi-ld/bin/perl5.23.1" "-Iblib/lib" "-Iblib/arch" test.pl
test.pl: Searching for test scripts in .
test.pl: Found 121 .t files for test harness.
./tests/access/attribute_stnd_hash.t .................... ok
./tests/access/autoload_stnd_hash.t ..................... ok
./tests/access/autoload_typemap.t ....................... ok
./tests/access/import_version.t ......................... ok
./tests/basic/array_scalar.t ............................ ok
./tests/basic/declarations.t ............................ ok
./tests/basic/global_hash.t ............................. ok
./tests/basic/global_scalar.t ........................... ok
./tests/basic/hash_scalar.t ............................. ok
./tests/composite/declarations.t ........................ ok
./tests/composite/hash.t ................................ ok
./tests/composite/inheritable.t ......................... ok
./tests/composite/inheritable_hash.t .................... ok
./tests/composite/inheritable_hook.t .................... ok
./tests/composite/patch.t ............................... ok
./tests/evaled/hash_scalar.t ............................ ok
./tests/standard/standard_declarations.t ................ ok
./tests/standard/standard_hash.t ........................ ok
./tests/standard/standard_inheritable.t ................. ok
./tests/standard/standard_inheritable_hash.t ............ ok
./tests/template/abstract.t ............................. ok
./tests/template/array_number.t ......................... ok
./tests/template/array_object.t ......................... ok
./tests/template/array_scalar.t ......................... ok
./tests/template/class_array.t .......................... ok
./tests/template/class_scalar.t ......................... ok
./tests/template/classvar_array.t ....................... ok
./tests/template/classvar_scalar.t ...................... ok
./tests/template/clone.t ................................ ok
./tests/template/declaration.t .......................... ok
./tests/template/doc_examples.t ......................... ok
./tests/template/doc_extending.t ........................ ok
./tests/template/global_array.t ......................... ok
./tests/template/global_code.t .......................... ok
./tests/template/global_hash.t .......................... ok
./tests/template/global_scalar.t ........................ ok
./tests/template/global_scalar_lvalue.t ................. ok
./tests/template/hash_array.t ........................... ok
./tests/template/hash_array_getset.t .................... ok
./tests/template/hash_array_lvalue.t .................... ok
./tests/template/hash_array_object.t .................... ok
./tests/template/hash_boolean.t ......................... ok
./tests/template/hash_code.t ............................ ok
./tests/template/hash_copy.t ............................ ok
./tests/template/hash_counter.t ......................... ok
./tests/template/hash_counter_closure.t ................. ok
./tests/template/hash_hash.t ............................ ok
./tests/template/hash_hash_array.t ...................... ok
./tests/template/hash_method.t .......................... ok
./tests/template/hash_new.t ............................. ok
./tests/template/hash_number.t .......................... ok
./tests/template/hash_number_interfaces.t ............... ok
./tests/template/hash_object.t .......................... ok
./tests/template/hash_scalar.t .......................... ok
./tests/template/hash_scalar_closure.t .................. ok
./tests/template/hash_scalar_interfaces.t ............... ok
./tests/template/hash_scalar_lvalue.t ................... ok
./tests/template/hash_string_concat.t ................... ok
./tests/template/hash_string_index.t .................... ok
./tests/template/hash_string_index_create.t ............. ok
./tests/template/hash_struct.t .......................... ok
./tests/template/hash_tiedhash.t ........................ ok
./tests/template/inherit_scalar.t ....................... ok
./tests/template/insideout_array.t ...................... ok
./tests/template/insideout_bool_i.t ..................... ok
./tests/template/insideout_scalar.t ..................... ok
./tests/template/modifier_private.t ..................... ok
./tests/template/package_scalar.t ....................... ok
./tests/template/scalar_bits.t .......................... ok
./tests/template/scalar_counter.t ....................... ok
./tests/utility/inheritable.t ........................... ok
./tests/utility/text_builder.t .......................... ok
./tests/xemulator/accessors/chained.t ................... ok
./tests/xemulator/accessors/classic.t ................... ok
./tests/xemulator/accessors/default.t ................... ok
./tests/xemulator/accessors/invalid.t ................... ok
./tests/xemulator/class_accessor/class_accessor_fast.t .. ok
./tests/xemulator/class_inheritable/emulate.t ........... ok
./tests/xemulator/class_inheritable/transparent.t ....... ok
Unescaped left brace in regex is deprecated, passed through in regex; marked by <-- HERE in m/(TEST\s{ <-- HERE )/ at tests/xemulator/class_methodmaker/Test.pm line 51.
./tests/xemulator/class_methodmaker/abstract.t .......... ok
Unescaped left brace in regex is deprecated, passed through in regex; marked by <-- HERE in m/(TEST\s{ <-- HERE )/ at tests/xemulator/class_methodmaker/Test.pm line 51.
./tests/xemulator/class_methodmaker/boolean.092.t ....... ok
Unescaped left brace in regex is deprecated, passed through in regex; marked by <-- HERE in m/(TEST\s{ <-- HERE )/ at tests/xemulator/class_methodmaker/Test.pm line 51.
./tests/xemulator/class_methodmaker/boolean.t ........... ok
Unescaped left brace in regex is deprecated, passed through in regex; marked by <-- HERE in m/(TEST\s{ <-- HERE )/ at tests/xemulator/class_methodmaker/Test.pm line 51.
./tests/xemulator/class_methodmaker/code.t .............. ok
Unescaped left brace in regex is deprecated, passed through in regex; marked by <-- HERE in m/(TEST\s{ <-- HERE )/ at tests/xemulator/class_methodmaker/Test.pm line 51.
./tests/xemulator/class_methodmaker/copy.t .............. ok
Unescaped left brace in regex is deprecated, passed through in regex; marked by <-- HERE in m/(TEST\s{ <-- HERE )/ at tests/xemulator/class_methodmaker/Test.pm line 51.
./tests/xemulator/class_methodmaker/counter.t ........... ok
Unescaped left brace in regex is deprecated, passed through in regex; marked by <-- HERE in m/(TEST\s{ <-- HERE )/ at tests/xemulator/class_methodmaker/Test.pm line 51.
./tests/xemulator/class_methodmaker/get_concat.092.t .... ok
Unescaped left brace in regex is deprecated, passed through in regex; marked by <-- HERE in m/(TEST\s{ <-- HERE )/ at tests/xemulator/class_methodmaker/Test.pm line 51.
./tests/xemulator/class_methodmaker/get_concat.t ........ ok
Unescaped left brace in regex is deprecated, passed through in regex; marked by <-- HERE in m/(TEST\s{ <-- HERE )/ at tests/xemulator/class_methodmaker/Test.pm line 51.
./tests/xemulator/class_methodmaker/get_set.092.t ....... ok
Unescaped left brace in regex is deprecated, passed through in regex; marked by <-- HERE in m/(TEST\s{ <-- HERE )/ at tests/xemulator/class_methodmaker/Test.pm line 51.
./tests/xemulator/class_methodmaker/get_set.t ........... ok
Unescaped left brace in regex is deprecated, passed through in regex; marked by <-- HERE in m/(TEST\s{ <-- HERE )/ at tests/xemulator/class_methodmaker/Test.pm line 51.
./tests/xemulator/class_methodmaker/grouped_fields.t .... ok
Unescaped left brace in regex is deprecated, passed through in regex; marked by <-- HERE in m/(TEST\s{ <-- HERE )/ at tests/xemulator/class_methodmaker/Test.pm line 51.
./tests/xemulator/class_methodmaker/hash.092.t .......... ok
Unescaped left brace in regex is deprecated, passed through in regex; marked by <-- HERE in m/(TEST\s{ <-- HERE )/ at tests/xemulator/class_methodmaker/Test.pm line 51.
./tests/xemulator/class_methodmaker/hash.t .............. ok
Unescaped left brace in regex is deprecated, passed through in regex; marked by <-- HERE in m/(TEST\s{ <-- HERE )/ at tests/xemulator/class_methodmaker/Test.pm line 51.
./tests/xemulator/class_methodmaker/hash_of_lists.t ..... ok
Unescaped left brace in regex is deprecated, passed through in regex; marked by <-- HERE in m/(TEST\s{ <-- HERE )/ at tests/xemulator/class_methodmaker/Test.pm line 51.
./tests/xemulator/class_methodmaker/key_attrib.t ........ ok
Unescaped left brace in regex is deprecated, passed through in regex; marked by <-- HERE in m/(TEST\s{ <-- HERE )/ at tests/xemulator/class_methodmaker/Test.pm line 51.
./tests/xemulator/class_methodmaker/key_with_create.t ... ok
Unescaped left brace in regex is deprecated, passed through in regex; marked by <-- HERE in m/(TEST\s{ <-- HERE )/ at tests/xemulator/class_methodmaker/Test.pm line 51.
./tests/xemulator/class_methodmaker/list.092.t .......... ok
Unescaped left brace in regex is deprecated, passed through in regex; marked by <-- HERE in m/(TEST\s{ <-- HERE )/ at tests/xemulator/class_methodmaker/Test.pm line 51.
./tests/xemulator/class_methodmaker/list.104.t .......... ok
Unescaped left brace in regex is deprecated, passed through in regex; marked by <-- HERE in m/(TEST\s{ <-- HERE )/ at tests/xemulator/class_methodmaker/Test.pm line 51.
./tests/xemulator/class_methodmaker/list.t .............. ok
Unescaped left brace in regex is deprecated, passed through in regex; marked by <-- HERE in m/(TEST\s{ <-- HERE )/ at tests/xemulator/class_methodmaker/Test.pm line 51.
./tests/xemulator/class_methodmaker/listed_attrib.t ..... ok
Unescaped left brace in regex is deprecated, passed through in regex; marked by <-- HERE in m/(TEST\s{ <-- HERE )/ at tests/xemulator/class_methodmaker/Test.pm line 51.
./tests/xemulator/class_methodmaker/method.t ............ ok
Unescaped left brace in regex is deprecated, passed through in regex; marked by <-- HERE in m/(TEST\s{ <-- HERE )/ at tests/xemulator/class_methodmaker/Test.pm line 51.
./tests/xemulator/class_methodmaker/new.092.t ........... ok
Unescaped left brace in regex is deprecated, passed through in regex; marked by <-- HERE in m/(TEST\s{ <-- HERE )/ at tests/xemulator/class_methodmaker/Test.pm line 51.
./tests/xemulator/class_methodmaker/new.102.t ........... ok
Unescaped left brace in regex is deprecated, passed through in regex; marked by <-- HERE in m/(TEST\s{ <-- HERE )/ at tests/xemulator/class_methodmaker/Test.pm line 51.
./tests/xemulator/class_methodmaker/new.t ............... ok
Unescaped left brace in regex is deprecated, passed through in regex; marked by <-- HERE in m/(TEST\s{ <-- HERE )/ at tests/xemulator/class_methodmaker/Test.pm line 51.
./tests/xemulator/class_methodmaker/object.092.t ........ ok
Unescaped left brace in regex is deprecated, passed through in regex; marked by <-- HERE in m/(TEST\s{ <-- HERE )/ at tests/xemulator/class_methodmaker/Test.pm line 51.
./tests/xemulator/class_methodmaker/object.t ............ ok
Unescaped left brace in regex is deprecated, passed through in regex; marked by <-- HERE in m/(TEST\s{ <-- HERE )/ at tests/xemulator/class_methodmaker/Test.pm line 51.
./tests/xemulator/class_methodmaker/object_list.102.t ... ok
Unescaped left brace in regex is deprecated, passed through in regex; marked by <-- HERE in m/(TEST\s{ <-- HERE )/ at tests/xemulator/class_methodmaker/Test.pm line 51.
./tests/xemulator/class_methodmaker/object_list.t ....... ok
Unescaped left brace in regex is deprecated, passed through in regex; marked by <-- HERE in m/(TEST\s{ <-- HERE )/ at tests/xemulator/class_methodmaker/Test.pm line 51.
./tests/xemulator/class_methodmaker/static_get_set.t .... ok
Unescaped left brace in regex is deprecated, passed through in regex; marked by <-- HERE in m/(TEST\s{ <-- HERE )/ at tests/xemulator/class_methodmaker/Test.pm line 51.
./tests/xemulator/class_methodmaker/static_hash.092.t ... ok
Unescaped left brace in regex is deprecated, passed through in regex; marked by <-- HERE in m/(TEST\s{ <-- HERE )/ at tests/xemulator/class_methodmaker/Test.pm line 51.
./tests/xemulator/class_methodmaker/static_hash.t ....... ok
Unescaped left brace in regex is deprecated, passed through in regex; marked by <-- HERE in m/(TEST\s{ <-- HERE )/ at tests/xemulator/class_methodmaker/Test.pm line 51.
./tests/xemulator/class_methodmaker/static_list.t ....... ok
Unescaped left brace in regex is deprecated, passed through in regex; marked by <-- HERE in m/(TEST\s{ <-- HERE )/ at tests/xemulator/class_methodmaker/Test.pm line 51.
./tests/xemulator/class_methodmaker/struct.t ............ ok
Unescaped left brace in regex is deprecated, passed through in regex; marked by <-- HERE in m/(TEST\s{ <-- HERE )/ at tests/xemulator/class_methodmaker/Test.pm line 51.
./tests/xemulator/class_methodmaker/sugar.092.t ......... ok
Unescaped left brace in regex is deprecated, passed through in regex; marked by <-- HERE in m/(TEST\s{ <-- HERE )/ at tests/xemulator/class_methodmaker/Test.pm line 51.
./tests/xemulator/class_methodmaker/tie_hash.t .......... ok
./tests/xemulator/class_singleton/emulate.t ............. ok
./tests/xemulator/class_singleton/transparent.t ......... ok
./tests/xemulator/class_struct/emulate.t ................ ok
./tests/xemulator/class_struct/equivalent.t ............. ok
./tests/xemulator/mcoder/getset.t ....................... ok
./tests/xemulator/mcoder/proxies.t ...................... ok
./tests/xemulator/mcoder/sugar.t ........................ ok
All tests successful.
Files=121, Tests=1760,  7 wallclock secs ( 0.50 usr  0.50 sys +  2.72 cusr  0.65 csys =  4.37 CPU)
Result: PASS

------------------------------
PREREQUISITES
------------------------------

Prerequisite modules loaded:

build_requires:

    Module              Need Have   
    ------------------- ---- -------
    ExtUtils::MakeMaker 0    7.04_01


------------------------------
ENVIRONMENT AND OTHER CONTEXT
------------------------------

Environment variables:

    AUTOMATED_TESTING = 1
    LANG = en_US.UTF-8
    NONINTERACTIVE_TESTING = 1
    PATH = /home/jmaslak/perl5/perlbrew/bin:/home/jmaslak/perl5/perlbrew/perls/perl-5.23.1-thread-multi-ld/bin:/home/jmaslak/perltest/bin:/home/jmaslak/perltest/bin:/home/jmaslak/perltest/bin:/home/jmaslak/perl5/perlbrew/bin:/home/jmaslak/perl5/perlbrew/perls/perl-5.23.1/bin:/usr/local/bin:/usr/bin:/usr/local/sbin:/usr/sbin:/usr/sbin:~/perltest/bin
    PERL5LIB = 
    PERL5OPT = 
    PERL5_CPANPLUS_IS_RUNNING = 20695
    PERL5_CPAN_IS_RUNNING = 20695
    PERL5_CPAN_IS_RUNNING_IN_RECURSION = 32699,20695
    PERLBREW_BASHRC_VERSION = 0.73
    PERLBREW_HOME = /home/jmaslak/.perlbrew
    PERLBREW_LIB = 
    PERLBREW_MANPATH = /home/jmaslak/perl5/perlbrew/perls/perl-5.23.1-thread-multi-ld/man
    PERLBREW_PATH = /home/jmaslak/perl5/perlbrew/bin:/home/jmaslak/perl5/perlbrew/perls/perl-5.23.1-thread-multi-ld/bin
    PERLBREW_PERL = perl-5.23.1-thread-multi-ld
    PERLBREW_ROOT = /home/jmaslak/perl5/perlbrew
    PERLBREW_VERSION = 0.73
    PERL_CR_SMOKER_CURRENT = RDF-Simple-0.415
    PERL_EXTUTILS_AUTOINSTALL = --defaultdeps
    PERL_LOCAL_LIB_ROOT = 
    PERL_MM_USE_DEFAULT = 1
    SHELL = /bin/bash
    TERM = screen

Perl special variables (and OS-specific diagnostics, for MSWin32):

    $^X = /home/jmaslak/perl5/perlbrew/perls/perl-5.23.1-thread-multi-ld/bin/perl5.23.1
    $UID/$EUID = 1000 / 1000
    $GID = 1000 10 1000
    $EGID = 1000 10 1000

Perl module toolchain versions installed:

    Module              Have    
    ------------------- --------
    CPAN                2.11    
    CPAN::Meta          2.150005
    Cwd                 3.56    
    ExtUtils::CBuilder  0.280223
    ExtUtils::Command   1.20    
    ExtUtils::Install   2.04    
    ExtUtils::MakeMaker 7.04_01 
    ExtUtils::Manifest  1.70    
    ExtUtils::ParseXS   3.28    
    File::Spec          3.56    
    JSON                2.90    
    JSON::PP            2.27300 
    Module::Build       0.4214  
    Module::Signature   n/a     
    Parse::CPAN::Meta   1.4417  
    Test::Harness       3.35    
    Test::More          1.001014
    YAML                1.15    
    YAML::Syck          n/a     
    version             0.9909  


--

Summary of my perl5 (revision 5 version 23 subversion 1) configuration:
   
  Platform:
    osname=linux, osvers=4.1.0-x86_64-linode59, archname=x86_64-linux-thread-multi-ld
    uname='linux cpantest.antelope.net 4.1.0-x86_64-linode59 #1 smp mon jun 22 10:39:23 edt 2015 x86_64 x86_64 x86_64 gnulinux '
    config_args='-de -Dprefix=/home/jmaslak/perl5/perlbrew/perls/perl-5.23.1-thread-multi-ld -Dusethreads -Duselongdouble -Dusemultiplicity -Dusedevel -Aeval:scriptdir=/home/jmaslak/perl5/perlbrew/perls/perl-5.23.1-thread-multi-ld/bin'
    hint=recommended, useposix=true, d_sigaction=define
    useithreads=define, usemultiplicity=define
    use64bitint=define, use64bitall=define, uselongdouble=define
    usemymalloc=n, bincompat5005=undef
  Compiler:
    cc='cc', ccflags ='-D_REENTRANT -D_GNU_SOURCE -fwrapv -fno-strict-aliasing -pipe -fstack-protector-strong -I/usr/local/include -D_LARGEFILE_SOURCE -D_FILE_OFFSET_BITS=64 -D_FORTIFY_SOURCE=2',
    optimize='-O2',
    cppflags='-D_REENTRANT -D_GNU_SOURCE -fwrapv -fno-strict-aliasing -pipe -fstack-protector-strong -I/usr/local/include'
    ccversion='', gccversion='4.8.3 20140911 (Red Hat 4.8.3-9)', gccosandvers=''
    intsize=4, longsize=8, ptrsize=8, doublesize=8, byteorder=12345678, doublekind=3
    d_longlong=define, longlongsize=8, d_longdbl=define, longdblsize=16, longdblkind=3
    ivtype='long', ivsize=8, nvtype='long double', nvsize=16, Off_t='off_t', lseeksize=8
    alignbytes=16, prototype=define
  Linker and Libraries:
    ld='cc', ldflags =' -fstack-protector-strong -L/usr/local/lib'
    libpth=/usr/local/lib /usr/lib /lib/../lib64 /usr/lib/../lib64 /lib /lib64 /usr/lib64 /usr/local/lib64
    libs=-lpthread -lnsl -ldl -lm -lcrypt -lutil -lc
    perllibs=-lpthread -lnsl -ldl -lm -lcrypt -lutil -lc
    libc=libc-2.17.so, so=so, useshrplib=false, libperl=libperl.a
    gnulibc_version='2.17'
  Dynamic Linking:
    dlsrc=dl_dlopen.xs, dlext=so, d_dlsymun=undef, ccdlflags='-Wl,-E'
    cccdlflags='-fPIC', lddlflags='-shared -O2 -L/usr/local/lib -fstack-protector-strong'


Characteristics of this binary (from libperl): 
  Compile-time options: HAS_TIMES MULTIPLICITY PERLIO_LAYERS
                        PERL_COPY_ON_WRITE PERL_DONT_CREATE_GVSV
                        PERL_HASH_FUNC_ONE_AT_A_TIME_HARD
                        PERL_IMPLICIT_CONTEXT PERL_MALLOC_WRAP
                        PERL_PRESERVE_IVUV PERL_USE_DEVEL USE_64_BIT_ALL
                        USE_64_BIT_INT USE_ITHREADS USE_LARGE_FILES
                        USE_LOCALE USE_LOCALE_COLLATE USE_LOCALE_CTYPE
                        USE_LOCALE_NUMERIC USE_LOCALE_TIME USE_LONG_DOUBLE
                        USE_PERLIO USE_PERL_ATOF USE_REENTRANT_API
  Locally applied patches:
	Devel::PatchPerl 1.38
  Built under linux
  Compiled at Jul 26 2015 05:30:26
  %ENV:
    PERL5LIB=""
    PERL5OPT=""
    PERL5_CPANPLUS_IS_RUNNING="20695"
    PERL5_CPAN_IS_RUNNING="20695"
    PERL5_CPAN_IS_RUNNING_IN_RECURSION="32699,20695"
    PERLBREW_BASHRC_VERSION="0.73"
    PERLBREW_HOME="/home/jmaslak/.perlbrew"
    PERLBREW_LIB=""
    PERLBREW_MANPATH="/home/jmaslak/perl5/perlbrew/perls/perl-5.23.1-thread-multi-ld/man"
    PERLBREW_PATH="/home/jmaslak/perl5/perlbrew/bin:/home/jmaslak/perl5/perlbrew/perls/perl-5.23.1-thread-multi-ld/bin"
    PERLBREW_PERL="perl-5.23.1-thread-multi-ld"
    PERLBREW_ROOT="/home/jmaslak/perl5/perlbrew"
    PERLBREW_VERSION="0.73"
    PERL_CR_SMOKER_CURRENT="RDF-Simple-0.415"
    PERL_EXTUTILS_AUTOINSTALL="--defaultdeps"
    PERL_LOCAL_LIB_ROOT=""
    PERL_MM_USE_DEFAULT="1"
  @INC:
    /home/jmaslak/perl5/perlbrew/perls/perl-5.23.1-thread-multi-ld/lib/site_perl/5.23.1/x86_64-linux-thread-multi-ld
    /home/jmaslak/perl5/perlbrew/perls/perl-5.23.1-thread-multi-ld/lib/site_perl/5.23.1
    /home/jmaslak/perl5/perlbrew/perls/perl-5.23.1-thread-multi-ld/lib/5.23.1/x86_64-linux-thread-multi-ld
    /home/jmaslak/perl5/perlbrew/perls/perl-5.23.1-thread-multi-ld/lib/5.23.1
    .