Report for Tk-ROSyntaxText-1.001

Back
From: metabase:user:320bfe00-2aae-11df-837a-5e0a49663a4f
Subject: PASS Tk-ROSyntaxText-1.001 v5.12.2 GNU/Linux
Date: 2011-01-02T13:00:19Z

This distribution has been tested as part of the CPAN Testers
project, supporting the Perl programming language.  See
http://wiki.cpantesters.org/ for more information or email
questions to cpan-testers-discuss@perl.org


--
Dear Ken Cotterill,

This is a computer-generated report for Tk-ROSyntaxText-1.001
on perl 5.12.2, created by CPAN-Reporter-1.1803.

Thank you for uploading your work to CPAN.  Congratulations!
All tests were successful.

Sections of this report:

    * Tester comments
    * Program output
    * Prerequisites
    * Environment and other context

------------------------------
TESTER COMMENTS
------------------------------

Additional comments from tester:

none provided

------------------------------
PROGRAM OUTPUT
------------------------------

Output from './Build test':

# Testing Tk::ROSyntaxText 1.001
t/00.load.t ........... ok
t/01.instantiate.t .... ok
t/02.visual.t ......... ok
t/03.colour.t ......... ok
t/04.subs.t ........... ok
t/05.lang_C.t ......... ok
t/06.lang_SQL.t ....... ok
t/07.lang_HTML.t ...... ok
t/08.lang_XML.t ....... ok
t/09.spacing.t ........ ok
t/10.dark.t ........... ok
t/11.scroll.t ......... ok
t/12.custom.t ......... ok
t/13.darkcustom.t ..... ok
t/14.volume.t ......... ok
t/15.volume_HTML.t .... ok
t/16.customdark.t ..... ok
t/17.customdarkoff.t .. ok
t/18.customnested.t ... ok
t/19.scrollshort.t .... ok
t/perlcritic.t ........ skipped: Author test. To run: set $ENV{CPAN_TEST_AUTHOR} to a TRUE value.
t/pod-coverage.t ...... skipped: Author test. To run: set $ENV{CPAN_TEST_AUTHOR} to a TRUE value.
t/pod.t ............... skipped: Author test. To run: set $ENV{CPAN_TEST_AUTHOR} to a TRUE value.
All tests successful.
Files=23, Tests=58, 31 wallclock secs ( 0.07 usr  0.07 sys + 29.56 cusr  1.05 csys = 30.75 CPU)
Result: PASS

------------------------------
PREREQUISITES
------------------------------

Prerequisite modules loaded:

requires:

    Module                          Need Have   
    ------------------------------- ---- -------
    Syntax::Highlight::Engine::Kate 0.06 0.06   
    Test::More                      0.94 0.96   
    Tk                              0    804.029
    Tk::Derived                     0    4.011  
    Tk::ROText                      0    4.011  
    Tk::Widget                      0    4.035  

configure_requires:

    Module                          Need Have   
    ------------------------------- ---- -------
    Module::Build                   0.36 0.3607 


------------------------------
ENVIRONMENT AND OTHER CONTEXT
------------------------------

Environment variables:

    LANG = en_US.UTF-8
    PATH = /home/sand/bin:/usr/local/bin:/usr/bin:/bin:/usr/bin/X11:/usr/games:/usr/local/perl/bin:/usr/X11/bin:/sbin:/usr/sbin
    PERL5LIB = 
    PERL5OPT = 
    PERL5_CPANPLUS_IS_RUNNING = 4296
    PERL5_CPAN_IS_RUNNING = 4296
    SHELL = /usr/bin/zsh
    TERM = screen

Perl special variables (and OS-specific diagnostics, for MSWin32):

    $^X = /home/src/perl/repoperls/installed-perls/perl/v5.12.2-10-gdde47a8/bin/perl
    $UID/$EUID = 1001 / 1001
    $GID = 1001 1001
    $EGID = 1001 1001

Perl module toolchain versions installed:

    Module              Have   
    ------------------- -------
    CPAN                1.94_56
    Cwd                 3.33   
    ExtUtils::CBuilder  0.2802 
    ExtUtils::Command   1.16   
    ExtUtils::Install   1.55   
    ExtUtils::MakeMaker 6.56   
    ExtUtils::Manifest  1.58   
    ExtUtils::ParseXS   2.2206 
    File::Spec          3.33   
    Module::Build       0.3607 
    Module::Signature   0.66   
    Test::Harness       3.22   
    Test::More          0.96   
    YAML                0.72   
    YAML::Syck          1.17   
    version             0.82   


--

Summary of my perl5 (revision 5 version 12 subversion 2) configuration:
  Commit id: dde47a8726882621d7e87ff792f742a3248383d7
  Platform:
    osname=linux, osvers=2.6.32-5-xen-amd64, archname=x86_64-linux-thread-multi-ld
    uname='linux k81 2.6.32-5-xen-amd64 #1 smp thu nov 25 20:08:32 utc 2010 x86_64 gnulinux '
    config_args='-Dprefix=/home/src/perl/repoperls/installed-perls/perl/v5.12.2-10-gdde47a8 -Dinstallusrbinperl=n -Uversiononly -Dusedevel -des -Ui_db -Duseithreads -Duselongdouble'
    hint=recommended, useposix=true, d_sigaction=define
    useithreads=define, usemultiplicity=define
    useperlio=define, d_sfio=undef, uselargefiles=define, usesocks=undef
    use64bitint=define, use64bitall=define, uselongdouble=define
    usemymalloc=n, bincompat5005=undef
  Compiler:
    cc='cc', ccflags ='-D_REENTRANT -D_GNU_SOURCE -fno-strict-aliasing -pipe -fstack-protector -I/usr/local/include -D_LARGEFILE_SOURCE -D_FILE_OFFSET_BITS=64',
    optimize='-O2',
    cppflags='-D_REENTRANT -D_GNU_SOURCE -fno-strict-aliasing -pipe -fstack-protector -I/usr/local/include'
    ccversion='', gccversion='4.4.5', gccosandvers=''
    intsize=4, longsize=8, ptrsize=8, doublesize=8, byteorder=12345678
    d_longlong=define, longlongsize=8, d_longdbl=define, longdblsize=16
    ivtype='long', ivsize=8, nvtype='long double', nvsize=16, Off_t='off_t', lseeksize=8
    alignbytes=16, prototype=define
  Linker and Libraries:
    ld='cc', ldflags =' -fstack-protector -L/usr/local/lib'
    libpth=/usr/local/lib /lib /usr/lib /lib64 /usr/lib64
    libs=-lnsl -lgdbm -ldb -ldl -lm -lcrypt -lutil -lpthread -lc -lgdbm_compat
    perllibs=-lnsl -ldl -lm -lcrypt -lutil -lpthread -lc
    libc=/lib/libc-2.11.2.so, so=so, useshrplib=false, libperl=libperl.a
    gnulibc_version='2.11.2'
  Dynamic Linking:
    dlsrc=dl_dlopen.xs, dlext=so, d_dlsymun=undef, ccdlflags='-Wl,-E'
    cccdlflags='-fPIC', lddlflags='-shared -O2 -L/usr/local/lib -fstack-protector'


Characteristics of this binary (from libperl): 
  Compile-time options: MULTIPLICITY PERL_DONT_CREATE_GVSV
                        PERL_IMPLICIT_CONTEXT PERL_MALLOC_WRAP PERL_USE_DEVEL
                        USE_64_BIT_ALL USE_64_BIT_INT USE_ITHREADS
                        USE_LARGE_FILES USE_LONG_DOUBLE USE_PERLIO
                        USE_PERL_ATOF USE_REENTRANT_API
  Built under linux
  Compiled at Jan  1 2011 19:54:37
  %ENV:
    PERL5LIB=""
    PERL5OPT=""
    PERL5_CPANPLUS_IS_RUNNING="4296"
    PERL5_CPAN_IS_RUNNING="4296"
  @INC:
    /home/src/perl/repoperls/installed-perls/perl/v5.12.2-10-gdde47a8/lib/site_perl/5.12.2/x86_64-linux-thread-multi-ld
    /home/src/perl/repoperls/installed-perls/perl/v5.12.2-10-gdde47a8/lib/site_perl/5.12.2
    /home/src/perl/repoperls/installed-perls/perl/v5.12.2-10-gdde47a8/lib/5.12.2/x86_64-linux-thread-multi-ld
    /home/src/perl/repoperls/installed-perls/perl/v5.12.2-10-gdde47a8/lib/5.12.2
    .