Report for Text-MacroScript-2.10_03

Back
From: metabase:user:320bfe00-2aae-11df-837a-5e0a49663a4f
Subject: PASS Text-MacroScript-2.10_03 v5.22.0 GNU/Linux
Date: 2015-07-31T00:36:59Z

This distribution has been tested as part of the CPAN Testers
project, supporting the Perl programming language.  See
http://wiki.cpantesters.org/ for more information or email
questions to cpan-testers-discuss@perl.org


--
Dear Paulo Custodio,

This is a computer-generated report for Text-MacroScript-2.10_03
on perl 5.22.0, created by CPAN-Reporter-1.2014.

Thank you for uploading your work to CPAN.  Congratulations!
All tests were successful.

Sections of this report:

    * Tester comments
    * Program output
    * Prerequisites
    * Environment and other context

------------------------------
TESTER COMMENTS
------------------------------

Additional comments from tester:

this report is from an automated smoke testing program
and was not reviewed by a human for accuracy

------------------------------
PROGRAM OUTPUT
------------------------------

Output from '/usr/bin/make test':

PERL_DL_NONLAZY=1 "/home/sand/src/perl/repoperls/installed-perls/perl/v5.22.0/9ab7/bin/perl" "-MExtUtils::Command::MM" "-MTest::Harness" "-e" "undef *Test::Harness::Switches; test_harness(0, 'blib/lib', 'blib/arch')" t/*.t
	(in cleanup) Can't call method "start_line_nr" on an undefined value at /tmp/loop_over_bdir-1214-PO36AY/Text-MacroScript-2.10_03-2E49Up/blib/lib/Text/MacroScript.pm line 226 during global destruction.
	(in cleanup) Can't call method "start_line_nr" on an undefined value at /tmp/loop_over_bdir-1214-PO36AY/Text-MacroScript-2.10_03-2E49Up/blib/lib/Text/MacroScript.pm line 226 during global destruction.
	(in cleanup) Can't call method "start_line_nr" on an undefined value at /tmp/loop_over_bdir-1214-PO36AY/Text-MacroScript-2.10_03-2E49Up/blib/lib/Text/MacroScript.pm line 226 during global destruction.
	(in cleanup) Can't call method "start_line_nr" on an undefined value at /tmp/loop_over_bdir-1214-PO36AY/Text-MacroScript-2.10_03-2E49Up/blib/lib/Text/MacroScript.pm line 226 during global destruction.
	(in cleanup) Can't call method "start_line_nr" on an undefined value at /tmp/loop_over_bdir-1214-PO36AY/Text-MacroScript-2.10_03-2E49Up/blib/lib/Text/MacroScript.pm line 226 during global destruction.
	(in cleanup) Can't call method "start_line_nr" on an undefined value at /tmp/loop_over_bdir-1214-PO36AY/Text-MacroScript-2.10_03-2E49Up/blib/lib/Text/MacroScript.pm line 226 during global destruction.
	(in cleanup) Can't call method "start_line_nr" on an undefined value at /tmp/loop_over_bdir-1214-PO36AY/Text-MacroScript-2.10_03-2E49Up/blib/lib/Text/MacroScript.pm line 226 during global destruction.
	(in cleanup) Can't call method "start_line_nr" on an undefined value at /tmp/loop_over_bdir-1214-PO36AY/Text-MacroScript-2.10_03-2E49Up/blib/lib/Text/MacroScript.pm line 226 during global destruction.
t/expand_file.t ................ ok
t/fix_002.t .................... ok
t/fix_003.t .................... ok
t/fix_004.t .................... ok
t/fix_007.t .................... ok
t/fix_027.t .................... ok
t/fix_028_037.t ................ ok
t/fix_038.t .................... ok
t/fix_039.t .................... ok
t/fix_040.t .................... ok
t/fix_041.t .................... ok
t/fix_046.t .................... ok
t/fix_048.t .................... ok
t/fix_049.t .................... ok
t/fix_063.t .................... ok
# Issue #10: macrodir always in embedded mode, ignoring -p option
# Issue #10: macrodir always in embedded mode, ignoring -p option
# Issue #10: macrodir always in embedded mode, ignoring -p option
# Issue #10: macrodir always in embedded mode, ignoring -p option
# Issue #10: macrodir always in embedded mode, ignoring -p option
# Issue #10: macrodir always in embedded mode, ignoring -p option
# Issue #10: macrodir always in embedded mode, ignoring -p option
# Issue #10: macrodir always in embedded mode, ignoring -p option
# Issue #10: macrodir always in embedded mode, ignoring -p option
# Issue #9: macrodir -d: does not replicate source tree in target directory
# Issue #10: macrodir always in embedded mode, ignoring -p option
# Issue #10: macrodir always in embedded mode, ignoring -p option
# Issue #10: macrodir always in embedded mode, ignoring -p option
# Issue #10: macrodir always in embedded mode, ignoring -p option
# Issue #10: macrodir always in embedded mode, ignoring -p option
# Issue #10: macrodir always in embedded mode, ignoring -p option
# Issue #10: macrodir always in embedded mode, ignoring -p option
# Issue #10: macrodir always in embedded mode, ignoring -p option
# Issue #10: macrodir always in embedded mode, ignoring -p option
# Issue #10: macrodir always in embedded mode, ignoring -p option
t/macrodir.t ................... ok
# Issue #23: macropp: report errors on syntax error
# Issue #23: macropp: report errors on syntax error
t/macropp.t .................... ok
# Issue #1: expansion depends on size of macro name
# Issue #1: expansion depends on size of macro name
t/macros.t ..................... ok
t/macroscript.t ................ ok
t/new.t ........................ ok
	(in cleanup) Error at file - line 1: Unbalanced open structure at end of file
t/new_case.t ................... ok
t/new_comment.t ................ ok
	(in cleanup) Can't call method "start_line_nr" on an undefined value at /tmp/loop_over_bdir-1214-PO36AY/Text-MacroScript-2.10_03-2E49Up/blib/lib/Text/MacroScript.pm line 226 during global destruction.
	(in cleanup) Can't call method "start_line_nr" on an undefined value at /tmp/loop_over_bdir-1214-PO36AY/Text-MacroScript-2.10_03-2E49Up/blib/lib/Text/MacroScript.pm line 226 during global destruction.
t/new_define_macro.t ........... ok
	(in cleanup) Can't call method "start_line_nr" on an undefined value at /tmp/loop_over_bdir-1214-PO36AY/Text-MacroScript-2.10_03-2E49Up/blib/lib/Text/MacroScript.pm line 226 during global destruction.
	(in cleanup) Can't call method "start_line_nr" on an undefined value at /tmp/loop_over_bdir-1214-PO36AY/Text-MacroScript-2.10_03-2E49Up/blib/lib/Text/MacroScript.pm line 226 during global destruction.
t/new_define_script.t .......... ok
	(in cleanup) Can't call method "start_line_nr" on an undefined value at /tmp/loop_over_bdir-1214-PO36AY/Text-MacroScript-2.10_03-2E49Up/blib/lib/Text/MacroScript.pm line 226 during global destruction.
t/new_define_variable.t ........ ok
t/new_embedded.t ............... ok
t/new_escapes.t ................ ok
t/new_expand_file.t ............ ok
t/new_list_macro.t ............. ok
t/new_list_script.t ............ ok
t/new_list_variable.t .......... ok
t/new_load_file.t .............. ok
t/new_require.t ................ ok
t/new_undefine_all_macro.t ..... ok
t/new_undefine_all_script.t .... ok
t/new_undefine_all_variable.t .. ok
t/new_undefine_macro.t ......... ok
t/new_undefine_script.t ........ ok
t/new_undefine_variable.t ...... ok
# Issue #7: expansion depends on size of script name
t/scripts.t .................... ok
t/variables.t .................. ok
All tests successful.
Files=41, Tests=1128, 24 wallclock secs ( 0.18 usr  0.26 sys +  7.74 cusr  1.82 csys = 10.00 CPU)
Result: PASS

------------------------------
PREREQUISITES
------------------------------

Prerequisite modules loaded:

requires:

    Module              Need     Have        
    ------------------- -------- ------------
    Capture::Tiny       0.22     0.30        
    enum                1.1      1.10        
    Object::Tiny::RW    1.07     1.07        
    Path::Tiny          0.068    0.071       
    perl                5.01     5.022000    
    Test::Differences   0.61     0.63        
    Test::More          1.001014 1.302007_004

build_requires:

    Module              Need     Have        
    ------------------- -------- ------------
    ExtUtils::MakeMaker 0        7.05_25     

configure_requires:

    Module              Need     Have        
    ------------------- -------- ------------
    ExtUtils::MakeMaker 0        7.05_25     


------------------------------
ENVIRONMENT AND OTHER CONTEXT
------------------------------

Environment variables:

    AUTOMATED_TESTING = 1
    LANG = en_US.UTF-8
    LANGUAGE = en_US:en
    PATH = /home/sand/bin:/usr/local/bin:/usr/bin:/bin:/usr/games:/usr/local/perl/bin:/usr/X11/bin:/sbin:/usr/sbin
    PERL5LIB = 
    PERL5OPT = 
    PERL5_CPANPLUS_IS_RUNNING = 1216
    PERL5_CPAN_IS_RUNNING = 1216
    PERL_MM_USE_DEFAULT = 1
    SHELL = /usr/bin/zsh
    TERM = screen

Perl special variables (and OS-specific diagnostics, for MSWin32):

    $^X = /home/sand/src/perl/repoperls/installed-perls/perl/v5.22.0/9ab7/bin/perl
    $UID/$EUID = 1005 / 1005
    $GID = 1005 1005
    $EGID = 1005 1005

Perl module toolchain versions installed:

    Module              Have        
    ------------------- ------------
    CPAN                2.11        
    CPAN::Meta          2.150005    
    Cwd                 3.56_02     
    ExtUtils::CBuilder  0.280223    
    ExtUtils::Command   7.05_25     
    ExtUtils::Install   2.04        
    ExtUtils::MakeMaker 7.05_25     
    ExtUtils::Manifest  1.70        
    ExtUtils::ParseXS   3.28        
    File::Spec          3.56_02     
    JSON                2.90        
    JSON::PP            2.27300     
    Module::Build       0.4214      
    Module::Signature   0.79        
    Parse::CPAN::Meta   1.4417      
    Test::Harness       3.35        
    Test::More          1.302007_004
    YAML                1.15        
    YAML::Syck          1.29        
    version             0.9912      


--

Summary of my perl5 (revision 5 version 22 subversion 0) configuration:
  Commit id: 70f63a4c7dba89e8e48b44de7978faae4319e693
  Platform:
    osname=linux, osvers=4.0.0-2-amd64, archname=x86_64-linux
    uname='linux k83 4.0.0-2-amd64 #1 smp debian 4.0.5-1 (2015-06-16) x86_64 gnulinux '
    config_args='-Dprefix=/home/sand/src/perl/repoperls/installed-perls/perl/v5.22.0/9ab7 -Dmyhostname=k83 -Dinstallusrbinperl=n -Uversiononly -Dusedevel -des -Ui_db -Uuseithreads -Uuselongdouble'
    hint=recommended, useposix=true, d_sigaction=define
    useithreads=undef, usemultiplicity=undef
    use64bitint=define, use64bitall=define, uselongdouble=undef
    usemymalloc=n, bincompat5005=undef
  Compiler:
    cc='cc', ccflags ='-fwrapv -fno-strict-aliasing -pipe -fstack-protector-strong -I/usr/local/include -D_LARGEFILE_SOURCE -D_FILE_OFFSET_BITS=64 -D_FORTIFY_SOURCE=2',
    optimize='-O2',
    cppflags='-fwrapv -fno-strict-aliasing -pipe -fstack-protector-strong -I/usr/local/include'
    ccversion='', gccversion='4.9.2', gccosandvers=''
    intsize=4, longsize=8, ptrsize=8, doublesize=8, byteorder=12345678, doublekind=3
    d_longlong=define, longlongsize=8, d_longdbl=define, longdblsize=16, longdblkind=3
    ivtype='long', ivsize=8, nvtype='double', nvsize=8, Off_t='off_t', lseeksize=8
    alignbytes=8, prototype=define
  Linker and Libraries:
    ld='cc', ldflags =' -fstack-protector-strong -L/usr/local/lib'
    libpth=/usr/local/lib /usr/lib/gcc/x86_64-linux-gnu/4.9/include-fixed /usr/include/x86_64-linux-gnu /usr/lib /lib/x86_64-linux-gnu /lib/../lib /usr/lib/x86_64-linux-gnu /usr/lib/../lib /lib
    libs=-lpthread -lnsl -lgdbm -ldb -ldl -lm -lcrypt -lutil -lc -lgdbm_compat
    perllibs=-lpthread -lnsl -ldl -lm -lcrypt -lutil -lc
    libc=libc-2.19.so, so=so, useshrplib=false, libperl=libperl.a
    gnulibc_version='2.19'
  Dynamic Linking:
    dlsrc=dl_dlopen.xs, dlext=so, d_dlsymun=undef, ccdlflags='-Wl,-E'
    cccdlflags='-fPIC', lddlflags='-shared -O2 -L/usr/local/lib -fstack-protector-strong'


Characteristics of this binary (from libperl): 
  Compile-time options: HAS_TIMES PERLIO_LAYERS PERL_DONT_CREATE_GVSV
                        PERL_HASH_FUNC_ONE_AT_A_TIME_HARD PERL_MALLOC_WRAP
                        PERL_NEW_COPY_ON_WRITE PERL_PRESERVE_IVUV
                        PERL_USE_DEVEL USE_64_BIT_ALL USE_64_BIT_INT
                        USE_LARGE_FILES USE_LOCALE USE_LOCALE_COLLATE
                        USE_LOCALE_CTYPE USE_LOCALE_NUMERIC USE_LOCALE_TIME
                        USE_PERLIO USE_PERL_ATOF
  Built under linux
  Compiled at Jun 30 2015 01:17:09
  %ENV:
    PERL5LIB=""
    PERL5OPT=""
    PERL5_CPANPLUS_IS_RUNNING="1216"
    PERL5_CPAN_IS_RUNNING="1216"
    PERL_MM_USE_DEFAULT="1"
  @INC:
    /home/sand/src/perl/repoperls/installed-perls/perl/v5.22.0/9ab7/lib/site_perl/5.22.0/x86_64-linux
    /home/sand/src/perl/repoperls/installed-perls/perl/v5.22.0/9ab7/lib/site_perl/5.22.0
    /home/sand/src/perl/repoperls/installed-perls/perl/v5.22.0/9ab7/lib/5.22.0/x86_64-linux
    /home/sand/src/perl/repoperls/installed-perls/perl/v5.22.0/9ab7/lib/5.22.0
    .