Back
From: metabase:user:320bfe00-2aae-11df-837a-5e0a49663a4f
Subject: PASS Log-Any-Adapter-Syslog-1.3 v5.15.2 GNU/Linux
Date: 2011-09-06T05:08:26Z
This distribution has been tested as part of the CPAN Testers
project, supporting the Perl programming language. See
http://wiki.cpantesters.org/ for more information or email
questions to cpan-testers-discuss@perl.org
--
Dear Stephen Thirlwall,
This is a computer-generated report for Log-Any-Adapter-Syslog-1.3
on perl 5.15.2, created by CPAN-Reporter-1.1902.
Thank you for uploading your work to CPAN. Congratulations!
All tests were successful.
Sections of this report:
* Tester comments
* Program output
* Prerequisites
* Environment and other context
------------------------------
TESTER COMMENTS
------------------------------
Additional comments from tester:
this report is from an automated smoke testing program
and was not reviewed by a human for accuracy
------------------------------
PROGRAM OUTPUT
------------------------------
Output from '/usr/bin/make test':
PERL_DL_NONLAZY=1 /home/sand/src/perl/repoperls/installed-perls/perl/v5.15.2-221-gad66d0c/1df5/bin/perl "-MExtUtils::Command::MM" "-e" "test_harness(0, 'blib/lib', 'blib/arch')" t/*.t t/options/*.t
t/00-compile.t ................ ok
#
#
# perl: v5.15.2 (wanted any version) on linux from /home/sand/src/perl/repoperls/installed-perls/perl/v5.15.2-221-gad66d0c/1df5/bin/perl
#
# Carp => 1.22 (want any version)
# ExtUtils::MakeMaker => 6.59 (want 6.30)
# File::Basename => 2.83 (want any version)
# File::Find => 1.20 (want any version)
# File::Temp => 0.22 (want any version)
# Log::Any => 0.14 (want any version)
# Log::Any::Adapter => 0.03 (want any version)
# Log::Any::Adapter::Base => <undef> (want any version)
# Log::Any::Adapter::Util => <undef> (want any version)
# Test::Exception => 0.31 (want any version)
# Test::MockModule => 0.05 (want any version)
# Test::More => 0.98 (want 0.88)
# Test::Warn => 0.23 (want any version)
# Unix::Syslog => 1.1 (want any version)
# base => 2.17 (want any version)
# strict => 1.04 (want any version)
# vars => 1.02 (want any version)
# warnings => 1.12 (want any version)
#
# Thanks for using my code. I hope it works for you.
# If not, please try and include this output in the bug report.
# That will help me reproduce the issue and solve you problem.
#
t/000-report-versions-tiny.t .. ok
t/options/defaults.t .......... ok
t/options/facility.t .......... ok
t/options/name.t .............. ok
t/options/options.t ........... ok
t/reinit.t .................... ok
t/release-distmeta.t .......... skipped: these tests are for release candidate testing
t/release-has-version.t ....... skipped: these tests are for release candidate testing
t/release-minimum-version.t ... skipped: these tests are for release candidate testing
t/release-pod-syntax.t ........ skipped: these tests are for release candidate testing
t/release-portability.t ....... skipped: these tests are for release candidate testing
t/release-synopsis.t .......... skipped: these tests are for release candidate testing
t/release-unused-vars.t ....... skipped: these tests are for release candidate testing
t/write-logs.t ................ ok
All tests successful.
Files=15, Tests=44, 1 wallclock secs ( 0.07 usr 0.09 sys + 0.54 cusr 0.26 csys = 0.96 CPU)
Result: PASS
------------------------------
PREREQUISITES
------------------------------
Prerequisite modules loaded:
requires:
Module Need Have
----------------------- ---- ----
base 0 2.17
Carp 0 1.22
File::Basename 0 2.83
Log::Any::Adapter::Base 0 0
Log::Any::Adapter::Util 0 0
strict 0 1.04
Unix::Syslog 0 1.1
warnings 0 1.12
build_requires:
Module Need Have
----------------------- ---- ----
File::Find 0 1.20
File::Temp 0 0.22
Log::Any 0 0.14
Log::Any::Adapter 0 0.03
Test::Exception 0 0.31
Test::MockModule 0 0.05
Test::More 0.88 0.98
Test::Warn 0 0.23
vars 0 1.02
configure_requires:
Module Need Have
----------------------- ---- ----
ExtUtils::MakeMaker 6.30 6.59
------------------------------
ENVIRONMENT AND OTHER CONTEXT
------------------------------
Environment variables:
AUTOMATED_TESTING = 1
LANG = en_US.UTF-8
LANGUAGE = en_US:en
PATH = /usr/lib/ccache:/home/sand/bin:/usr/local/bin:/usr/bin:/bin:/usr/bin/X11:/usr/games:/usr/local/perl/bin:/usr/X11/bin:/sbin:/usr/sbin
PERL5LIB =
PERL5OPT =
PERL5_CPANPLUS_IS_RUNNING = 9027
PERL5_CPAN_IS_RUNNING = 9027
PERL_MM_USE_DEFAULT = 1
SHELL = /usr/bin/zsh
TERM = screen
Perl special variables (and OS-specific diagnostics, for MSWin32):
$^X = /home/sand/src/perl/repoperls/installed-perls/perl/v5.15.2-221-gad66d0c/1df5/bin/perl
$UID/$EUID = 1001 / 1001
$GID = 1001 1001
$EGID = 1001 1001
Perl module toolchain versions installed:
Module Have
------------------- --------
CPAN 1.9800
Cwd 3.37
ExtUtils::CBuilder 0.280204
ExtUtils::Command 1.17
ExtUtils::Install 1.57
ExtUtils::MakeMaker 6.59
ExtUtils::Manifest 1.60
ExtUtils::ParseXS 3.04_03
File::Spec 3.34
Module::Build 0.39_01
Module::Signature n/a
Test::Harness 3.23
Test::More 0.98
YAML 0.73
YAML::Syck n/a
version 0.94
--
Summary of my perl5 (revision 5 version 15 subversion 2) configuration:
Commit id: ad66d0c9a62d4dfd3104dc78e5ed404470286bb6
Platform:
osname=linux, osvers=3.0.0-1-amd64, archname=x86_64-linux
uname='linux k81 3.0.0-1-amd64 #1 smp sat aug 27 16:21:11 utc 2011 x86_64 gnulinux '
config_args='-Dprefix=/home/src/perl/repoperls/installed-perls/perl/v5.15.2-221-gad66d0c/1df5 -Dinstallusrbinperl=n -Uversiononly -Dusedevel -des -Ui_db -Uuseithreads -Uuselongdouble -DDEBUGGING=-g'
hint=recommended, useposix=true, d_sigaction=define
useithreads=undef, usemultiplicity=undef
useperlio=define, d_sfio=undef, uselargefiles=define, usesocks=undef
use64bitint=define, use64bitall=define, uselongdouble=undef
usemymalloc=n, bincompat5005=undef
Compiler:
cc='cc', ccflags ='-fno-strict-aliasing -pipe -fstack-protector -I/usr/local/include -D_LARGEFILE_SOURCE -D_FILE_OFFSET_BITS=64',
optimize='-O2 -g',
cppflags='-fno-strict-aliasing -pipe -fstack-protector -I/usr/local/include'
ccversion='', gccversion='4.6.1', gccosandvers=''
intsize=4, longsize=8, ptrsize=8, doublesize=8, byteorder=12345678
d_longlong=define, longlongsize=8, d_longdbl=define, longdblsize=16
ivtype='long', ivsize=8, nvtype='double', nvsize=8, Off_t='off_t', lseeksize=8
alignbytes=8, prototype=define
Linker and Libraries:
ld='cc', ldflags =' -fstack-protector -L/usr/local/lib'
libpth=/usr/local/lib /lib/x86_64-linux-gnu /usr/lib/x86_64-linux-gnu /lib /usr/lib /lib64 /usr/lib64
libs=-lnsl -ldb -ldl -lm -lcrypt -lutil -lc
perllibs=-lnsl -ldl -lm -lcrypt -lutil -lc
libc=, so=so, useshrplib=false, libperl=libperl.a
gnulibc_version='2.13'
Dynamic Linking:
dlsrc=dl_dlopen.xs, dlext=so, d_dlsymun=undef, ccdlflags='-Wl,-E'
cccdlflags='-fPIC', lddlflags='-shared -O2 -g -L/usr/local/lib -fstack-protector'
Characteristics of this binary (from libperl):
Compile-time options: HAS_TIMES PERLIO_LAYERS PERL_DONT_CREATE_GVSV
PERL_MALLOC_WRAP PERL_PRESERVE_IVUV PERL_USE_DEVEL
USE_64_BIT_ALL USE_64_BIT_INT USE_LARGE_FILES
USE_LOCALE USE_LOCALE_COLLATE USE_LOCALE_CTYPE
USE_LOCALE_NUMERIC USE_PERLIO USE_PERL_ATOF
Built under linux
Compiled at Sep 2 2011 00:03:09
%ENV:
PERL5LIB=""
PERL5OPT=""
PERL5_CPANPLUS_IS_RUNNING="9027"
PERL5_CPAN_IS_RUNNING="9027"
PERL_MM_USE_DEFAULT="1"
@INC:
/home/src/perl/repoperls/installed-perls/perl/v5.15.2-221-gad66d0c/1df5/lib/site_perl/5.15.2/x86_64-linux
/home/src/perl/repoperls/installed-perls/perl/v5.15.2-221-gad66d0c/1df5/lib/site_perl/5.15.2
/home/src/perl/repoperls/installed-perls/perl/v5.15.2-221-gad66d0c/1df5/lib/5.15.2/x86_64-linux
/home/src/perl/repoperls/installed-perls/perl/v5.15.2-221-gad66d0c/1df5/lib/5.15.2
.