HTTP-Request-Generator v0.05 Perl 5 v5.26.1 MSWin32-x86-multi-thread-64int

Status
Pass
From
Alexandr Ciornii (CHORNY)
Dist
HTTP-Request-Generator v0.05
Platform
Perl 5 v5.26.1 MSWin32-x86-multi-thread-64int
Date
2018-12-20 07:14:14
ID
40ea6d8e-6bf4-1014-9911-ea0d3e4ab88c
This distribution has been tested as part of the CPAN Testers
project, supporting the Perl programming language.  See
http://wiki.cpantesters.org/ for more information or email
questions to cpan-testers-discuss@perl.org


--
Dear Max Maischein,

This is a computer-generated report for HTTP-Request-Generator-0.05
on perl 5.26.1, created by CPAN-Reporter-1.2018.

Thank you for uploading your work to CPAN.  Congratulations!
All tests were successful.

Sections of this report:

    * Tester comments
    * Program output
    * Prerequisites
    * Environment and other context

------------------------------
TESTER COMMENTS
------------------------------

Additional comments from tester:

this report is from an automated smoke testing program
and was not reviewed by a human for accuracy

------------------------------
PROGRAM OUTPUT
------------------------------

Output from 'C:\STRAWB~1\c\bin\gmake.exe test':

"C:\Strawberry261\perl\bin\perl.exe" "-MExtUtils::Command::MM" "-MTest::Harness" "-e" "undef *Test::Harness::Switches; test_harness(0, 'blib\lib', 'blib\arch')" t/00-load.t t/02-http-generator.t t/03-wrap-http-request.t t/03-wrap-plack.t t/03-wrap.t t/04-url-expansion.t
# Testing HTTP::Request::Generator 0.05, Perl 5.026001
# Algorithm::Loops 1.032
# Carp 1.42
# Config 5.026001
# Cwd 3.74
# DynaLoader 1.42
# Encode 2.97
# Encode::Alias 2.24
# Encode::Byte 2.04
# Encode::Config 2.05
# Encode::Encoding 2.08
# Encode::MIME::Name 1.03
# Exporter 5.72
# Exporter::Heavy 5.72
# Exporter::Tiny 1.000000
# ExtUtils::Liblist 7.34
# ExtUtils::Liblist::Kid 7.34
# ExtUtils::MM 7.34
# ExtUtils::MM_Any 7.34
# ExtUtils::MM_Unix 7.34
# ExtUtils::MM_Win32 7.34
# ExtUtils::MY 7.34
# ExtUtils::MakeMaker 7.34
# ExtUtils::MakeMaker::Config 7.34
# ExtUtils::MakeMaker::Locale 7.34
# ExtUtils::MakeMaker::version 7.34
# Fcntl 1.13
# File::Basename 2.85
# File::Glob 1.28
# File::Path 2.15
# File::Spec 3.74
# File::Spec::Unix 3.74
# File::Spec::Win32 3.74
# Filter::Simple 0.94
# Filter::Util::Call 1.58
# Filter::signatures 0.15
# HTTP::Request::Generator 0.05
# IO 1.38
# IO::Handle 1.36
# List::MoreUtils 0.428
# List::MoreUtils::PP 0.428
# List::MoreUtils::XS 0.428
# List::Util 1.5
# POSIX 1.76
# PerlIO 1.10
# Scalar::Util 1.5
# SelectSaver 1.02
# SelfLoader 1.24
# Storable 2.62
# Symbol 1.08
# Test::Builder 1.302135
# Test::Builder::Formatter 1.302135
# Test::Builder::Module 1.302135
# Test::Builder::TodoDiag 1.302135
# Test::More 1.302135
# Test2::API 1.302135
# Test2::API::Context 1.302135
# Test2::API::Instance 1.302135
# Test2::API::Stack 1.302135
# Test2::Event 1.302135
# Test2::Event::Bail 1.302135
# Test2::Event::Diag 1.302135
# Test2::Event::Exception 1.302135
# Test2::Event::Fail 1.302135
# Test2::Event::Note 1.302135
# Test2::Event::Ok 1.302135
# Test2::Event::Pass 1.302135
# Test2::Event::Plan 1.302135
# Test2::Event::Skip 1.302135
# Test2::Event::Subtest 1.302135
# Test2::Event::V2 1.302135
# Test2::Event::Waiting 1.302135
# Test2::EventFacet 1.302135
# Test2::EventFacet::About 1.302135
# Test2::EventFacet::Amnesty 1.302135
# Test2::EventFacet::Assert 1.302135
# Test2::EventFacet::Control 1.302135
# Test2::EventFacet::Error 1.302135
# Test2::EventFacet::Hub 1.302135
# Test2::EventFacet::Info 1.302135
# Test2::EventFacet::Meta 1.302135
# Test2::EventFacet::Parent 1.302135
# Test2::EventFacet::Plan 1.302135
# Test2::EventFacet::Trace 1.302135
# Test2::Formatter 1.302135
# Test2::Formatter::TAP 1.302135
# Test2::Hub 1.302135
# Test2::Hub::Interceptor 1.302135
# Test2::Hub::Interceptor::Terminator 1.302135
# Test2::Hub::Subtest 1.302135
# Test2::Util 1.302135
# Test2::Util::ExternalMeta 1.302135
# Test2::Util::Facets2Legacy 1.302135
# Test2::Util::HashBase 1.302135
# Test2::Util::Trace 1.302135
# Text::Balanced 2.03
# Tie::Hash 1.05
# URI 1.73
# URI::Escape 3.31
# Win32 0.52
# XSLoader 0.27
# base 2.26
# bytes 1.05
# constant 1.33
# feature 1.47
# mro 1.20
# overload 1.28
# overloading 0.02
# parent 0.236
# re 0.34
# strict 1.11
# vars 1.03
# version 0.9918
# version::regex 0.9918
# version::vxs 0.9918
# warnings 1.37
# warnings::register 1.04
t/00-load.t ............... ok
t/02-http-generator.t ..... ok
t/03-wrap-http-request.t .. ok
t/03-wrap-plack.t ......... ok
t/03-wrap.t ............... ok
t/04-url-expansion.t ...... ok
All tests successful.
Files=6, Tests=58,  8 wallclock secs ( 0.17 usr +  0.03 sys =  0.20 CPU)
Result: PASS

------------------------------
PREREQUISITES
------------------------------

Prerequisite modules loaded:

requires:

    Module              Need  Have    
    ------------------- ----- --------
    Algorithm::Loops    0     1.032   
    Carp                0     1.42    
    Exporter            5     5.72    
    Filter::signatures  0     0.15    
    List::MoreUtils     0     0.428   
    perl                5.006 5.026001
    URI                 0     1.73    
    URI::Escape         0     3.31    

build_requires:

    Module              Need  Have    
    ------------------- ----- --------
    Data::Dumper        0     2.167   
    ExtUtils::MakeMaker 0     7.34    
    Test::More          0     1.302135

configure_requires:

    Module              Need  Have    
    ------------------- ----- --------
    ExtUtils::MakeMaker 0     7.34    


------------------------------
ENVIRONMENT AND OTHER CONTEXT
------------------------------

Environment variables:

    AUTOMATED_TESTING = 1
    COMSPEC = C:\WINDOWS\system32\cmd.exe
    NUMBER_OF_PROCESSORS = 1
    PATH = C:\WINDOWS\system32;C:\WINDOWS;C:\WINDOWS\System32\Wbem;C:\Git\cmd;C:\Strawberry261\c\bin;C:\Strawberry261\perl\site\bin;C:\Strawberry261\perl\bin
    PERL5LIB = C:\STRAWB~1\cpan\build\Filter-signatures-0.15-0/blib/arch;C:\STRAWB~1\cpan\build\Filter-signatures-0.15-0/blib/lib;C:\STRAWB~1\cpan\build\Algorithm-Loops-1.032-0/blib/arch;C:\STRAWB~1\cpan\build\Algorithm-Loops-1.032-0/blib/lib
    PERL5OPT = 
    PERL5_CPANPLUS_IS_RUNNING = 240
    PERL5_CPAN_IS_RUNNING = 240
    PERL5_CPAN_IS_RUNNING_IN_RECURSION = 1220,240
    PERL_CR_SMOKER_CURRENT = HTTP-Request-Generator-0.05
    PERL_CR_SMOKER_RUNONCE = 1
    PERL_EXTUTILS_AUTOINSTALL = --defaultdeps
    PERL_HASH_SEED = 0x11111111
    PERL_MM_USE_DEFAULT = 1
    PERL_USE_UNSAFE_INC = 1
    PROCESSOR_IDENTIFIER = x86 Family 16 Model 5 Stepping 3, AuthenticAMD
    TEMP = C:\DOCUME~1\a\LOCALS~1\Temp

Perl special variables (and OS-specific diagnostics, for MSWin32):

    $^X = C:\Strawberry261\perl\bin\perl.exe
    $UID/$EUID = 0 / 0
    $GID = 0
    $EGID = 0
    Win32::GetOSName = WinXP/.Net
    Win32::GetOSVersion = Service Pack 3, 5, 1, 2600, 2, 3, 0, 256, 1
    Win32::FsType = NTFS
    Win32::IsAdminUser = 1

Perl module toolchain versions installed:

    Module              Have    
    ------------------- --------
    CPAN                2.18    
    CPAN::Meta          2.150010
    Cwd                 3.74    
    ExtUtils::CBuilder  0.280230
    ExtUtils::Command   7.34    
    ExtUtils::Install   2.14    
    ExtUtils::MakeMaker 7.34    
    ExtUtils::Manifest  1.70    
    ExtUtils::ParseXS   3.35    
    File::Spec          3.74    
    JSON                2.97001 
    JSON::PP            2.97001 
    Module::Build       0.4224  
    Module::Signature   0.81    
    Parse::CPAN::Meta   2.150010
    Test::Harness       3.42    
    Test::More          1.302135
    YAML                1.24    
    YAML::Syck          1.30    
    version             0.9918  


--

Summary of my perl5 (revision 5 version 26 subversion 1) configuration:
   
  Platform:
    osname=MSWin32
    osvers=4.0
    archname=MSWin32-x86-multi-thread-64int
    uname='Win32 strawberry-perl 5.26.1.1 #1 Mon Apr  2 23:57:52 2018 i386'
    config_args='undef'
    hint=recommended
    useposix=true
    d_sigaction=undef
    useithreads=define
    usemultiplicity=define
    use64bitint=define
    use64bitall=undef
    uselongdouble=undef
    usemymalloc=n
    default_inc_excludes_dot=define
    bincompat5005=undef
  Compiler:
    cc='gcc'
    ccflags =' -s -O2 -DWIN32 -D__USE_MINGW_ANSI_STDIO -DPERL_TEXTMODE_SCRIPTS -DPERL_IMPLICIT_CONTEXT -DPERL_IMPLICIT_SYS -DUSE_PERLIO -fwrapv -fno-strict-aliasing -mms-bitfields'
    optimize='-s -O2'
    cppflags='-DWIN32'
    ccversion=''
    gccversion='7.1.0'
    gccosandvers=''
    intsize=4
    longsize=4
    ptrsize=4
    doublesize=8
    byteorder=12345678
    doublekind=3
    d_longlong=define
    longlongsize=8
    d_longdbl=define
    longdblsize=12
    longdblkind=3
    ivtype='long long'
    ivsize=8
    nvtype='double'
    nvsize=8
    Off_t='long long'
    lseeksize=8
    alignbytes=8
    prototype=define
  Linker and Libraries:
    ld='g++'
    ldflags ='-s -L"C:\STRAWB~1\perl\lib\CORE" -L"C:\STRAWB~1\c\lib"'
    libpth=C:\STRAWB~1\c\lib C:\STRAWB~1\c\i686-w64-mingw32\lib C:\STRAWB~1\c\lib\gcc\i686-w64-mingw32\7.1.0
    libs= -lmoldname -lkernel32 -luser32 -lgdi32 -lwinspool -lcomdlg32 -ladvapi32 -lshell32 -lole32 -loleaut32 -lnetapi32 -luuid -lws2_32 -lmpr -lwinmm -lversion -lodbc32 -lodbccp32 -lcomctl32
    perllibs= -lmoldname -lkernel32 -luser32 -lgdi32 -lwinspool -lcomdlg32 -ladvapi32 -lshell32 -lole32 -loleaut32 -lnetapi32 -luuid -lws2_32 -lmpr -lwinmm -lversion -lodbc32 -lodbccp32 -lcomctl32
    libc=
    so=dll
    useshrplib=true
    libperl=libperl526.a
    gnulibc_version=''
  Dynamic Linking:
    dlsrc=dl_win32.xs
    dlext=xs.dll
    d_dlsymun=undef
    ccdlflags=' '
    cccdlflags=' '
    lddlflags='-mdll -s -L"C:\STRAWB~1\perl\lib\CORE" -L"C:\STRAWB~1\c\lib"'


Characteristics of this binary (from libperl): 
  Compile-time options:
    HAS_TIMES
    HAVE_INTERP_INTERN
    MULTIPLICITY
    PERLIO_LAYERS
    PERL_COPY_ON_WRITE
    PERL_DONT_CREATE_GVSV
    PERL_IMPLICIT_CONTEXT
    PERL_IMPLICIT_SYS
    PERL_MALLOC_WRAP
    PERL_OP_PARENT
    PERL_PRESERVE_IVUV
    USE_64_BIT_INT
    USE_ITHREADS
    USE_LARGE_FILES
    USE_LOCALE
    USE_LOCALE_COLLATE
    USE_LOCALE_CTYPE
    USE_LOCALE_NUMERIC
    USE_LOCALE_TIME
    USE_PERLIO
    USE_PERL_ATOF
  Built under MSWin32
  Compiled at Apr  3 2018 00:07:56
  %ENV:
    PERL5LIB="C:\STRAWB~1\cpan\build\Filter-signatures-0.15-0/blib/arch;C:\STRAWB~1\cpan\build\Filter-signatures-0.15-0/blib/lib;C:\STRAWB~1\cpan\build\Algorithm-Loops-1.032-0/blib/arch;C:\STRAWB~1\cpan\build\Algorithm-Loops-1.032-0/blib/lib"
    PERL5_CPANPLUS_IS_RUNNING="240"
    PERL5_CPAN_IS_RUNNING="240"
    PERL5_CPAN_IS_RUNNING_IN_RECURSION="1220,240"
    PERL_CR_SMOKER_CURRENT="HTTP-Request-Generator-0.05"
    PERL_CR_SMOKER_RUNONCE="1"
    PERL_EXTUTILS_AUTOINSTALL="--defaultdeps"
    PERL_HASH_SEED="0x11111111"
    PERL_MM_USE_DEFAULT="1"
    PERL_USE_UNSAFE_INC="1"
  @INC:
    C:\STRAWB~1\cpan\build\Filter-signatures-0.15-0/blib/arch
    C:\STRAWB~1\cpan\build\Filter-signatures-0.15-0/blib/lib
    C:\STRAWB~1\cpan\build\Algorithm-Loops-1.032-0/blib/arch
    C:\STRAWB~1\cpan\build\Algorithm-Loops-1.032-0/blib/lib
    C:/Strawberry261/perl/site/lib
    C:/Strawberry261/perl/vendor/lib
    C:/Strawberry261/perl/lib
    .