Report for HTTP-Body-1.14

Back
From: metabase:user:30f4dfbe-2aae-11df-837a-5e0a49663a4f
Subject: PASS HTTP-Body-1.14 v5.14.1 GNU/Linux
Date: 2011-11-05T08:36:27Z

This distribution has been tested as part of the CPAN Testers
project, supporting the Perl programming language.  See
http://wiki.cpantesters.org/ for more information or email
questions to cpan-testers-discuss@perl.org


--
Dear Torsten Raudssus,

This is a computer-generated report for HTTP-Body-1.14
on perl 5.14.1, created by CPAN-Reporter-1.1902.

Thank you for uploading your work to CPAN.  Congratulations!
All tests were successful.

Sections of this report:

    * Tester comments
    * Program output
    * Prerequisites
    * Environment and other context

------------------------------
TESTER COMMENTS
------------------------------

Additional comments from tester:

this report is from an automated smoke testing program
and was not reviewed by a human for accuracy

------------------------------
PROGRAM OUTPUT
------------------------------

Output from '/usr/bin/make test':

PERL_DL_NONLAZY=1 /usr/local/bin/perl5.14.1 "-MExtUtils::Command::MM" "-e" "test_harness(0, 'blib/lib', 'blib/arch')" t/*.t
t/01use.t ............... ok
t/02pod.t ............... skipped: set TEST_POD to enable this test
t/03podcoverage.t ....... skipped: set TEST_POD to enable this test
t/04critic.t ............ skipped: Critic test only for developers.
t/04multipart.t ......... ok
t/05urlencoded.t ........ ok
t/06octetstream.t ....... ok
t/07xforms.t ............ ok
t/08multipart-suffix.t .. ok
All tests successful.
Files=9, Tests=223,  1 wallclock secs ( 0.08 usr  0.02 sys +  0.84 cusr  0.12 csys =  1.06 CPU)
Result: PASS

------------------------------
PREREQUISITES
------------------------------

Prerequisite modules loaded:

requires:

    Module              Need Have   
    ------------------- ---- -------
    Carp                0    1.20   
    File::Temp          0.14 0.22   
    HTTP::Headers       0    6.00   
    IO::File            1.14 1.15   

build_requires:

    Module              Need Have   
    ------------------- ---- -------
    Test::Deep          0    0.108  
    Test::More          0.86 0.98   

configure_requires:

    Module              Need Have   
    ------------------- ---- -------
    ExtUtils::MakeMaker 6.30 6.57_05


------------------------------
ENVIRONMENT AND OTHER CONTEXT
------------------------------

Environment variables:

    AUTOMATED_TESTING = 1
    LANG = en_GB.UTF-8
    PATH = /usr/bin:/bin
    PERL5LIB = /var/tmp/cpan-njh-build/TermReadKey-2.30-iOyX_1/blib/arch:/var/tmp/cpan-njh-build/TermReadKey-2.30-iOyX_1/blib/lib:/var/tmp/cpan-njh-build/Ima-DBI-Contextual-1.001-QCX3rh/blib/arch:/var/tmp/cpan-njh-build/Ima-DBI-Contextual-1.001-QCX3rh/blib/lib
    PERL5OPT = 
    PERL5_CPANPLUS_IS_RUNNING = 11161
    PERL5_CPAN_IS_RUNNING = 11161
    PERL5_MINISMOKEBOX = 0.54
    PERL_EXTUTILS_AUTOINSTALL = --defaultdeps
    PERL_MM_USE_DEFAULT = 1
    SHELL = /bin/sh

Perl special variables (and OS-specific diagnostics, for MSWin32):

    $^X = /usr/local/bin/perl5.14.1
    $UID/$EUID = 1000 / 1000
    $GID = 1000 20 24 25 29 44 46 1000
    $EGID = 1000 20 24 25 29 44 46 1000

Perl module toolchain versions installed:

    Module              Have    
    ------------------- --------
    CPAN                1.9600  
    Cwd                 3.36    
    ExtUtils::CBuilder  0.280203
    ExtUtils::Command   1.17    
    ExtUtils::Install   1.56    
    ExtUtils::MakeMaker 6.57_05 
    ExtUtils::Manifest  1.58    
    ExtUtils::ParseXS   2.2210  
    File::Spec          3.33    
    Module::Build       0.3800  
    Module::Signature   n/a     
    Test::Harness       3.23    
    Test::More          0.98    
    YAML                0.73    
    YAML::Syck          1.17    
    version             0.88    


--

Summary of my perl5 (revision 5 version 14 subversion 1) configuration:
  Snapshot of: cc92ef02098c000d945bcf93c92bdb2a0a05fa97
  Platform:
    osname=linux, osvers=2.6.39-2-686-pae, archname=i686-linux-thread-multi
    uname='linux gateway.bandsman.co.uk 2.6.39-2-686-pae #1 smp wed jun 8 11:33:14 utc 2011 i686 gnulinux '
    config_args='-des -Dusedevel -Accflags=-O2 -W -Wformat=2 -Wall -Wextra -pipe -mtune=native -march=native -fomit-frame-pointer -msse2 -msse -mmmx -mfpmath=sse -D_FORTIFY_SOURCE=2 -fstack-protector -Wstack-protector -Wfloat-equal -Duseithreads'
    hint=recommended, useposix=true, d_sigaction=define
    useithreads=define, usemultiplicity=define
    useperlio=define, d_sfio=undef, uselargefiles=define, usesocks=undef
    use64bitint=undef, use64bitall=undef, uselongdouble=undef
    usemymalloc=n, bincompat5005=undef
  Compiler:
    cc='cc', ccflags ='-D_REENTRANT -D_GNU_SOURCE -DDEBUGGING -O2 -W -Wformat=2 -Wall -Wextra -pipe -mtune=native -march=native -fomit-frame-pointer -msse2 -msse -mmmx -mfpmath=sse -D_FORTIFY_SOURCE=2 -fstack-protector -Wstack-protector -Wfloat-equal -fno-strict-aliasing -I/usr/local/include -D_LARGEFILE_SOURCE -D_FILE_OFFSET_BITS=64',
    optimize='-O2',
    cppflags='-D_REENTRANT -D_GNU_SOURCE -DDEBUGGING -O2 -W -Wformat=2 -Wall -Wextra -pipe -mtune=native -march=native -fomit-frame-pointer -msse2 -msse -mmmx -mfpmath=sse -D_FORTIFY_SOURCE=2 -fstack-protector -Wstack-protector -Wfloat-equal -fno-strict-aliasing -I/usr/local/include'
    ccversion='', gccversion='4.6.1 20110611 (prerelease)', gccosandvers=''
    intsize=4, longsize=4, ptrsize=4, doublesize=8, byteorder=1234
    d_longlong=define, longlongsize=8, d_longdbl=define, longdblsize=12
    ivtype='long', ivsize=4, nvtype='double', nvsize=8, Off_t='off_t', lseeksize=8
    alignbytes=4, prototype=define
  Linker and Libraries:
    ld='cc', ldflags =' -fstack-protector -L/usr/local/lib'
    libpth=/usr/local/lib /lib /usr/lib /usr/lib/i386-linux-gnu
    libs=-lnsl -lgdbm -ldb -ldl -lm -lcrypt -lutil -lpthread -lc -lgdbm_compat
    perllibs=-lnsl -ldl -lm -lcrypt -lutil -lpthread -lc
    libc=, so=so, useshrplib=false, libperl=libperl.a
    gnulibc_version='2.13'
  Dynamic Linking:
    dlsrc=dl_dlopen.xs, dlext=so, d_dlsymun=undef, ccdlflags='-Wl,-E'
    cccdlflags='-fPIC', lddlflags='-shared -O2 -L/usr/local/lib -fstack-protector'


Characteristics of this binary (from libperl): 
  Compile-time options: DEBUGGING MULTIPLICITY PERL_DONT_CREATE_GVSV
                        PERL_IMPLICIT_CONTEXT PERL_MALLOC_WRAP
                        PERL_PRESERVE_IVUV PERL_TRACK_MEMPOOL PERL_USE_DEVEL
                        USE_ITHREADS USE_LARGE_FILES USE_PERLIO USE_PERL_ATOF
                        USE_REENTRANT_API
  Locally applied patches:
	SMOKEcc92ef02098c000d945bcf93c92bdb2a0a05fa97
  Built under linux
  Compiled at Jun 17 2011 05:15:48
  %ENV:
    PERL5LIB="/var/tmp/cpan-njh-build/TermReadKey-2.30-iOyX_1/blib/arch:/var/tmp/cpan-njh-build/TermReadKey-2.30-iOyX_1/blib/lib:/var/tmp/cpan-njh-build/Ima-DBI-Contextual-1.001-QCX3rh/blib/arch:/var/tmp/cpan-njh-build/Ima-DBI-Contextual-1.001-QCX3rh/blib/lib"
    PERL5OPT=""
    PERL5_CPANPLUS_IS_RUNNING="11161"
    PERL5_CPAN_IS_RUNNING="11161"
    PERL5_MINISMOKEBOX="0.54"
    PERL_EXTUTILS_AUTOINSTALL="--defaultdeps"
    PERL_MM_USE_DEFAULT="1"
  @INC:
    /var/tmp/cpan-njh-build/TermReadKey-2.30-iOyX_1/blib/arch
    /var/tmp/cpan-njh-build/TermReadKey-2.30-iOyX_1/blib/lib
    /var/tmp/cpan-njh-build/Ima-DBI-Contextual-1.001-QCX3rh/blib/arch
    /var/tmp/cpan-njh-build/Ima-DBI-Contextual-1.001-QCX3rh/blib/lib
    /usr/local/lib/perl5/site_perl/5.14.1/i686-linux-thread-multi
    /usr/local/lib/perl5/site_perl/5.14.1
    /usr/local/lib/perl5/5.14.1/i686-linux-thread-multi
    /usr/local/lib/perl5/5.14.1
    /usr/local/lib/perl5/site_perl
    .