Net-IPv6Addr v1.0 Perl 5 v5.12.2 x86_64-linux-multi

Status
Pass
From
Nigel Horne
Dist
Net-IPv6Addr v1.0
Platform
Perl 5 v5.12.2 x86_64-linux-multi
Date
2020-06-17 08:48:02
ID
410d4c1a-b077-11ea-bf4e-ad615dd88a75
This distribution has been tested as part of the CPAN Testers
project, supporting the Perl programming language.  See
http://wiki.cpantesters.org/ for more information or email
questions to cpan-testers-discuss@perl.org


--
Dear Ben Bullock,

This is a computer-generated report for Net-IPv6Addr-1.0
on perl 5.12.2, created by CPAN-Reporter-1.2018.

Thank you for uploading your work to CPAN.  Congratulations!
All tests were successful.

Sections of this report:

    * Tester comments
    * Program output
    * Prerequisites
    * Environment and other context

------------------------------
TESTER COMMENTS
------------------------------

Additional comments from tester:

this report is from an automated smoke testing program
and was not reviewed by a human for accuracy

------------------------------
PROGRAM OUTPUT
------------------------------

Output from '/usr/bin/make test':

PERL_DL_NONLAZY=1 "/home/njh/perl5/perlbrew/perls/perl-5.12.2-multi/bin/perl5.12.2" "-MExtUtils::Command::MM" "-MTest::Harness" "-e" "undef *Test::Harness::Switches; test_harness(0, 'blib/lib', 'blib/arch')" t/*.t
t/base85.t ....... ok
t/chkip.t ........ ok
t/compressed.t ... ok
t/bigint.t ....... ok
t/in-network.t ... ok
t/ipv4.t ......... ok
t/ipv4comp.t ..... ok
t/new.t .......... ok
t/preferred.t .... ok
t/parse.t ........ ok
t/Regexp-IPv6.t .. ok
t/rfc5952.t ...... ok
t/string.t ....... ok
t/synopsis.t ..... ok
t/vietnam.t ...... ok
All tests successful.
Files=15, Tests=831,  1 wallclock secs ( 0.12 usr  0.04 sys +  1.50 cusr  0.21 csys =  1.87 CPU)
Result: PASS

------------------------------
PREREQUISITES
------------------------------

Prerequisite modules loaded:

requires:

    Module              Need     Have    
    ------------------- -------- --------
    Carp                0        1.17    
    Math::Base85        0.2      0.4     
    Math::BigInt        1.999813 1.999818
    Net::IPv4Addr       0.10     0.10    
    perl                5.006000 5.012002

build_requires:

    Module              Need     Have    
    ------------------- -------- --------
    ExtUtils::MakeMaker 0        7.42    

configure_requires:

    Module              Need     Have    
    ------------------- -------- --------
    ExtUtils::MakeMaker 0        7.42    


------------------------------
ENVIRONMENT AND OTHER CONTEXT
------------------------------

Environment variables:

    AUTOMATED_TESTING = 1
    HARNESS_OPTIONS = j2
    LANG = en_US.UTF-8
    PATH = /home/njh/perl5/perlbrew/bin:/home/njh/perl5/perlbrew/perls/perl-5.12.2-multi/bin:/home/njh/src/njh/smoker/bin:/usr/bin:/bin
    PERL5LIB = /tmp/build/Net-IPv4Addr-0.10-0/blib/arch:/tmp/build/Net-IPv4Addr-0.10-0/blib/lib:/tmp/build/Math-BigInt-1.999818-0/blib/arch:/tmp/build/Math-BigInt-1.999818-0/blib/lib:/tmp/build/Math-Base85-0.4-0/blib/arch:/tmp/build/Math-Base85-0.4-0/blib/lib
    PERL5OPT = 
    PERL5_CPANPLUS_IS_RUNNING = 160366
    PERL5_CPAN_IS_RUNNING = 160366
    PERL5_CPAN_IS_RUNNING_IN_RECURSION = 160347,160366
    PERLBREW_HOME = /home/njh/.perlbrew
    PERLBREW_MANPATH = /home/njh/perl5/perlbrew/perls/perl-5.12.2-multi/man
    PERLBREW_PATH = /home/njh/perl5/perlbrew/bin:/home/njh/perl5/perlbrew/perls/perl-5.12.2-multi/bin
    PERLBREW_PERL = perl-5.12.2-multi
    PERLBREW_ROOT = /home/njh/perl5/perlbrew
    PERLBREW_SHELLRC_VERSION = 0.86
    PERLBREW_VERSION = 0.86
    PERL_USE_UNSAFE_INC = 1
    SHELL = /bin/sh
    TEMP = /tmp/user/1000
    TMPDIR = /tmp/user/1000/testwrapper.160350

Perl special variables (and OS-specific diagnostics, for MSWin32):

    $^X = /home/njh/perl5/perlbrew/perls/perl-5.12.2-multi/bin/perl5.12.2
    $UID/$EUID = 1000 / 1000
    $GID = 1000 4 24 25 29 30 44 46 103 108 115 123 996 1000
    $EGID = 1000 4 24 25 29 30 44 46 103 108 115 123 996 1000

Perl module toolchain versions installed:

    Module              Have    
    ------------------- --------
    CPAN                2.27    
    CPAN::Meta          2.150010
    Cwd                 3.75    
    ExtUtils::CBuilder  0.27    
    ExtUtils::Command   7.42    
    ExtUtils::Install   2.06    
    ExtUtils::MakeMaker 7.42    
    ExtUtils::Manifest  1.70    
    ExtUtils::ParseXS   2.21    
    File::Spec          3.75    
    JSON                4.02    
    JSON::PP            4.04    
    Module::Build       0.3603  
    Module::Signature   n/a     
    Parse::CPAN::Meta   2.150010
    Test::Harness       3.42    
    Test::More          1.302168
    YAML                1.30    
    YAML::Syck          1.32    
    version             0.9924  


--

Summary of my perl5 (revision 5 version 12 subversion 2) configuration:
   
  Platform:
    osname=linux, osvers=4.16.0-2-amd64, archname=x86_64-linux-multi
    uname='linux amelia 4.16.0-2-amd64 #1 smp debian 4.16.16-2 (2018-06-22) x86_64 gnulinux '
    config_args='-de -Dprefix=/home/njh/perl5/perlbrew/perls/perl-5.12.2-multi -Dusedevel -Dusemultiplicity -Accflags= -Aeval:scriptdir=/home/njh/perl5/perlbrew/perls/perl-5.12.2-multi/bin'
    hint=recommended, useposix=true, d_sigaction=define
    useithreads=undef, usemultiplicity=define
    useperlio=define, d_sfio=undef, uselargefiles=define, usesocks=undef
    use64bitint=define, use64bitall=define, uselongdouble=undef
    usemymalloc=n, bincompat5005=undef
  Compiler:
    cc='cc', ccflags ='-fno-strict-aliasing -pipe -fstack-protector -I/usr/local/include -D_LARGEFILE_SOURCE -D_FILE_OFFSET_BITS=64',
    optimize='-O2',
    cppflags='-fno-strict-aliasing -pipe -fstack-protector -I/usr/local/include'
    ccversion='', gccversion='9.2.1 20190909', gccosandvers=''
    intsize=4, longsize=8, ptrsize=8, doublesize=8, byteorder=12345678
    d_longlong=define, longlongsize=8, d_longdbl=define, longdblsize=16
    ivtype='long', ivsize=8, nvtype='double', nvsize=8, Off_t='off_t', lseeksize=8
    alignbytes=8, prototype=define
  Linker and Libraries:
    ld='cc', ldflags =' -fstack-protector -L/usr/local/lib'
    libpth=/usr/local/lib /lib/x86_64-linux-gnu /lib/../lib /usr/lib/x86_64-linux-gnu /usr/lib/../lib /lib /usr/lib
    libs=-lnsl -lgdbm -ldb -ldl -lm -lcrypt -lutil -lc
    perllibs=-lnsl -ldl -lm -lcrypt -lutil -lc
    libc=libc-2.29.so, so=so, useshrplib=false, libperl=libperl.a
    gnulibc_version='2.29'
  Dynamic Linking:
    dlsrc=dl_dlopen.xs, dlext=so, d_dlsymun=undef, ccdlflags='-Wl,-E'
    cccdlflags='-fPIC', lddlflags='-shared -O2 -L/usr/local/lib -fstack-protector'


Characteristics of this binary (from libperl): 
  Compile-time options: MULTIPLICITY PERL_DONT_CREATE_GVSV
                        PERL_IMPLICIT_CONTEXT PERL_MALLOC_WRAP PERL_USE_DEVEL
                        USE_64_BIT_ALL USE_64_BIT_INT USE_LARGE_FILES
                        USE_PERLIO USE_PERL_ATOF
  Locally applied patches:
	Devel::PatchPerl 1.48
  Built under linux
  Compiled at Nov  3 2019 00:44:37
  %ENV:
    PERL5LIB="/tmp/build/Net-IPv4Addr-0.10-0/blib/arch:/tmp/build/Net-IPv4Addr-0.10-0/blib/lib:/tmp/build/Math-BigInt-1.999818-0/blib/arch:/tmp/build/Math-BigInt-1.999818-0/blib/lib:/tmp/build/Math-Base85-0.4-0/blib/arch:/tmp/build/Math-Base85-0.4-0/blib/lib"
    PERL5OPT=""
    PERL5_CPANPLUS_IS_RUNNING="160366"
    PERL5_CPAN_IS_RUNNING="160366"
    PERL5_CPAN_IS_RUNNING_IN_RECURSION="160347,160366"
    PERLBREW_HOME="/home/njh/.perlbrew"
    PERLBREW_MANPATH="/home/njh/perl5/perlbrew/perls/perl-5.12.2-multi/man"
    PERLBREW_PATH="/home/njh/perl5/perlbrew/bin:/home/njh/perl5/perlbrew/perls/perl-5.12.2-multi/bin"
    PERLBREW_PERL="perl-5.12.2-multi"
    PERLBREW_ROOT="/home/njh/perl5/perlbrew"
    PERLBREW_SHELLRC_VERSION="0.86"
    PERLBREW_VERSION="0.86"
    PERL_USE_UNSAFE_INC="1"
  @INC:
    /tmp/build/Net-IPv4Addr-0.10-0/blib/arch
    /tmp/build/Net-IPv4Addr-0.10-0/blib/lib
    /tmp/build/Math-BigInt-1.999818-0/blib/arch
    /tmp/build/Math-BigInt-1.999818-0/blib/lib
    /tmp/build/Math-Base85-0.4-0/blib/arch
    /tmp/build/Math-Base85-0.4-0/blib/lib
    /home/njh/perl5/perlbrew/perls/perl-5.12.2-multi/lib/site_perl/5.12.2/x86_64-linux-multi
    /home/njh/perl5/perlbrew/perls/perl-5.12.2-multi/lib/site_perl/5.12.2
    /home/njh/perl5/perlbrew/perls/perl-5.12.2-multi/lib/5.12.2/x86_64-linux-multi
    /home/njh/perl5/perlbrew/perls/perl-5.12.2-multi/lib/5.12.2
    .