Data-Session v1.18 Perl 5 v5.41.8 i86pc-solaris-64

Status
Pass
From
Carlos Guevara
Dist
Data-Session v1.18
Platform
Perl 5 v5.41.8 i86pc-solaris-64
Date
2025-01-03 18:12:12
ID
4145c1c6-c9fe-11ef-af1c-dda972e5d6b0
This distribution has been tested as part of the CPAN Testers
project, supporting the Perl programming language.  See
http://wiki.cpantesters.org/ for more information or email
questions to cpan-testers-discuss@perl.org


--
Dear Ron Savage,

This is a computer-generated report for Data-Session-1.18
on perl 5.41.8, created by CPAN-Reporter-1.2020.

Thank you for uploading your work to CPAN.  Congratulations!
All tests were successful.

Sections of this report:

    * Tester comments
    * Program output
    * Prerequisites
    * Environment and other context

------------------------------
TESTER COMMENTS
------------------------------

Additional comments from tester:

this report is from an automated smoke testing program
and was not reviewed by a human for accuracy

------------------------------
PROGRAM OUTPUT
------------------------------

Output from '/usr/bin/make test':

PERL_DL_NONLAZY=1 "/export/home/cpan/bin/perl/bin/perl5.41.8" "-MExtUtils::Command::MM" "-MTest::Harness" "-e" "undef *Test::Harness::Switches; test_harness(0, 'blib/lib', 'blib/arch')" t/*.t
# Testing Data::Session V 1.18
# Using autovivification V 0.18
# Using CGI V 4.66
# Using Class::Load V 0.25
# Using Config::Tiny V 2.30
# Using Data::Dumper V 2.190
# Using Data::UUID V 1.227
# Using DBD::SQLite V 1.76
# Using DBI V 1.645
# Using DBIx::Admin::CreateTable V 2.11
# Using Digest::MD5 V 2.59
# Using Digest::SHA V 6.04
# Using Fcntl V 1.19
# Using File::Basename V 2.86
# Using File::Path V 2.18
# Using File::Slurper V 0.014
# Using File::Spec V 3.93
# Using File::Temp V 0.2311
# Using FreezeThaw V 0.5001
# Using Hash::FieldHash V 0.15
# Using JSON V 4.10
# Using overload V 1.39
# Using parent V 0.244
# Using Safe V 2.47
# Using Scalar::Util V 1.6801
# Using Storable V 3.35
# Using strict V 1.13
# Using Try::Tiny V 0.32
# Using vars V 1.05
# Using warnings V 1.72
# Using YAML::Tiny V 1.76
t/00.versions.t .. ok
# Test: File.1. DSN: dbi:File:. ID generator: AutoIncrement. Serializer: DataDumper
# id 1: 1002
# Test: File.1. DSN: dbi:File:. ID generator: AutoIncrement. Serializer: FreezeThaw
# id 1: 1008
# Test: File.1. DSN: dbi:File:. ID generator: AutoIncrement. Serializer: JSON
# id 1: 1014
# Test: File.1. DSN: dbi:File:. ID generator: AutoIncrement. Serializer: Storable
# id 1: 1020
# Test: File.1. DSN: dbi:File:. ID generator: AutoIncrement. Serializer: YAML
# id 1: 1026
# Test: File.1. DSN: dbi:File:. ID generator: MD5. Serializer: DataDumper
# id 1: c2ed72a0d5208c03f56ff83118aa6b0c
# Test: File.1. DSN: dbi:File:. ID generator: MD5. Serializer: FreezeThaw
# id 1: af0e5380be531a60ff43f44aa4363648
# Test: File.1. DSN: dbi:File:. ID generator: MD5. Serializer: JSON
# id 1: 388ccb9ccfdf6968a02e9e0d0791e951
# Test: File.1. DSN: dbi:File:. ID generator: MD5. Serializer: Storable
# id 1: 0f83d9db4343eb2ebc24aefa2f16aca2
# Test: File.1. DSN: dbi:File:. ID generator: MD5. Serializer: YAML
# id 1: 651681f12eced69aa2815aa233cf9706
# Test: File.1. DSN: dbi:File:. ID generator: SHA1. Serializer: DataDumper
# id 1: f0fa2ac92d8e44f17027f6bb644de9094a843d8a
# Test: File.1. DSN: dbi:File:. ID generator: SHA1. Serializer: FreezeThaw
# id 1: 016c129facb4e7ff60fe4ef357bc651f4f534293
# Test: File.1. DSN: dbi:File:. ID generator: SHA1. Serializer: JSON
# id 1: ffd8e57fe16bb9453ec6db89aeca9b2e812ce878
# Test: File.1. DSN: dbi:File:. ID generator: SHA1. Serializer: Storable
# id 1: e3bf398bb400e3baf3e9dec547b1998545d5519f
# Test: File.1. DSN: dbi:File:. ID generator: SHA1. Serializer: YAML
# id 1: 39d22b65fdbd5646e27455aa578327ad7267fcac
# Test: File.1. DSN: dbi:File:. ID generator: SHA256. Serializer: DataDumper
# id 1: 53dfde129616784c0d128cb5a565b62f7326c860bb019ffda56d29642ceae381
# Test: File.1. DSN: dbi:File:. ID generator: SHA256. Serializer: FreezeThaw
# id 1: 3488801bde0e71fd3c52e3078e35e05266bdb64f250966161dce8307aa881056
# Test: File.1. DSN: dbi:File:. ID generator: SHA256. Serializer: JSON
# id 1: ab0c3578f9887a75645ab38462e1d1fe5d0bfb3c1f2c3fc54cb08190ad6956a5
# Test: File.1. DSN: dbi:File:. ID generator: SHA256. Serializer: Storable
# id 1: eef2afd4cac4def87648988d6f2839e07e5488865cf032927ffea5c920aae954
# Test: File.1. DSN: dbi:File:. ID generator: SHA256. Serializer: YAML
# id 1: 52d97b61f31046b1555f251a36c5d17bdf290670f0a3fd62f7a7a7e194ca7959
# Test: File.1. DSN: dbi:File:. ID generator: SHA512. Serializer: DataDumper
# id 1: c221653ed4838ac9b4e95c4a82f6979b8963d52b5bf8e9d11ec200a594e946a2bfc520bcd8babee9c89523f076a91325df99e67db3a362ba44fed297cea0b673
# Test: File.1. DSN: dbi:File:. ID generator: SHA512. Serializer: FreezeThaw
# id 1: c8044b596c3a62c9b13ee50239e68fd2a532cb6909a79f9add5c3cee7b731ecc443071c18571b3b3bb8285b46e216a7b054df8ce12c3680f6e14b3d92d132985
# Test: File.1. DSN: dbi:File:. ID generator: SHA512. Serializer: JSON
# id 1: 21310dd29cc08d6a6631c2cfcd2c8982df4527b4ae44c7d98df824964692899b9f8adff5de6b580d5d80558048470279d127647bf1d68f34cae69e16a64634f7
# Test: File.1. DSN: dbi:File:. ID generator: SHA512. Serializer: Storable
# id 1: ffa6e498e0c9877faffc5a2e72dfe85560e31b5796106e8c0c709223a7b5df9a3bc56e6a70fd1996a2f73afd0e8b681daf6bb0d33d82516891fa9e95b73183a5
# Test: File.1. DSN: dbi:File:. ID generator: SHA512. Serializer: YAML
# id 1: 889758613d8a3d278bcc7acc551fd6bd3806e743543c568b6a07119682374095e8b9086ec02bec8b87ff15cb0a4f6732add25fb845fedeefb94db4a69f8d6a45
# Test: File.1. DSN: dbi:File:. ID generator: Static. Serializer: DataDumper
# id 1: 1234
# Test: File.1. DSN: dbi:File:. ID generator: Static. Serializer: FreezeThaw
# id 1: 1234
# Test: File.1. DSN: dbi:File:. ID generator: Static. Serializer: JSON
# id 1: 1234
# Test: File.1. DSN: dbi:File:. ID generator: Static. Serializer: Storable
# id 1: 1234
# Test: File.1. DSN: dbi:File:. ID generator: Static. Serializer: YAML
# id 1: 1234
# Test: File.1. DSN: dbi:File:. ID generator: UUID34. Serializer: DataDumper
# id 1: 0x3D02F64CC9FE11EFA2288D6B17C8AD9C
# Test: File.1. DSN: dbi:File:. ID generator: UUID34. Serializer: FreezeThaw
# id 1: 0x3D0419FAC9FE11EFB32EB466B33C4D9A
# Test: File.1. DSN: dbi:File:. ID generator: UUID34. Serializer: JSON
# id 1: 0x3D04D5A2C9FE11EF890FB07906A4A472
# Test: File.1. DSN: dbi:File:. ID generator: UUID34. Serializer: Storable
# id 1: 0x3D05A482C9FE11EFB9EC88CBF8596CC7
# Test: File.1. DSN: dbi:File:. ID generator: UUID34. Serializer: YAML
# id 1: 0x3D065A94C9FE11EFBDCBCC3D05B70DBB
# Test: File.1. DSN: dbi:File:. ID generator: UUID36. Serializer: DataDumper
# id 1: 3D077258-C9FE-11EF-B55B-CB511451A4F9
# Test: File.1. DSN: dbi:File:. ID generator: UUID36. Serializer: FreezeThaw
# id 1: 3D086F78-C9FE-11EF-BFDE-D7D123CD7DE7
# Test: File.1. DSN: dbi:File:. ID generator: UUID36. Serializer: JSON
# id 1: 3D092DE6-C9FE-11EF-9367-B4D8597EE284
# Test: File.1. DSN: dbi:File:. ID generator: UUID36. Serializer: Storable
# id 1: 3D0A2CBE-C9FE-11EF-AD54-9A50C87B2731
# Test: File.1. DSN: dbi:File:. ID generator: UUID36. Serializer: YAML
# id 1: 3D0AE94C-C9FE-11EF-B2ED-A57CDAF8C5BE
# Skipping dsn 'dbi:SQLite:dbname=/tmp/sessions.sqlite' because the SQLite directory does not exist
# 
# Testing HTTP header generation
# 
# Testing expire the session. Sleeping for 1 second ...
# Expiring id: 3D0BE158-C9FE-11EF-BC56-A906CA752B39
# 
# Testing expire a session parameter. Sleeping for 1 second ...
t/basic.t ........ ok
# DSN name: File.1. DSN: dbi:File:. ID generator: MD5. Serializer: DataDumper
# id1: bffb5153a187191d3d394aafe55ea3fa
# 1: Recovered known id 529cb2617b77cbe57ea0a64326b37e0d from traverse
# 2: Recovered known id 051127e4491fd7f81a3608e36e921414 from traverse
# 3: Recovered known id 770f2ef1d3b4b508c464202475cb832a from traverse
# 4: Recovered known id 6d135d78bf3f83a4c1964737f45bcdfa from traverse
# Skipping dsn 'dbi:SQLite:dbname=/tmp/sessions.sqlite' because the SQLite directory does not exist
t/traverse.t ..... ok
All tests successful.
Files=3, Tests=52,  7 wallclock secs ( 0.03 usr  0.01 sys +  0.62 cusr  0.10 csys =  0.77 CPU)
Result: PASS

------------------------------
PREREQUISITES
------------------------------

Prerequisite modules loaded:

requires:

    Module                   Need     Have    
    ------------------------ -------- --------
    autovivification         0        0.18    
    CGI                      3.63     4.66    
    Class::Load              0.19     0.25    
    Config::Tiny             2.14     2.30    
    Data::Dumper             2.145    2.190   
    Data::UUID               1.218    1.227   
    DBD::SQLite              1.39     1.76    
    DBI                      1.627    1.645   
    DBIx::Admin::CreateTable 2.07     2.11    
    Digest::MD5              2.52     2.59    
    Digest::SHA              5.84     6.04    
    Fcntl                    1.06     1.19    
    File::Basename           2.77     2.86    
    File::Path               2.07     2.18    
    File::Slurper            0.012    0.014   
    File::Spec               3.3      3.93    
    File::Temp               0.22     0.2311  
    FreezeThaw               0.5001   0.5001  
    Hash::FieldHash          0.14     0.15    
    JSON                     2.59     4.10    
    overload                 0        1.39    
    parent                   0        0.244   
    Safe                     2.35     2.47    
    Scalar::Util             1.27     1.68_01 
    Storable                 2.39     3.35    
    strict                   0        1.13    
    Try::Tiny                0.12     0.32    
    vars                     0        1.05    
    warnings                 0        1.72    
    YAML::Tiny               1.51     1.76    

build_requires:

    Module                   Need     Have    
    ------------------------ -------- --------
    ExtUtils::MakeMaker      0        7.70    
    Test::More               1.001014 1.302207
    Test::Pod                1.48     1.52    

configure_requires:

    Module                   Need     Have    
    ------------------------ -------- --------
    ExtUtils::MakeMaker      0        7.70    


------------------------------
ENVIRONMENT AND OTHER CONTEXT
------------------------------

Environment variables:

    AUTOMATED_TESTING = 1
    DATE_MANIP_TEST_DM5 = 1
    LANG = en_US.UTF-8
    LC_ALL = C
    NONINTERACTIVE_TESTING = 1
    NO_NETWORK_TESTING = 1
    PATH = /export/home/cpan/bin/perl/bin:/usr/bin:/usr/sbin:/sbin:/opt/ooce/bin:/usr/gnu/bin
    PERL5LIB = 
    PERL5OPT = 
    PERL5_CPANPLUS_IS_RUNNING = 13790
    PERL5_CPAN_IS_RUNNING = 13790
    PERL_MM_USE_DEFAULT = 1
    PERL_USE_UNSAFE_INC = 1
    SHELL = /bin/bash
    TERM = screen

Perl special variables (and OS-specific diagnostics, for MSWin32):

    $^X = /export/home/cpan/bin/perl/bin/perl5.41.8
    $UID/$EUID = 101 / 101
    $GID = 1 1
    $EGID = 1 1

Perl module toolchain versions installed:

    Module              Have    
    ------------------- --------
    CPAN                2.38    
    CPAN::Meta          2.150010
    Cwd                 3.92    
    ExtUtils::CBuilder  0.280240
    ExtUtils::Command   7.70    
    ExtUtils::Install   2.22    
    ExtUtils::MakeMaker 7.70    
    ExtUtils::Manifest  1.75    
    ExtUtils::ParseXS   3.56    
    File::Spec          3.93    
    JSON                4.10    
    JSON::PP            4.16    
    Module::Build       0.4234  
    Module::Signature   0.89    
    Parse::CPAN::Meta   2.150010
    Test2               1.302207
    Test::Harness       3.50    
    Test::More          1.302207
    YAML                1.31    
    YAML::Syck          1.34    
    version             0.9933  


--

Summary of my perl5 (revision 5 version 41 subversion 8) configuration:
  Commit id: 5a5493e4da7a9012d51e778f4276d710ff99210e
  Platform:
    osname=solaris
    osvers=2.11
    archname=i86pc-solaris-64
    uname='sunos cjg-omniosce 5.11 omnios-r151050-49db1c0a0fe i86pc i386 i86pc '
    config_args='-des -Dprefix=/export/home/cpan/bin/perl -Dscriptdir=/export/home/cpan/bin/perl/bin -Dusedevel -Duse64bitall -Dcc=gcc'
    hint=recommended
    useposix=true
    d_sigaction=define
    useithreads=undef
    usemultiplicity=undef
    use64bitint=define
    use64bitall=define
    uselongdouble=undef
    usemymalloc=n
    default_inc_excludes_dot=define
  Compiler:
    cc='gcc'
    ccflags ='-m64 -fwrapv -fno-strict-aliasing -pipe -fstack-protector-strong -D_LARGEFILE_SOURCE -D_FILE_OFFSET_BITS=64 -D_FORTIFY_SOURCE=2'
    optimize='-O'
    cppflags='-m64 -fwrapv -fno-strict-aliasing -pipe -fstack-protector-strong'
    ccversion=''
    gccversion='13.2.0'
    gccosandvers=''
    intsize=4
    longsize=8
    ptrsize=8
    doublesize=8
    byteorder=12345678
    doublekind=3
    d_longlong=define
    longlongsize=8
    d_longdbl=define
    longdblsize=16
    longdblkind=3
    ivtype='long'
    ivsize=8
    nvtype='double'
    nvsize=8
    Off_t='off_t'
    lseeksize=8
    alignbytes=8
    prototype=define
  Linker and Libraries:
    ld='gcc'
    ldflags =' -m64 -fstack-protector-strong -L/usr/gnu/lib '
    libpth=/opt/gcc-13/lib /usr/lib /usr/gnu/lib /usr/ccs/lib
    libs=-lpthread -lsocket -lnsl -ldl -lm -lc
    perllibs=-lpthread -lsocket -lnsl -ldl -lm -lc
    libc=/lib/libc.so
    so=so
    useshrplib=true
    libperl=libperl.so
    gnulibc_version=''
  Dynamic Linking:
    dlsrc=dl_dlopen.xs
    dlext=so
    d_dlsymun=undef
    ccdlflags='  -R /export/home/cpan/bin/perl/lib/5.41.8/i86pc-solaris-64/CORE'
    cccdlflags='-fPIC'
    lddlflags=' -shared -m64 -L/usr/gnu/lib -fstack-protector-strong'


Characteristics of this binary (from libperl): 
  Compile-time options:
    HAS_LONG_DOUBLE
    HAS_STRTOLD
    HAS_TIMES
    PERLIO_LAYERS
    PERL_COPY_ON_WRITE
    PERL_DONT_CREATE_GVSV
    PERL_HASH_FUNC_SIPHASH13
    PERL_HASH_USE_SBOX32
    PERL_MALLOC_WRAP
    PERL_OP_PARENT
    PERL_PRESERVE_IVUV
    PERL_USE_DEVEL
    PERL_USE_SAFE_PUTENV
    USE_64_BIT_ALL
    USE_64_BIT_INT
    USE_LARGE_FILES
    USE_LOCALE
    USE_LOCALE_COLLATE
    USE_LOCALE_CTYPE
    USE_LOCALE_NUMERIC
    USE_LOCALE_TIME
    USE_PERLIO
    USE_PERL_ATOF
  Built under solaris
  Compiled at Jan  3 2025 03:29:53
  %ENV:
    PERL5LIB=""
    PERL5OPT=""
    PERL5_CPANPLUS_IS_RUNNING="13790"
    PERL5_CPAN_IS_RUNNING="13790"
    PERL_MM_USE_DEFAULT="1"
    PERL_USE_UNSAFE_INC="1"
  @INC:
    /export/home/cpan/bin/perl/lib/site_perl/5.41.8/i86pc-solaris-64
    /export/home/cpan/bin/perl/lib/site_perl/5.41.8
    /export/home/cpan/bin/perl/lib/5.41.8/i86pc-solaris-64
    /export/home/cpan/bin/perl/lib/5.41.8
    .