Module-TestConfig v0.06_01 Perl 5 v5.18.4 x86_64-linux-ld

Status
Pass
From
Andreas J. König (ANDK)
Dist
Module-TestConfig v0.06_01
Platform
Perl 5 v5.18.4 x86_64-linux-ld
Date
2017-12-09 17:13:20
ID
414e6dec-dd04-11e7-9b51-7d0801b06338
This distribution has been tested as part of the CPAN Testers
project, supporting the Perl programming language.  See
http://wiki.cpantesters.org/ for more information or email
questions to cpan-testers-discuss@perl.org


--
Dear Joshua Keroes,

This is a computer-generated report for Module-TestConfig-0.06_01
on perl 5.18.4, created by CPAN-Reporter-1.2018.

Thank you for uploading your work to CPAN.  Congratulations!
All tests were successful.

Sections of this report:

    * Tester comments
    * Program output
    * Prerequisites
    * Environment and other context

------------------------------
TESTER COMMENTS
------------------------------

Additional comments from tester:

this report is from an automated smoke testing program
and was not reviewed by a human for accuracy

------------------------------
PROGRAM OUTPUT
------------------------------

Output from '/usr/bin/make test':

PERL_DL_NONLAZY=1 "/home/sand/src/perl/repoperls/installed-perls/host/k93msid/v5.18.4/2d7c/bin/perl" "-MExtUtils::Command::MM" "-MTest::Harness" "-e" "undef *Test::Harness::Switches; test_harness(0, 'blib/lib', 'blib/arch')" t/*.t
t/00_init.t ............... ok
t/05_question.t ........... ok
t/10_basic.t .............. ok
t/20_q_and_a.t ............ ok
t/30_env.t ................ ok
t/40_defaults.t ........... ok
Unable to get Terminal Size. The TIOCGWINSZ ioctl didn't work. The COLUMNS and LINES environment variables didn't work. The resize program didn't work. The stty program didn't work. at /tmp/loop_over_bdir-4419-CdIfSD/Module-TestConfig-0.06_01-0/blib/lib/Module/TestConfig.pm line 298.
Unable to get Terminal Size. The TIOCGWINSZ ioctl didn't work. The COLUMNS and LINES environment variables didn't work. The resize program didn't work. The stty program didn't work. at /tmp/loop_over_bdir-4419-CdIfSD/Module-TestConfig-0.06_01-0/blib/lib/Module/TestConfig.pm line 298.
Unable to get Terminal Size. The TIOCGWINSZ ioctl didn't work. The COLUMNS and LINES environment variables didn't work. The resize program didn't work. The stty program didn't work. at /tmp/loop_over_bdir-4419-CdIfSD/Module-TestConfig-0.06_01-0/blib/lib/Module/TestConfig.pm line 298.
Unable to get Terminal Size. The TIOCGWINSZ ioctl didn't work. The COLUMNS and LINES environment variables didn't work. The resize program didn't work. The stty program didn't work. at /tmp/loop_over_bdir-4419-CdIfSD/Module-TestConfig-0.06_01-0/blib/lib/Module/TestConfig.pm line 298.
Unable to get Terminal Size. The TIOCGWINSZ ioctl didn't work. The COLUMNS and LINES environment variables didn't work. The resize program didn't work. The stty program didn't work. at /tmp/loop_over_bdir-4419-CdIfSD/Module-TestConfig-0.06_01-0/blib/lib/Module/TestConfig.pm line 298.
Unable to get Terminal Size. The TIOCGWINSZ ioctl didn't work. The COLUMNS and LINES environment variables didn't work. The resize program didn't work. The stty program didn't work. at /tmp/loop_over_bdir-4419-CdIfSD/Module-TestConfig-0.06_01-0/blib/lib/Module/TestConfig.pm line 298.
t/50_save.t ............... ok
t/60_validate.t ........... ok
t/release-pod-coverage.t .. skipped: these tests are for release candidate testing
t/release-pod-syntax.t .... skipped: these tests are for release candidate testing
All tests successful.
Files=10, Tests=99,  3 wallclock secs ( 0.04 usr  0.06 sys +  0.75 cusr  0.22 csys =  1.07 CPU)
Result: PASS

------------------------------
PREREQUISITES
------------------------------

Prerequisite modules loaded:

requires:

    Module              Need Have    
    ------------------- ---- --------
    Carp                0    1.38    
    Config::Auto        0    0.44    
    Data::Dumper        0    2.161   
    Fcntl               0    1.11    
    File::Basename      0    2.84    
    File::Path          0    2.15    
    Params::Validate    0    1.29    
    strict              0    1.07    
    Term::ReadKey       0    2.37    
    Text::FormatTable   0    1.03    
    warnings            0    1.18    

build_requires:

    Module              Need Have    
    ------------------- ---- --------
    Test::More          0    1.302119
    Test::Warn          0    0.32    

configure_requires:

    Module              Need Have    
    ------------------- ---- --------
    ExtUtils::MakeMaker 6.30 7.30    


------------------------------
ENVIRONMENT AND OTHER CONTEXT
------------------------------

Environment variables:

    AUTOMATED_TESTING = 1
    LANG = en_US.UTF-8
    PATH = /home/sand/bin:/usr/local/bin:/usr/bin:/bin:/usr/games:/usr/local/perl/bin:/usr/X11/bin:/sbin:/usr/sbin
    PERL5LIB = /tmp/loop_over_bdir-4419-CdIfSD/Text-FormatTable-1.03-0/blib/arch:/tmp/loop_over_bdir-4419-CdIfSD/Text-FormatTable-1.03-0/blib/lib:/tmp/loop_over_bdir-4419-CdIfSD/Config-Auto-0.44-0/blib/arch:/tmp/loop_over_bdir-4419-CdIfSD/Config-Auto-0.44-0/blib/lib
    PERL5OPT = 
    PERL5_CPANPLUS_IS_RUNNING = 4422
    PERL5_CPAN_IS_RUNNING = 4422
    PERL5_CPAN_IS_RUNNING_IN_RECURSION = 2373,4422
    PERL_CANARY_STABILITY_NOPROMPT = 1
    PERL_MM_USE_DEFAULT = 1
    PERL_USE_UNSAFE_INC = 1
    SHELL = /usr/bin/zsh
    TERM = screen

Perl special variables (and OS-specific diagnostics, for MSWin32):

    $^X = /home/sand/src/perl/repoperls/installed-perls/host/k93msid/v5.18.4/2d7c/bin/perl
    $UID/$EUID = 1005 / 1005
    $GID = 1005 1005
    $EGID = 1005 1005

Perl module toolchain versions installed:

    Module              Have    
    ------------------- --------
    CPAN                2.20    
    CPAN::Meta          2.150010
    Cwd                 3.62    
    ExtUtils::CBuilder  0.280230
    ExtUtils::Command   7.30    
    ExtUtils::Install   2.06    
    ExtUtils::MakeMaker 7.30    
    ExtUtils::Manifest  1.70    
    ExtUtils::ParseXS   3.35    
    File::Spec          3.62    
    JSON                2.95    
    JSON::PP            2.96    
    Module::Build       0.4224  
    Module::Signature   0.81    
    Parse::CPAN::Meta   2.150010
    Test::Harness       3.39    
    Test::More          1.302119
    YAML                1.24    
    YAML::Syck          1.30    
    version             0.9918  


--

Summary of my perl5 (revision 5 version 18 subversion 4) configuration:
  Derived from: 51202371ba68f3f52f13124a3ea1bc3c171e0ee2
  Platform:
    osname=linux, osvers=4.12.0-2-amd64, archname=x86_64-linux-ld
    uname='linux k93msid 4.12.0-2-amd64 #1 smp debian 4.12.13-1 (2017-09-19) x86_64 gnulinux '
    config_args='-Dprefix=/home/sand/src/perl/repoperls/installed-perls/host/k93msid/v5.18.4/2d7c -Dmyhostname=k93msid -Dinstallusrbinperl=n -Uversiononly -Dusedevel -des -Ui_db -Dlibswanted=cl pthread socket inet nsl gdbm dbm malloc dl ld sun m crypt sec util c cposix posix ucb BSD gdbm_compat -Uuseithreads -Duselongdouble -DDEBUGGING=-g'
    hint=recommended, useposix=true, d_sigaction=define
    useithreads=undef, usemultiplicity=undef
    useperlio=define, d_sfio=undef, uselargefiles=define, usesocks=undef
    use64bitint=define, use64bitall=define, uselongdouble=define
    usemymalloc=n, bincompat5005=undef
  Compiler:
    cc='cc', ccflags ='-fno-strict-aliasing -pipe -fstack-protector -I/usr/local/include -D_LARGEFILE_SOURCE -D_FILE_OFFSET_BITS=64',
    optimize='-O2 -g',
    cppflags='-fno-strict-aliasing -pipe -fstack-protector -I/usr/local/include'
    ccversion='', gccversion='7.2.0', gccosandvers=''
    intsize=4, longsize=8, ptrsize=8, doublesize=8, byteorder=12345678
    d_longlong=define, longlongsize=8, d_longdbl=define, longdblsize=16
    ivtype='long', ivsize=8, nvtype='long double', nvsize=16, Off_t='off_t', lseeksize=8
    alignbytes=16, prototype=define
  Linker and Libraries:
    ld='cc', ldflags =' -fstack-protector -L/usr/local/lib'
    libpth=/usr/local/lib /lib/x86_64-linux-gnu /lib/../lib /usr/lib/x86_64-linux-gnu /usr/lib/../lib /lib /usr/lib
    libs=-lpthread -lnsl -ldl -lm -lcrypt -lutil -lc
    perllibs=-lpthread -lnsl -ldl -lm -lcrypt -lutil -lc
    libc=libc-2.24.so, so=so, useshrplib=false, libperl=libperl.a
    gnulibc_version='2.24'
  Dynamic Linking:
    dlsrc=dl_dlopen.xs, dlext=so, d_dlsymun=undef, ccdlflags='-Wl,-E'
    cccdlflags='-fPIC', lddlflags='-shared -O2 -g -L/usr/local/lib -fstack-protector'


Characteristics of this binary (from libperl): 
  Compile-time options: HAS_TIMES PERLIO_LAYERS PERL_DONT_CREATE_GVSV
                        PERL_HASH_FUNC_ONE_AT_A_TIME_HARD PERL_MALLOC_WRAP
                        PERL_PRESERVE_IVUV PERL_SAWAMPERSAND PERL_USE_DEVEL
                        USE_64_BIT_ALL USE_64_BIT_INT USE_LARGE_FILES
                        USE_LOCALE USE_LOCALE_COLLATE USE_LOCALE_CTYPE
                        USE_LOCALE_NUMERIC USE_LONG_DOUBLE USE_PERLIO
                        USE_PERL_ATOF
  Locally applied patches:
	uncommitted-changes
  Built under linux
  Compiled at Oct  3 2017 19:53:19
  %ENV:
    PERL5LIB="/tmp/loop_over_bdir-4419-CdIfSD/Text-FormatTable-1.03-0/blib/arch:/tmp/loop_over_bdir-4419-CdIfSD/Text-FormatTable-1.03-0/blib/lib:/tmp/loop_over_bdir-4419-CdIfSD/Config-Auto-0.44-0/blib/arch:/tmp/loop_over_bdir-4419-CdIfSD/Config-Auto-0.44-0/blib/lib"
    PERL5OPT=""
    PERL5_CPANPLUS_IS_RUNNING="4422"
    PERL5_CPAN_IS_RUNNING="4422"
    PERL5_CPAN_IS_RUNNING_IN_RECURSION="2373,4422"
    PERL_CANARY_STABILITY_NOPROMPT="1"
    PERL_MM_USE_DEFAULT="1"
    PERL_USE_UNSAFE_INC="1"
  @INC:
    /tmp/loop_over_bdir-4419-CdIfSD/Text-FormatTable-1.03-0/blib/arch
    /tmp/loop_over_bdir-4419-CdIfSD/Text-FormatTable-1.03-0/blib/lib
    /tmp/loop_over_bdir-4419-CdIfSD/Config-Auto-0.44-0/blib/arch
    /tmp/loop_over_bdir-4419-CdIfSD/Config-Auto-0.44-0/blib/lib
    /home/sand/src/perl/repoperls/installed-perls/host/k93msid/v5.18.4/2d7c/lib/site_perl/5.18.4/x86_64-linux-ld
    /home/sand/src/perl/repoperls/installed-perls/host/k93msid/v5.18.4/2d7c/lib/site_perl/5.18.4
    /home/sand/src/perl/repoperls/installed-perls/host/k93msid/v5.18.4/2d7c/lib/5.18.4/x86_64-linux-ld
    /home/sand/src/perl/repoperls/installed-perls/host/k93msid/v5.18.4/2d7c/lib/5.18.4
    .