Report for PLUTO-0.30

Back
From: metabase:user:320bfe00-2aae-11df-837a-5e0a49663a4f
Subject: PASS PLUTO-0.30 v5.15.5 GNU/Linux
Date: 2011-11-22T19:57:49Z

This distribution has been tested as part of the CPAN Testers
project, supporting the Perl programming language.  See
http://wiki.cpantesters.org/ for more information or email
questions to cpan-testers-discuss@perl.org


--
Dear Edward Kawas,

This is a computer-generated report for PLUTO-0.30
on perl 5.15.5, created by CPAN-Reporter-1.1902.

Thank you for uploading your work to CPAN.  Congratulations!
All tests were successful.

Sections of this report:

    * Tester comments
    * Program output
    * Prerequisites
    * Environment and other context

------------------------------
TESTER COMMENTS
------------------------------

Additional comments from tester:

this report is from an automated smoke testing program
and was not reviewed by a human for accuracy

------------------------------
PROGRAM OUTPUT
------------------------------

Output from '/usr/bin/make test':

PERL_DL_NONLAZY=1 /home/sand/src/perl/repoperls/installed-perls/perl/v5.15.5-102-ga641336/9980/bin/perl "-MExtUtils::Command::MM" "-e" "test_harness(0, 'inc', 'blib/lib', 'blib/arch')" t/00_base.t t/10_nodes.t t/20_statements.t t/30_graph.t t/31_graph_memory.t t/40_parser.t t/41_parser_ntriples.t t/42_parser_xml.t t/43_parser_n3.t t/50_db.t t/60_jena.t t/61_jena_sql.t t/70_query.t t/71_query_simple.t t/72_query_rdql.t t/80_ontology.t t/81_ontology_rdfs.t t/81b_ontology_rdfs.t t/82_ontology_jena.t t/85_jena_graph_system.t
t/00_base.t ............... ok
Name "ODO::Node::Any::DEBUG" used only once: possible typo at /home/src/perl/repoperls/installed-perls/perl/v5.15.5-102-ga641336/9980/lib/site_perl/5.15.5/Class/Base.pm line 54.
t/10_nodes.t .............. ok
Name "ODO::Node::Any::DEBUG" used only once: possible typo at /home/src/perl/repoperls/installed-perls/perl/v5.15.5-102-ga641336/9980/lib/site_perl/5.15.5/Class/Base.pm line 54.
t/20_statements.t ......... ok
t/30_graph.t .............. ok
Name "ODO::Node::Any::DEBUG" used only once: possible typo at /home/src/perl/repoperls/installed-perls/perl/v5.15.5-102-ga641336/9980/lib/site_perl/5.15.5/Class/Base.pm line 54.
t/31_graph_memory.t ....... ok
Name "ODO::Node::Any::DEBUG" used only once: possible typo at /home/src/perl/repoperls/installed-perls/perl/v5.15.5-102-ga641336/9980/lib/site_perl/5.15.5/Class/Base.pm line 54.
t/40_parser.t ............. ok
Name "ODO::Node::Any::DEBUG" used only once: possible typo at /home/src/perl/repoperls/installed-perls/perl/v5.15.5-102-ga641336/9980/lib/site_perl/5.15.5/Class/Base.pm line 54.
t/41_parser_ntriples.t .... ok
Name "ODO::Node::Any::DEBUG" used only once: possible typo at /home/src/perl/repoperls/installed-perls/perl/v5.15.5-102-ga641336/9980/lib/site_perl/5.15.5/Class/Base.pm line 54.
Subroutine XML::Namespace::rdf redefined at /home/src/perl/repoperls/installed-perls/perl/v5.15.5-102-ga641336/9980/lib/site_perl/5.15.5/XML/Namespace.pm line 54.
Subroutine XML::Namespace::rdf redefined at /home/src/perl/repoperls/installed-perls/perl/v5.15.5-102-ga641336/9980/lib/site_perl/5.15.5/XML/Namespace.pm line 54.
Please download the latest approved test cases and place them in t/rdf.
See http://www.w3.org/2000/10/rdf-tests/rdfcore/latest_Approved.zip
t/42_parser_xml.t ......... ok
Name "ODO::Node::Any::DEBUG" used only once: possible typo at /home/src/perl/repoperls/installed-perls/perl/v5.15.5-102-ga641336/9980/lib/site_perl/5.15.5/Class/Base.pm line 54.
t/43_parser_n3.t .......... ok
t/50_db.t ................. ok
Name "ODO::Node::Any::DEBUG" used only once: possible typo at /home/src/perl/repoperls/installed-perls/perl/v5.15.5-102-ga641336/9980/lib/site_perl/5.15.5/Class/Base.pm line 54.
t/60_jena.t ............... ok
t/61_jena_sql.t ........... ok
Name "ODO::Query::Simple::DEBUG" used only once: possible typo at /home/src/perl/repoperls/installed-perls/perl/v5.15.5-102-ga641336/9980/lib/site_perl/5.15.5/Class/Base.pm line 54.
Name "ODO::Node::Any::DEBUG" used only once: possible typo at /home/src/perl/repoperls/installed-perls/perl/v5.15.5-102-ga641336/9980/lib/site_perl/5.15.5/Class/Base.pm line 54.
t/70_query.t .............. ok
Name "ODO::Query::Simple::DEBUG" used only once: possible typo at /home/src/perl/repoperls/installed-perls/perl/v5.15.5-102-ga641336/9980/lib/site_perl/5.15.5/Class/Base.pm line 54.
Name "ODO::Node::Any::DEBUG" used only once: possible typo at /home/src/perl/repoperls/installed-perls/perl/v5.15.5-102-ga641336/9980/lib/site_perl/5.15.5/Class/Base.pm line 54.
t/71_query_simple.t ....... ok
Name "ODO::Query::Simple::DEBUG" used only once: possible typo at /home/src/perl/repoperls/installed-perls/perl/v5.15.5-102-ga641336/9980/lib/site_perl/5.15.5/Class/Base.pm line 54.
Name "ODO::Node::Any::DEBUG" used only once: possible typo at /home/src/perl/repoperls/installed-perls/perl/v5.15.5-102-ga641336/9980/lib/site_perl/5.15.5/Class/Base.pm line 54.
Use of uninitialized value in substr at /home/src/perl/repoperls/installed-perls/perl/v5.15.5-102-ga641336/9980/lib/site_perl/5.15.5/Class/ParamParser.pm line 353.
Subroutine XML::Namespace::rdf redefined at /home/src/perl/repoperls/installed-perls/perl/v5.15.5-102-ga641336/9980/lib/site_perl/5.15.5/XML/Namespace.pm line 54.
Subroutine XML::Namespace::rdf redefined at /home/src/perl/repoperls/installed-perls/perl/v5.15.5-102-ga641336/9980/lib/site_perl/5.15.5/XML/Namespace.pm line 54.
t/72_query_rdql.t ......... ok
Name "ODO::Query::Simple::DEBUG" used only once: possible typo at /home/src/perl/repoperls/installed-perls/perl/v5.15.5-102-ga641336/9980/lib/site_perl/5.15.5/Class/Base.pm line 54.
Name "ODO::Node::Any::DEBUG" used only once: possible typo at /home/src/perl/repoperls/installed-perls/perl/v5.15.5-102-ga641336/9980/lib/site_perl/5.15.5/Class/Base.pm line 54.
t/80_ontology.t ........... ok
Subroutine XML::Namespace::rdf redefined at /home/src/perl/repoperls/installed-perls/perl/v5.15.5-102-ga641336/9980/lib/site_perl/5.15.5/XML/Namespace.pm line 54.
Name "ODO::Query::Simple::DEBUG" used only once: possible typo at /home/src/perl/repoperls/installed-perls/perl/v5.15.5-102-ga641336/9980/lib/site_perl/5.15.5/Class/Base.pm line 54.
Name "ODO::Node::Any::DEBUG" used only once: possible typo at /home/src/perl/repoperls/installed-perls/perl/v5.15.5-102-ga641336/9980/lib/site_perl/5.15.5/Class/Base.pm line 54.
Subroutine XML::Namespace::rdf redefined at /home/src/perl/repoperls/installed-perls/perl/v5.15.5-102-ga641336/9980/lib/site_perl/5.15.5/XML/Namespace.pm line 54.
Subroutine XML::Namespace::rdfs redefined at /home/src/perl/repoperls/installed-perls/perl/v5.15.5-102-ga641336/9980/lib/site_perl/5.15.5/XML/Namespace.pm line 54.
Subroutine XML::Namespace::rdf redefined at /home/src/perl/repoperls/installed-perls/perl/v5.15.5-102-ga641336/9980/lib/site_perl/5.15.5/XML/Namespace.pm line 54.
Odd number of elements in hash assignment at /tmp/loop_over_bdir-FRwHZt/PLUTO-0.30-u9_8Hw/blib/lib/ODO/RDFS/Resource.pm line 24.
Odd number of elements in hash assignment at /tmp/loop_over_bdir-FRwHZt/PLUTO-0.30-u9_8Hw/blib/lib/ODO/RDFS/Class.pm line 24.
Odd number of elements in hash assignment at /tmp/loop_over_bdir-FRwHZt/PLUTO-0.30-u9_8Hw/blib/lib/ODO/RDFS/Resource.pm line 24.
Odd number of elements in hash assignment at (eval 167) line 34.
Odd number of elements in hash assignment at (eval 148) line 34.
Odd number of elements in hash assignment at (eval 197) line 34.
Odd number of elements in hash assignment at /tmp/loop_over_bdir-FRwHZt/PLUTO-0.30-u9_8Hw/blib/lib/ODO/RDFS/Container.pm line 24.
Odd number of elements in hash assignment at /tmp/loop_over_bdir-FRwHZt/PLUTO-0.30-u9_8Hw/blib/lib/ODO/RDFS/Resource.pm line 24.
Odd number of elements in hash assignment at (eval 167) line 34.
Odd number of elements in hash assignment at (eval 148) line 34.
Odd number of elements in hash assignment at (eval 197) line 34.
Odd number of elements in hash assignment at /tmp/loop_over_bdir-FRwHZt/PLUTO-0.30-u9_8Hw/blib/lib/ODO/RDFS/Container.pm line 24.
Odd number of elements in hash assignment at /tmp/loop_over_bdir-FRwHZt/PLUTO-0.30-u9_8Hw/blib/lib/ODO/RDFS/Resource.pm line 24.
t/81_ontology_rdfs.t ...... ok
Subroutine XML::Namespace::rdf redefined at /home/src/perl/repoperls/installed-perls/perl/v5.15.5-102-ga641336/9980/lib/site_perl/5.15.5/XML/Namespace.pm line 54.
Name "ODO::Query::Simple::DEBUG" used only once: possible typo at /home/src/perl/repoperls/installed-perls/perl/v5.15.5-102-ga641336/9980/lib/site_perl/5.15.5/Class/Base.pm line 54.
Name "ODO::Node::Any::DEBUG" used only once: possible typo at /home/src/perl/repoperls/installed-perls/perl/v5.15.5-102-ga641336/9980/lib/site_perl/5.15.5/Class/Base.pm line 54.
Subroutine XML::Namespace::rdf redefined at /home/src/perl/repoperls/installed-perls/perl/v5.15.5-102-ga641336/9980/lib/site_perl/5.15.5/XML/Namespace.pm line 54.
Subroutine XML::Namespace::rdfs redefined at /home/src/perl/repoperls/installed-perls/perl/v5.15.5-102-ga641336/9980/lib/site_perl/5.15.5/XML/Namespace.pm line 54.
Subroutine XML::Namespace::rdf redefined at /home/src/perl/repoperls/installed-perls/perl/v5.15.5-102-ga641336/9980/lib/site_perl/5.15.5/XML/Namespace.pm line 54.
Odd number of elements in hash assignment at /tmp/loop_over_bdir-FRwHZt/PLUTO-0.30-u9_8Hw/blib/lib/ODO/RDFS/Resource.pm line 24.
Odd number of elements in hash assignment at /tmp/loop_over_bdir-FRwHZt/PLUTO-0.30-u9_8Hw/blib/lib/ODO/RDFS/Class.pm line 24.
Odd number of elements in hash assignment at /tmp/loop_over_bdir-FRwHZt/PLUTO-0.30-u9_8Hw/blib/lib/ODO/RDFS/Resource.pm line 24.
Odd number of elements in hash assignment at (eval 167) line 34.
Odd number of elements in hash assignment at (eval 148) line 34.
Odd number of elements in hash assignment at (eval 197) line 34.
Odd number of elements in hash assignment at /tmp/loop_over_bdir-FRwHZt/PLUTO-0.30-u9_8Hw/blib/lib/ODO/RDFS/Container.pm line 24.
Odd number of elements in hash assignment at /tmp/loop_over_bdir-FRwHZt/PLUTO-0.30-u9_8Hw/blib/lib/ODO/RDFS/Resource.pm line 24.
Odd number of elements in hash assignment at (eval 167) line 34.
Odd number of elements in hash assignment at (eval 148) line 34.
Odd number of elements in hash assignment at (eval 197) line 34.
Odd number of elements in hash assignment at /tmp/loop_over_bdir-FRwHZt/PLUTO-0.30-u9_8Hw/blib/lib/ODO/RDFS/Container.pm line 24.
Odd number of elements in hash assignment at /tmp/loop_over_bdir-FRwHZt/PLUTO-0.30-u9_8Hw/blib/lib/ODO/RDFS/Resource.pm line 24.
t/81b_ontology_rdfs.t ..... ok
Name "ODO::Query::Simple::DEBUG" used only once: possible typo at /home/src/perl/repoperls/installed-perls/perl/v5.15.5-102-ga641336/9980/lib/site_perl/5.15.5/Class/Base.pm line 54.
Name "ODO::Node::Any::DEBUG" used only once: possible typo at /home/src/perl/repoperls/installed-perls/perl/v5.15.5-102-ga641336/9980/lib/site_perl/5.15.5/Class/Base.pm line 54.
t/82_ontology_jena.t ...... ok
t/85_jena_graph_system.t .. skipped: Ignored because of problems installing DBD::mysql
All tests successful.
Files=20, Tests=192,  3 wallclock secs ( 0.08 usr  0.01 sys +  2.01 cusr  0.22 csys =  2.32 CPU)
Result: PASS

------------------------------
PREREQUISITES
------------------------------

Prerequisite modules loaded:

requires:

    Module                    Need   Have    
    ------------------------- ------ --------
    Aspect                    0.10   1.01    
    Class::Accessor           0.25   0.34    
    Class::Base               0.02   0.03    
    Class::Interfaces         0.04   0.04    
    Class::ISA                0.32   0.36    
    Class::ParamParser        1.041  1.041   
    Digest::MD5               2.34   2.51    
    Error                     0.17   0.17016 
    Exception::Class          1.22   1.32    
    Exception::Class::DBI     0.94   1.01    
    Module::Load              0.10   0.22    
    Module::Load::Conditional 0.38   0.46    
    Params::Check             0.23   0.32    
    Parse::RecDescent         1.93   1.965001
  ! SQL::Library              v0.0.3      
    Template                  2.15   2.22    
    Time::HiRes               1.20   1.9724  
    URI                       1.35   1.59    
    XML::LibXML               1.70   1.88    
    XML::Namespace            0.02   0.02    
    XML::RegExp               0.02   0.02    
    XML::SAX                  0.96   0.99    

build_requires:

    Module                    Need   Have    
    ------------------------- ------ --------
    ExtUtils::MakeMaker       6.42   6.63_02 

configure_requires:

    Module                    Need   Have    
    ------------------------- ------ --------
    ExtUtils::MakeMaker       6.42   6.63_02 


------------------------------
ENVIRONMENT AND OTHER CONTEXT
------------------------------

Environment variables:

    AUTOMATED_TESTING = 1
    LANG = en_US.UTF-8
    LANGUAGE = en_US:en
    PATH = /home/sand/bin:/usr/local/bin:/usr/bin:/bin:/usr/bin/X11:/usr/games:/usr/local/perl/bin:/usr/X11/bin:/sbin:/usr/sbin
    PERL5LIB = /tmp/loop_over_bdir-FRwHZt/Mail-SpamAssassin-2.43-MHDt69/blib/arch:/tmp/loop_over_bdir-FRwHZt/Mail-SpamAssassin-2.43-MHDt69/blib/lib
    PERL5OPT = 
    PERL5_CPANPLUS_IS_RUNNING = 12294
    PERL5_CPAN_IS_RUNNING = 12294
    PERL_MM_USE_DEFAULT = 1
    SHELL = /usr/bin/zsh
    TERM = screen

Perl special variables (and OS-specific diagnostics, for MSWin32):

    $^X = /home/sand/src/perl/repoperls/installed-perls/perl/v5.15.5-102-ga641336/9980/bin/perl
    $UID/$EUID = 1005 / 1005
    $GID = 1005 1005
    $EGID = 1005 1005

Perl module toolchain versions installed:

    Module              Have    
    ------------------- --------
    CPAN                1.9800  
    Cwd                 3.37    
    ExtUtils::CBuilder  0.280204
    ExtUtils::Command   1.17    
    ExtUtils::Install   1.57    
    ExtUtils::MakeMaker 6.63_02 
    ExtUtils::Manifest  1.60    
    ExtUtils::ParseXS   3.05    
    File::Spec          3.34    
    Module::Build       0.39_01 
    Module::Signature   0.68    
    Test::Harness       3.23    
    Test::More          0.98    
    YAML                0.77    
    YAML::Syck          1.19    
    version             0.95    


--

Summary of my perl5 (revision 5 version 15 subversion 5) configuration:
  Commit id: a64133684ecb3c95280331d68367527f9c07eaea
  Platform:
    osname=linux, osvers=2.6.32-5-amd64, archname=x86_64-linux-thread-multi
    uname='linux k83 2.6.32-5-amd64 #1 smp mon oct 3 03:59:20 utc 2011 x86_64 gnulinux '
    config_args='-Dprefix=/home/src/perl/repoperls/installed-perls/perl/v5.15.5-102-ga641336/9980 -Dmyhostname=k83 -Dinstallusrbinperl=n -Uversiononly -Dusedevel -des -Ui_db -Duseithreads -Uuselongdouble -DDEBUGGING=-g'
    hint=recommended, useposix=true, d_sigaction=define
    useithreads=define, usemultiplicity=define
    useperlio=define, d_sfio=undef, uselargefiles=define, usesocks=undef
    use64bitint=define, use64bitall=define, uselongdouble=undef
    usemymalloc=n, bincompat5005=undef
  Compiler:
    cc='cc', ccflags ='-D_REENTRANT -D_GNU_SOURCE -fno-strict-aliasing -pipe -fstack-protector -I/usr/local/include -D_LARGEFILE_SOURCE -D_FILE_OFFSET_BITS=64',
    optimize='-O2 -g',
    cppflags='-D_REENTRANT -D_GNU_SOURCE -fno-strict-aliasing -pipe -fstack-protector -I/usr/local/include'
    ccversion='', gccversion='4.4.5', gccosandvers=''
    intsize=4, longsize=8, ptrsize=8, doublesize=8, byteorder=12345678
    d_longlong=define, longlongsize=8, d_longdbl=define, longdblsize=16
    ivtype='long', ivsize=8, nvtype='double', nvsize=8, Off_t='off_t', lseeksize=8
    alignbytes=8, prototype=define
  Linker and Libraries:
    ld='cc', ldflags =' -fstack-protector -L/usr/local/lib'
    libpth=/usr/local/lib /lib/../lib /usr/lib/../lib /lib /usr/lib /lib64 /usr/lib64
    libs=-lnsl -ldb -ldl -lm -lcrypt -lutil -lpthread -lc
    perllibs=-lnsl -ldl -lm -lcrypt -lutil -lpthread -lc
    libc=/lib/libc-2.11.2.so, so=so, useshrplib=false, libperl=libperl.a
    gnulibc_version='2.11.2'
  Dynamic Linking:
    dlsrc=dl_dlopen.xs, dlext=so, d_dlsymun=undef, ccdlflags='-Wl,-E'
    cccdlflags='-fPIC', lddlflags='-shared -O2 -g -L/usr/local/lib -fstack-protector'


Characteristics of this binary (from libperl): 
  Compile-time options: HAS_TIMES MULTIPLICITY PERLIO_LAYERS
                        PERL_DONT_CREATE_GVSV PERL_IMPLICIT_CONTEXT
                        PERL_MALLOC_WRAP PERL_PRESERVE_IVUV PERL_USE_DEVEL
                        USE_64_BIT_ALL USE_64_BIT_INT USE_ITHREADS
                        USE_LARGE_FILES USE_LOCALE USE_LOCALE_COLLATE
                        USE_LOCALE_CTYPE USE_LOCALE_NUMERIC USE_PERLIO
                        USE_PERL_ATOF USE_REENTRANT_API
  Built under linux
  Compiled at Nov 22 2011 08:01:12
  %ENV:
    PERL5LIB="/tmp/loop_over_bdir-FRwHZt/Mail-SpamAssassin-2.43-MHDt69/blib/arch:/tmp/loop_over_bdir-FRwHZt/Mail-SpamAssassin-2.43-MHDt69/blib/lib"
    PERL5OPT=""
    PERL5_CPANPLUS_IS_RUNNING="12294"
    PERL5_CPAN_IS_RUNNING="12294"
    PERL_MM_USE_DEFAULT="1"
  @INC:
    /tmp/loop_over_bdir-FRwHZt/Mail-SpamAssassin-2.43-MHDt69/blib/arch
    /tmp/loop_over_bdir-FRwHZt/Mail-SpamAssassin-2.43-MHDt69/blib/lib
    /home/src/perl/repoperls/installed-perls/perl/v5.15.5-102-ga641336/9980/lib/site_perl/5.15.5/x86_64-linux-thread-multi
    /home/src/perl/repoperls/installed-perls/perl/v5.15.5-102-ga641336/9980/lib/site_perl/5.15.5
    /home/src/perl/repoperls/installed-perls/perl/v5.15.5-102-ga641336/9980/lib/5.15.5/x86_64-linux-thread-multi
    /home/src/perl/repoperls/installed-perls/perl/v5.15.5-102-ga641336/9980/lib/5.15.5
    .