YAHC v0.035 Perl 5 v5.27.8 OpenBSD.amd64-openbsd
- Status
- Pass
- From
- Alceu Rodrigues de Freitas Junior
- Dist
-
YAHC v0.035
- Platform
- Perl 5 v5.27.8 OpenBSD.amd64-openbsd
- Date
- 2018-01-24 17:23:12
- ID
- 418c501c-012b-11e8-b857-fc4fb4f8e35c
This distribution has been tested as part of the CPAN Testers
project, supporting the Perl programming language. See
http://wiki.cpantesters.org/ for more information or email
questions to cpan-testers-discuss@perl.org
--
Dear Ivan Kruglov,
This is a computer-generated report for YAHC-0.035
on perl 5.27.8, created by CPAN-Reporter-1.2018.
Thank you for uploading your work to CPAN. Congratulations!
All tests were successful.
Sections of this report:
* Tester comments
* Program output
* Prerequisites
* Environment and other context
------------------------------
TESTER COMMENTS
------------------------------
Additional comments from tester:
this report is from an automated smoke testing program
and was not reviewed by a human for accuracy
------------------------------
PROGRAM OUTPUT
------------------------------
Output from '/usr/bin/make test':
PERL_DL_NONLAZY=1 "/home/vegeta/perl5/perlbrew/perls/perl-5.27.8/bin/perl5.27.8" "-MExtUtils::Command::MM" "-MTest::Harness" "-e" "undef *Test::Harness::Switches; test_harness(0, 'inc', 'blib/lib', 'blib/arch')" t/*.t
# Perl/v5.27.8
# YAHC/0.035
t/000_compile.t .................... ok
t/005_circular_references_check.t .. ok
t/010_build_http_message.t ......... ok
t/015_parse_http_headers.t ......... ok
t/016_chunked.t .................... ok
t/017_content_length.t ............. ok
t/023_state_connected.t ............ ok
t/024_state_write.t ................ ok
t/025_state_read.t ................. ok
t/100_account_for_signal.t ......... ok
t/110_attempt.t .................... ok
t/120_selected_target.t ............ ok
t/130_yahc_functions.t ............. ok
t/140_yahc_loop.t .................. ok
t/200_live_google.t ................ skipped: Enable live testing by setting env: TEST_LIVE=1
t/210_live_timeout_connected.t ..... skipped: Enable live testing by setting env: TEST_LIVE=1
t/220_live_unixis.t ................ skipped: Enable live testing by setting env: TEST_LIVE=1
t/230_live_requests.t .............. skipped: Enable live testing by setting env: TEST_LIVE=1
t/240_live_socket_cache.t .......... skipped: Enable live testing by setting env: TEST_LIVE=1
t/300_robust.t ..................... skipped: Enable robust testing by setting env: TEST_ROBUST=1
All tests successful.
Files=20, Tests=96, 8 wallclock secs ( 0.05 usr 0.21 sys + 2.95 cusr 1.60 csys = 4.81 CPU)
Result: PASS
------------------------------
PREREQUISITES
------------------------------
Prerequisite modules loaded:
requires:
Module Need Have
----------------------- ---- --------
EV 0 4.22
Fcntl 0 1.13
IO::Socket::SSL 0 2.054
POSIX 0 1.81
Scalar::Util 0 1.49
Socket 0 2.027
Time::HiRes 0 1.9753
build_requires:
Module Need Have
----------------------- ---- --------
Data::Dumper 0 2.170
ExtUtils::MakeMaker 6.36 7.31_07
FindBin 0 1.51
HTTP::Tiny 0 0.070
IO::Socket::INET 0 1.35
JSON 0 2.97001
List::Util 0 1.49
Net::Ping 2.41 2.62
Plack 0 1.0045
Plack::Handler::Starman 0 0
Test::Exception 0 0.43
Test::Memory::Cycle 0 1.06
Test::More 0.88 1.302120
Time::HiRes 0 1.9753
configure_requires:
Module Need Have
----------------------- ---- --------
ExtUtils::MakeMaker 6.36 7.31_07
------------------------------
ENVIRONMENT AND OTHER CONTEXT
------------------------------
Environment variables:
AUTOMATED_TESTING = 1
DBD_MYSQL_TESTDB = test
DBD_MYSQL_TESTHOST = localhost
DBD_MYSQL_TESTPASSWORD =
DBD_MYSQL_TESTPORT = 3306
DBD_MYSQL_TESTUSER = vegeta
EXTENDED_TESTING = 1
PATH = /home/vegeta/perl5/perlbrew/bin:/home/vegeta/perl5/perlbrew/perls/perl-5.27.8/bin:/home/vegeta/bin:/usr/bin:/bin:/usr/sbin:/sbin:/usr/X11R6/bin:/usr/local/bin:/usr/local/sbin
PERL5LIB =
PERL5OPT =
PERL5_CPANPLUS_IS_RUNNING = 30591
PERL5_CPAN_IS_RUNNING = 30591
PERL5_CPAN_IS_RUNNING_IN_RECURSION = 60540,30591
PERLBREW_HOME = /home/vegeta/.perlbrew
PERLBREW_MANPATH = /home/vegeta/perl5/perlbrew/perls/perl-5.27.8/man
PERLBREW_PATH = /home/vegeta/perl5/perlbrew/bin:/home/vegeta/perl5/perlbrew/perls/perl-5.27.8/bin
PERLBREW_PERL = perl-5.27.8
PERLBREW_ROOT = /home/vegeta/perl5/perlbrew
PERLBREW_SHELLRC_VERSION = 0.82
PERLBREW_VERSION = 0.82
PERL_CR_SMOKER_CURRENT = PONAPI-Client-0.002010
PERL_EXTUTILS_AUTOINSTALL = --defaultdeps
PERL_MM_USE_DEFAULT = 1
PERL_USE_UNSAFE_INC = 1
SHELL = /usr/local/bin/bash
TERM = xterm
Perl special variables (and OS-specific diagnostics, for MSWin32):
$^X = /home/vegeta/perl5/perlbrew/perls/perl-5.27.8/bin/perl5.27.8
$UID/$EUID = 1002 / 1002
$GID = 1002 1002 1001
$EGID = 1002 1002 1001
Perl module toolchain versions installed:
Module Have
------------------- --------
CPAN 2.20
CPAN::Meta 2.150010
Cwd 3.72
ExtUtils::CBuilder 0.280230
ExtUtils::Command 7.31_07
ExtUtils::Install 2.14
ExtUtils::MakeMaker 7.31_07
ExtUtils::Manifest 1.70
ExtUtils::ParseXS 3.36_03
File::Spec 3.72
JSON 2.97001
JSON::PP 2.97001
Module::Build 0.42_26
Module::Signature n/a
Parse::CPAN::Meta 2.150010
Test::Harness 3.39
Test::More 1.302120
YAML 1.24
YAML::Syck n/a
version 0.9918
--
Summary of my perl5 (revision 5 version 27 subversion 8) configuration:
Platform:
osname=openbsd
osvers=6.2
archname=OpenBSD.amd64-openbsd
uname='openbsd cpan-smoker-openbsd 6.2 generic.mp#134 amd64 '
config_args='-de -Dprefix=/home/vegeta/perl5/perlbrew/perls/perl-5.27.8 -Dusedevel -Aeval:scriptdir=/home/vegeta/perl5/perlbrew/perls/perl-5.27.8/bin'
hint=recommended
useposix=true
d_sigaction=define
useithreads=undef
usemultiplicity=undef
use64bitint=define
use64bitall=define
uselongdouble=undef
usemymalloc=n
default_inc_excludes_dot=define
bincompat5005=undef
Compiler:
cc='cc'
ccflags ='-fno-strict-aliasing -pipe -fstack-protector-strong -I/usr/local/include -D_FORTIFY_SOURCE=2'
optimize='-O2'
cppflags='-fno-strict-aliasing -pipe -fstack-protector-strong -I/usr/local/include'
ccversion=''
gccversion='4.2.1 Compatible OpenBSD Clang 4.0.0 (tags/RELEASE_400/final)'
gccosandvers=''
intsize=4
longsize=8
ptrsize=8
doublesize=8
byteorder=12345678
doublekind=3
d_longlong=define
longlongsize=8
d_longdbl=define
longdblsize=16
longdblkind=3
ivtype='long'
ivsize=8
nvtype='double'
nvsize=8
Off_t='off_t'
lseeksize=8
alignbytes=8
prototype=define
Linker and Libraries:
ld='cc'
ldflags ='-Wl,-E -fstack-protector-strong -L/usr/local/lib'
libpth=/usr/lib /usr/local/lib
libs=-lpthread -lm -lutil -lc
perllibs=-lpthread -lm -lutil -lc
libc=/usr/lib/libc.so.90.0
so=so
useshrplib=false
libperl=libperl.a
gnulibc_version=''
Dynamic Linking:
dlsrc=dl_dlopen.xs
dlext=so
d_dlsymun=undef
ccdlflags=' '
cccdlflags='-DPIC -fPIC '
lddlflags='-shared -fPIC -L/usr/local/lib -fstack-protector-strong'
Characteristics of this binary (from libperl):
Compile-time options:
HAS_TIMES
PERLIO_LAYERS
PERL_COPY_ON_WRITE
PERL_DONT_CREATE_GVSV
PERL_MALLOC_WRAP
PERL_OP_PARENT
PERL_PRESERVE_IVUV
PERL_USE_DEVEL
USE_64_BIT_ALL
USE_64_BIT_INT
USE_LARGE_FILES
USE_LOCALE
USE_LOCALE_COLLATE
USE_LOCALE_CTYPE
USE_LOCALE_NUMERIC
USE_LOCALE_TIME
USE_PERLIO
USE_PERL_ATOF
Locally applied patches:
Devel::PatchPerl 1.48
Built under openbsd
Compiled at Jan 23 2018 17:20:45
%ENV:
PERL5LIB=""
PERL5OPT=""
PERL5_CPANPLUS_IS_RUNNING="30591"
PERL5_CPAN_IS_RUNNING="30591"
PERL5_CPAN_IS_RUNNING_IN_RECURSION="60540,30591"
PERLBREW_HOME="/home/vegeta/.perlbrew"
PERLBREW_MANPATH="/home/vegeta/perl5/perlbrew/perls/perl-5.27.8/man"
PERLBREW_PATH="/home/vegeta/perl5/perlbrew/bin:/home/vegeta/perl5/perlbrew/perls/perl-5.27.8/bin"
PERLBREW_PERL="perl-5.27.8"
PERLBREW_ROOT="/home/vegeta/perl5/perlbrew"
PERLBREW_SHELLRC_VERSION="0.82"
PERLBREW_VERSION="0.82"
PERL_CR_SMOKER_CURRENT="PONAPI-Client-0.002010"
PERL_EXTUTILS_AUTOINSTALL="--defaultdeps"
PERL_MM_USE_DEFAULT="1"
PERL_USE_UNSAFE_INC="1"
@INC:
/home/vegeta/perl5/perlbrew/perls/perl-5.27.8/lib/site_perl/5.27.8/OpenBSD.amd64-openbsd
/home/vegeta/perl5/perlbrew/perls/perl-5.27.8/lib/site_perl/5.27.8
/home/vegeta/perl5/perlbrew/perls/perl-5.27.8/lib/5.27.8/OpenBSD.amd64-openbsd
/home/vegeta/perl5/perlbrew/perls/perl-5.27.8/lib/5.27.8
.