Back
From: metabase:user:320bfe00-2aae-11df-837a-5e0a49663a4f
Subject: PASS Filter-Crypto-2.07 v5.18.4 GNU/Linux
Date: 2016-03-16T17:55:23Z
This distribution has been tested as part of the CPAN Testers
project, supporting the Perl programming language. See
http://wiki.cpantesters.org/ for more information or email
questions to cpan-testers-discuss@perl.org
--
Dear Steve Hay,
This is a computer-generated report for Filter-Crypto-2.07
on perl 5.18.4, created by CPAN-Reporter-1.2017.
Thank you for uploading your work to CPAN. Congratulations!
All tests were successful.
Sections of this report:
* Tester comments
* Program output
* Prerequisites
* Environment and other context
------------------------------
TESTER COMMENTS
------------------------------
Additional comments from tester:
this report is from an automated smoke testing program
and was not reviewed by a human for accuracy
------------------------------
PROGRAM OUTPUT
------------------------------
Output from '/usr/bin/make test':
make[1]: Entering directory '/tmp/loop_over_bdir-3357-4ulnAk/Filter-Crypto-2.07-qZEOB_/CryptFile'
Running Mkbootstrap for Filter::Crypto::CryptFile ()
chmod 644 "CryptFile.bs"
Manifying 1 pod document
make[1]: Leaving directory '/tmp/loop_over_bdir-3357-4ulnAk/Filter-Crypto-2.07-qZEOB_/CryptFile'
make[1]: Entering directory '/tmp/loop_over_bdir-3357-4ulnAk/Filter-Crypto-2.07-qZEOB_/Decrypt'
Running Mkbootstrap for Filter::Crypto::Decrypt ()
chmod 644 "Decrypt.bs"
Manifying 1 pod document
make[1]: Leaving directory '/tmp/loop_over_bdir-3357-4ulnAk/Filter-Crypto-2.07-qZEOB_/Decrypt'
PERL_DL_NONLAZY=1 "/tmp/basesmoker-reloperl-y9H1/bin/perl" "-MExtUtils::Command::MM" "-MTest::Harness" "-e" "undef *Test::Harness::Switches; test_harness(0, 'blib/lib', 'blib/arch')" t/*.t
t/01_imports_01.t .... ok
t/01_imports_02.t .... ok
t/01_imports_03.t .... ok
t/01_imports_04.t .... ok
t/02_function.t ...... ok
t/03_script.t ........ ok
t/04_par.t ........... ok
t/05_errstr.t ........ ok
t/06_changes.t ....... skipped: Author testing only
t/07_critic.t ........ skipped: Author testing only
t/08_pod.t ........... skipped: Author testing only
t/09_pod_coverage.t .. skipped: Author testing only
All tests successful.
Files=12, Tests=448, 17 wallclock secs ( 0.12 usr 0.06 sys + 12.05 cusr 3.70 csys = 15.93 CPU)
Result: PASS
------------------------------
PREREQUISITES
------------------------------
Prerequisite modules loaded:
requires:
Module Need Have
--------------------- -------- ---------
Carp 0 1.38
Config 0 5.018004
constant 0 1.33
Cwd 0 3.62
Exporter 0 5.72
ExtUtils::MakeMaker 6.66 7.10
Fcntl 0 1.11
File::Basename 0 2.84
File::Copy 0 2.26
File::Find 0 1.23
File::Spec::Functions 0 3.62
File::Temp 0 0.2304
Getopt::Long 0 2.48
perl 5.008001 5.018004
Pod::Usage 1.15 1.68
Scalar::Util 0 1.43
strict 0 1.07
Text::ParseWords 0 3.30
Text::Wrap 0 2013.0523
warnings 0 1.18
XSLoader 0 0.16
build_requires:
Module Need Have
--------------------- -------- ---------
blib 0 1.06
ExtUtils::MakeMaker 0 7.10
FindBin 0 1.51
Test::More 0 1.001014
configure_requires:
Module Need Have
--------------------- -------- ---------
Carp 0 1.38
Config 0 5.018004
constant 0 1.33
Cwd 0 3.62
ExtUtils::MakeMaker 6.66 7.10
Fcntl 0 1.11
File::Basename 0 2.84
File::Copy 0 2.26
File::Spec::Functions 0 3.62
Getopt::Long 0 2.48
perl 5.008001 5.018004
Pod::Usage 1.15 1.68
strict 0 1.07
Text::Wrap 0 2013.0523
warnings 0 1.18
------------------------------
ENVIRONMENT AND OTHER CONTEXT
------------------------------
Environment variables:
AUTOMATED_TESTING = 1
LANG = en_US.UTF-8
LANGUAGE = en_US:en
PATH = /usr/lib/ccache:/home/sand/bin:/usr/local/bin:/usr/bin:/bin:/usr/games:/usr/local/perl/bin:/usr/X11/bin:/sbin:/usr/sbin
PERL5LIB =
PERL5OPT =
PERL5_CPANPLUS_IS_RUNNING = 13628
PERL5_CPAN_IS_RUNNING = 13628
PERL_CANARY_STABILITY_NOPROMPT = 1
PERL_MM_USE_DEFAULT = 1
SHELL = /usr/bin/zsh
TERM = screen
Perl special variables (and OS-specific diagnostics, for MSWin32):
$^X = /tmp/basesmoker-reloperl-y9H1/bin/perl
$UID/$EUID = 1005 / 1005
$GID = 1005 1005
$EGID = 1005 1005
Perl module toolchain versions installed:
Module Have
------------------- --------
CPAN 2.10
CPAN::Meta 2.150005
Cwd 3.62
ExtUtils::CBuilder 0.280224
ExtUtils::Command 7.10
ExtUtils::Install 1.59
ExtUtils::MakeMaker 7.10
ExtUtils::Manifest 1.70
ExtUtils::ParseXS 3.30
File::Spec 3.62
JSON 2.90
JSON::PP 2.27300
Module::Build 0.4216
Module::Signature 0.79
Parse::CPAN::Meta 1.4417
Test::Harness 3.36
Test::More 1.001014
YAML 1.15
YAML::Syck 1.29
version 0.9915
--
Summary of my perl5 (revision 5 version 18 subversion 4) configuration:
Derived from: 51202371ba68f3f52f13124a3ea1bc3c171e0ee2
Platform:
osname=linux, osvers=4.3.0-1-amd64, archname=x86_64-linux
uname='linux k83 4.3.0-1-amd64 #1 smp debian 4.3.3-7 (2016-01-19) x86_64 gnulinux '
config_args='-Dprefix=/home/sand/src/perl/repoperls/installed-perls/perl/v5.18.4/79cc -Dmyhostname=k83 -Dinstallusrbinperl=n -Uversiononly -Dusedevel -des -Ui_db -Dlibswanted=cl pthread socket inet nsl gdbm dbm malloc dl ld sun m crypt sec util c cposix posix ucb BSD gdbm_compat -Uuseithreads -Uuselongdouble -DDEBUGGING=-g'
hint=recommended, useposix=true, d_sigaction=define
useithreads=undef, usemultiplicity=undef
useperlio=define, d_sfio=undef, uselargefiles=define, usesocks=undef
use64bitint=define, use64bitall=define, uselongdouble=undef
usemymalloc=n, bincompat5005=undef
Compiler:
cc='cc', ccflags ='-fno-strict-aliasing -pipe -fstack-protector -I/usr/local/include -D_LARGEFILE_SOURCE -D_FILE_OFFSET_BITS=64',
optimize='-O2 -g',
cppflags='-fno-strict-aliasing -pipe -fstack-protector -I/usr/local/include'
ccversion='', gccversion='5.3.1 20160121', gccosandvers=''
intsize=4, longsize=8, ptrsize=8, doublesize=8, byteorder=12345678
d_longlong=define, longlongsize=8, d_longdbl=define, longdblsize=16
ivtype='long', ivsize=8, nvtype='double', nvsize=8, Off_t='off_t', lseeksize=8
alignbytes=8, prototype=define
Linker and Libraries:
ld='cc', ldflags =' -fstack-protector -L/usr/local/lib'
libpth=/usr/local/lib /lib/x86_64-linux-gnu /lib/../lib /usr/lib/x86_64-linux-gnu /usr/lib/../lib /lib /usr/lib
libs=-lpthread -lnsl -lgdbm -ldl -lm -lcrypt -lutil -lc -lgdbm_compat
perllibs=-lpthread -lnsl -ldl -lm -lcrypt -lutil -lc
libc=libc-2.21.so, so=so, useshrplib=false, libperl=libperl.a
gnulibc_version='2.21'
Dynamic Linking:
dlsrc=dl_dlopen.xs, dlext=so, d_dlsymun=undef, ccdlflags='-Wl,-E'
cccdlflags='-fPIC', lddlflags='-shared -O2 -g -L/usr/local/lib -fstack-protector'
Characteristics of this binary (from libperl):
Compile-time options: HAS_TIMES PERLIO_LAYERS PERL_DONT_CREATE_GVSV
PERL_HASH_FUNC_ONE_AT_A_TIME_HARD PERL_MALLOC_WRAP
PERL_PRESERVE_IVUV PERL_SAWAMPERSAND PERL_USE_DEVEL
USE_64_BIT_ALL USE_64_BIT_INT USE_LARGE_FILES
USE_LOCALE USE_LOCALE_COLLATE USE_LOCALE_CTYPE
USE_LOCALE_NUMERIC USE_PERLIO USE_PERL_ATOF
Locally applied patches:
uncommitted-changes
Devel::PatchPerl 1.40
Built under linux
Compiled at Mar 15 2016 08:39:31
%ENV:
PERL5LIB=""
PERL5OPT=""
PERL5_CPANPLUS_IS_RUNNING="13628"
PERL5_CPAN_IS_RUNNING="13628"
PERL_CANARY_STABILITY_NOPROMPT="1"
PERL_MM_USE_DEFAULT="1"
@INC:
/home/sand/src/perl/repoperls/installed-perls/perl/v5.18.4/79cc/lib/site_perl/5.18.4/x86_64-linux
/home/sand/src/perl/repoperls/installed-perls/perl/v5.18.4/79cc/lib/site_perl/5.18.4
/home/sand/src/perl/repoperls/installed-perls/perl/v5.18.4/79cc/lib/5.18.4/x86_64-linux
/home/sand/src/perl/repoperls/installed-perls/perl/v5.18.4/79cc/lib/5.18.4
.