Report for SWISH-Prog-0.75

Back
From: metabase:user:314402c4-2aae-11df-837a-5e0a49663a4f
Subject: PASS SWISH-Prog-0.75 v5.19.9 GNU/Linux
Date: 2014-03-10T06:14:37Z

This distribution has been tested as part of the CPAN Testers
project, supporting the Perl programming language.  See
http://wiki.cpantesters.org/ for more information or email
questions to cpan-testers-discuss@perl.org


--
Dear Peter Karman,

This is a computer-generated report for SWISH-Prog-0.75
on perl 5.19.9, created by CPAN-Reporter-1.2010.

Thank you for uploading your work to CPAN.  Congratulations!
All tests were successful.

Sections of this report:

    * Tester comments
    * Program output
    * Prerequisites
    * Environment and other context

------------------------------
TESTER COMMENTS
------------------------------

Additional comments from tester:

none provided

------------------------------
PROGRAM OUTPUT
------------------------------

Output from '/usr/bin/make test':

PERL_DL_NONLAZY=1 /opt/perl-5.19.9/bin/perl5.19.9 "-MExtUtils::Command::MM" "-MTest::Harness" "-e" "undef *Test::Harness::Switches; test_harness(0, 'inc', 'blib/lib', 'blib/arch')" t/*.t
# testing SWISH::Prog version 0.75
Can't exec "swish-e": No such file or directory at /home/eserte/.cpan/build/SWISH-Prog-0.75-uG6HSb/blib/lib/SWISH/Prog/Native/Indexer.pm line 120.
t/00_synopsis.t ........... ok
Can't exec "swish-e": No such file or directory at /home/eserte/.cpan/build/SWISH-Prog-0.75-uG6HSb/blib/lib/SWISH/Prog/Native/Indexer.pm line 120.
t/01_fs.t ................. ok
# install Rose::DBx::TestDB to test the DBI aggregator
t/02_dbi.t ................ ok
Can't exec "swish-e": No such file or directory at /home/eserte/.cpan/build/SWISH-Prog-0.75-uG6HSb/blib/lib/SWISH/Prog/Native/Indexer.pm line 120.
t/03_object.t ............. ok
# install Mail::Box to test Mail aggregator
t/04_mail.t ............... ok
# set TEST_SPIDER env var to test the spider
t/05_spider.t ............. ok
t/06_config.t ............. ok
t/08_meta.t ............... ok
t/10_config.t ............. ok
Can't exec "swish-e": No such file or directory at /home/eserte/.cpan/build/SWISH-Prog-0.75-uG6HSb/blib/lib/SWISH/Prog/Native/Indexer.pm line 120.
t/11-leak-test.t .......... ok
Can't exec "swish-e": No such file or directory at /home/eserte/.cpan/build/SWISH-Prog-0.75-uG6HSb/blib/lib/SWISH/Prog/Native/Indexer.pm line 120.
t/12-merge.t .............. ok
# install Mail::Box to test MailFS aggregator
t/13_mail_fs.t ............ ok
Can't exec "swish-e": No such file or directory at /home/eserte/.cpan/build/SWISH-Prog-0.75-uG6HSb/blib/lib/SWISH/Prog/Native/Indexer.pm line 120.
t/14-search.t ............. ok
Can't exec "swish-e": No such file or directory at /home/eserte/.cpan/build/SWISH-Prog-0.75-uG6HSb/blib/lib/SWISH/Prog/Native/Indexer.pm line 120.
t/15-index-file-config.t .. ok
t/16-replace-rules.t ...... ok
t/17-spider-server.t ...... ok
t/18-utils.t .............. ok
t/pod-coverage.t .......... skipped: set RELEASE_TESTING to test POD
t/pod.t ................... skipped: set RELEASE_TESTING to test POD
All tests successful.
Files=19, Tests=185,  6 wallclock secs ( 0.15 usr  0.04 sys +  4.64 cusr  0.52 csys =  5.35 CPU)
Result: PASS

------------------------------
PREREQUISITES
------------------------------

Prerequisite modules loaded:

requires:

    Module              Need     Have    
    ------------------- -------- --------
    Config::General     2.31     2.52    
    Data::Dump          0        1.22    
    File::Basename      0        2.85    
    File::Rules         0.02     0.02    
    File::Slurp         0        9999.19 
    File::Temp          0        0.2304  
    MIME::Types         0        2.04    
    Path::Class         0        0.33    
    perl                5.008003 5.019009
    Rose::DateTime      0        0.540   
    Rose::ObjectX::CAF  0        0.03    
    Scalar::Util        0        1.38    
    Search::Query       0.17     0.25    
    Search::Tools       0.82     0.99    
    SWISH::3            1.000005 1.000007
    SWISH::Filter       0.15     0.18    
    Test::More          0        1.001002
    Time::HiRes         0        1.9726  
    XML::Simple         0        2.20    

build_requires:

    Module              Need     Have    
    ------------------- -------- --------
    ExtUtils::MakeMaker 6.59     6.88    

configure_requires:

    Module              Need     Have    
    ------------------- -------- --------
    ExtUtils::MakeMaker 6.59     6.88    


------------------------------
ENVIRONMENT AND OTHER CONTEXT
------------------------------

Environment variables:

    DBIC_NO_WARN_BAD_PERL = 1
    LANG = en_US.UTF-8
    LANGUAGE = en_US:en
    PATH = /usr/local/bin:/usr/bin:/bin:/usr/local/sbin:/usr/sbin:/sbin:/home/eserte/bin/linux-gnu:/home/eserte/bin/sh:/home/eserte/bin:/usr/games:/home/eserte/devel:/home/eserte/src/srezic-misc/scripts
    PERL = /opt/perl-5.19.9/bin/perl5.19.9
    PERL5LIB = 
    PERL5OPT = 
    PERL5_CPANPLUS_IS_RUNNING = 31299
    PERL5_CPAN_IS_RUNNING = 31299
    PERL5_CPAN_IS_RUNNING_IN_RECURSION = 31281,31299
    PERLDOC = -MPod::Perldoc::ToTextOverstrike
    PERL_BATCH = yes
    PERL_CPAN_REPORTER_CONFIG = /var/tmp/cpansmoker-1000/8_DA85WYz9_config.ini
    PERL_EXTUTILS_AUTOINSTALL = --defaultdeps
    PERL_HTML_DISPLAY_CLASS = HTML::Display::Mozilla
    SHELL = /bin/zsh
    TERM = screen
    TMPDIR = /var/tmp/cpansmoker-1000

Perl special variables (and OS-specific diagnostics, for MSWin32):

    $^X = /opt/perl-5.19.9/bin/perl5.19.9
    $UID/$EUID = 1000 / 1000
    $GID = 1000 0 24 25 27 29 30 44 46 1000 1023 1024
    $EGID = 1000 0 24 25 27 29 30 44 46 1000 1023 1024

Perl module toolchain versions installed:

    Module              Have    
    ------------------- --------
    CPAN                2.03    
    CPAN::Meta          2.133380
    Cwd                 3.47    
    ExtUtils::CBuilder  0.280216
    ExtUtils::Command   1.18    
    ExtUtils::Install   1.62    
    ExtUtils::MakeMaker 6.88    
    ExtUtils::Manifest  1.63    
    ExtUtils::ParseXS   3.23    
    File::Spec          3.47    
    JSON                2.90    
    JSON::PP            2.27203 
    Module::Build       0.4205  
    Module::Signature   n/a     
    Parse::CPAN::Meta   1.4413  
    Test::Harness       3.30    
    Test::More          1.001002
    YAML                0.90    
    YAML::Syck          1.27    
    version             0.9908  


--

Summary of my perl5 (revision 5 version 19 subversion 9) configuration:
   
  Platform:
    osname=linux, osvers=3.2.0-4-amd64, archname=x86_64-linux
    uname='linux cvrsnica-wheezy 3.2.0-4-amd64 #1 smp debian 3.2.54-2 x86_64 gnulinux '
    config_args='-ds -e -Dprefix=/opt/perl-5.19.9 -Dusedevel'
    hint=recommended, useposix=true, d_sigaction=define
    useithreads=undef, usemultiplicity=undef
    use64bitint=define, use64bitall=define, uselongdouble=undef
    usemymalloc=n, bincompat5005=undef
  Compiler:
    cc='cc', ccflags ='-fno-strict-aliasing -pipe -fstack-protector -I/usr/local/include -D_LARGEFILE_SOURCE -D_FILE_OFFSET_BITS=64',
    optimize='-O2',
    cppflags='-fno-strict-aliasing -pipe -fstack-protector -I/usr/local/include'
    ccversion='', gccversion='4.7.2', gccosandvers=''
    intsize=4, longsize=8, ptrsize=8, doublesize=8, byteorder=12345678
    d_longlong=define, longlongsize=8, d_longdbl=define, longdblsize=16
    ivtype='long', ivsize=8, nvtype='double', nvsize=8, Off_t='off_t', lseeksize=8
    alignbytes=8, prototype=define
  Linker and Libraries:
    ld='cc', ldflags =' -fstack-protector -L/usr/local/lib'
    libpth=/usr/local/lib /usr/lib/gcc/x86_64-linux-gnu/4.7/include-fixed /usr/include/x86_64-linux-gnu /usr/lib /lib/x86_64-linux-gnu /lib/../lib /usr/lib/x86_64-linux-gnu /usr/lib/../lib /lib
    libs=-lnsl -ldb -ldl -lm -lcrypt -lutil -lc
    perllibs=-lnsl -ldl -lm -lcrypt -lutil -lc
    libc=libc-2.13.so, so=so, useshrplib=false, libperl=libperl.a
    gnulibc_version='2.13'
  Dynamic Linking:
    dlsrc=dl_dlopen.xs, dlext=so, d_dlsymun=undef, ccdlflags='-Wl,-E'
    cccdlflags='-fPIC', lddlflags='-shared -O2 -L/usr/local/lib -fstack-protector'


Characteristics of this binary (from libperl): 
  Compile-time options: HAS_TIMES PERLIO_LAYERS PERL_DONT_CREATE_GVSV
                        PERL_HASH_FUNC_ONE_AT_A_TIME_HARD PERL_MALLOC_WRAP
                        PERL_NEW_COPY_ON_WRITE PERL_PRESERVE_IVUV
                        PERL_USE_DEVEL USE_64_BIT_ALL USE_64_BIT_INT
                        USE_LARGE_FILES USE_LOCALE USE_LOCALE_COLLATE
                        USE_LOCALE_CTYPE USE_LOCALE_NUMERIC USE_PERLIO
                        USE_PERL_ATOF
  Built under linux
  Compiled at Mar  9 2014 20:33:25
  %ENV:
    PERL="/opt/perl-5.19.9/bin/perl5.19.9"
    PERL5LIB=""
    PERL5OPT=""
    PERL5_CPANPLUS_IS_RUNNING="31299"
    PERL5_CPAN_IS_RUNNING="31299"
    PERL5_CPAN_IS_RUNNING_IN_RECURSION="31281,31299"
    PERLDOC="-MPod::Perldoc::ToTextOverstrike"
    PERL_BATCH="yes"
    PERL_CPAN_REPORTER_CONFIG="/var/tmp/cpansmoker-1000/8_DA85WYz9_config.ini"
    PERL_EXTUTILS_AUTOINSTALL="--defaultdeps"
    PERL_HTML_DISPLAY_CLASS="HTML::Display::Mozilla"
  @INC:
    /opt/perl-5.19.9/lib/site_perl/5.19.9/x86_64-linux
    /opt/perl-5.19.9/lib/site_perl/5.19.9
    /opt/perl-5.19.9/lib/5.19.9/x86_64-linux
    /opt/perl-5.19.9/lib/5.19.9
    .