ExtUtils-ParseXS v3.51 Perl 5 v5.40.0 RC1 x86_64-dragonfly-thread-multi

Status
Pass
From
Carlos Guevara
Dist
ExtUtils-ParseXS v3.51
Platform
Perl 5 v5.40.0 RC1 x86_64-dragonfly-thread-multi
Date
2024-06-03 18:58:25
ID
41aa583c-21db-11ef-af42-f7b422fef2e2
This distribution has been tested as part of the CPAN Testers
project, supporting the Perl programming language.  See
http://wiki.cpantesters.org/ for more information or email
questions to cpan-testers-discuss@perl.org


--
Dear Leon Timmermans,

This is a computer-generated report for ExtUtils-ParseXS-3.51
on perl 5.40.0, created by CPAN-Reporter-1.2019.

Thank you for uploading your work to CPAN.  Congratulations!
All tests were successful.

Sections of this report:

    * Tester comments
    * Program output
    * Prerequisites
    * Environment and other context

------------------------------
TESTER COMMENTS
------------------------------

Additional comments from tester:

this report is from an automated smoke testing program
and was not reviewed by a human for accuracy

------------------------------
PROGRAM OUTPUT
------------------------------

Output from '/usr/bin/make test':

PERL_DL_NONLAZY=1 "/home/cpan/bin/perl/bin/perl5.40.0" "-MExtUtils::Command::MM" "-MTest::Harness" "-e" "undef *Test::Harness::Switches; test_harness(0, 'blib/lib', 'blib/arch')" t/*.t
t/001-basic.t ............................ ok
t/002-more.t ............................. ok
t/003-usage.t ............................ ok
t/101-standard_typemap_locations.t ....... ok
t/102-trim_whitespace.t .................. ok
t/103-tidy_type.t ........................ ok
t/104-map_type.t ......................... ok
t/105-valid_proto_string.t ............... ok
t/106-process_typemaps.t ................. ok
t/108-map_type.t ......................... ok
t/109-standard_XS_defs.t ................. ok
t/110-assign_func_args.t ................. ok
t/111-analyze_preprocessor_statements.t .. ok
t/112-set_cond.t ......................... ok
t/113-check_cond_preproc_statements.t .... ok
t/114-blurt_death_Warn.t ................. ok
t/115-avoid-noise.t ...................... ok
t/501-t-compile.t ........................ ok
t/510-t-bare.t ........................... ok
t/511-t-whitespace.t ..................... ok
t/512-t-file.t ........................... ok
t/513-t-merge.t .......................... ok
t/514-t-embed.t .......................... ok
t/515-t-cmd.t ............................ ok
t/516-t-clone.t .......................... ok
t/517-t-targetable.t ..................... ok
t/600-t-compat.t ......................... ok
All tests successful.
Files=27, Tests=268,  3 wallclock secs ( 0.07 usr  0.05 sys +  2.39 cusr  1.13 csys =  3.64 CPU)
Result: PASS

------------------------------
PREREQUISITES
------------------------------

Prerequisite modules loaded:

requires:

    Module              Need Have    
    ------------------- ---- --------
    Carp                0    1.54    
    Cwd                 0    3.90    
    DynaLoader          0    1.56    
    Exporter            5.57 5.78    
    ExtUtils::CBuilder  0    0.280240
    ExtUtils::MakeMaker 6.46 7.70    
    File::Basename      0    2.86    
    File::Spec          0    3.90    
    Symbol              0    1.09    
    Test::More          0.47 1.302199

build_requires:

    Module              Need Have    
    ------------------- ---- --------
    ExtUtils::MakeMaker 0    7.70    

configure_requires:

    Module              Need Have    
    ------------------- ---- --------
    ExtUtils::MakeMaker 6.46 7.70    


------------------------------
ENVIRONMENT AND OTHER CONTEXT
------------------------------

Environment variables:

    AUTOMATED_TESTING = 1
    DATE_MANIP_TEST_DM5 = 1
    LC_ALL = C
    NONINTERACTIVE_TESTING = 1
    NO_NETWORK_TESTING = 1
    PATH = /home/cpan/bin/perl/bin:/home/cpan/bin:/sbin:/bin:/usr/sbin:/usr/bin:/usr/games:/usr/local/sbin:/usr/local/bin:/usr/pkg/sbin:/usr/pkg/bin:/home/cpan/bin
    PERL5LIB = /home/cpan/.cpan/build/IO-1.55-1/blib/arch:/home/cpan/.cpan/build/IO-1.55-1/blib/lib:/home/cpan/.cpan/build/Test2-Suite-0.000162-2/blib/arch:/home/cpan/.cpan/build/Test2-Suite-0.000162-2/blib/lib:/home/cpan/.cpan/build/Test-Simple-1.302199-2/blib/arch:/home/cpan/.cpan/build/Test-Simple-1.302199-2/blib/lib:/home/cpan/.cpan/build/Test-Harness-3.48-2/blib/arch:/home/cpan/.cpan/build/Test-Harness-3.48-2/blib/lib:/home/cpan/.cpan/build/autodie-2.37-2/blib/arch:/home/cpan/.cpan/build/autodie-2.37-2/blib/lib
    PERL5OPT = 
    PERL5_CPANPLUS_IS_RUNNING = 177812
    PERL5_CPAN_IS_RUNNING = 177812
    PERL_MM_USE_DEFAULT = 1
    PERL_USE_UNSAFE_INC = 1
    SHELL = /usr/local/bin/bash
    TERM = screen
    TMPDIR = /home/cpan/tmp

Perl special variables (and OS-specific diagnostics, for MSWin32):

    $^X = /home/cpan/bin/perl/bin/perl5.40.0
    $UID/$EUID = 1002 / 1002
    $GID = 1002 1002
    $EGID = 1002 1002

Perl module toolchain versions installed:

    Module              Have    
    ------------------- --------
    CPAN                2.36    
    CPAN::Meta          2.150010
    Cwd                 3.90    
    ExtUtils::CBuilder  0.280240
    ExtUtils::Command   7.70    
    ExtUtils::Install   2.22    
    ExtUtils::MakeMaker 7.70    
    ExtUtils::Manifest  1.75    
    ExtUtils::ParseXS   3.51    
    File::Spec          3.90    
    JSON                4.10    
    JSON::PP            4.16    
    Module::Build       0.4234  
    Module::Signature   0.88    
    Parse::CPAN::Meta   2.150010
    Test2               1.302199
    Test::Harness       3.48    
    Test::More          1.302199
    YAML                1.31    
    YAML::Syck          1.34    
    version             0.9932  


--

Summary of my perl5 (revision 5 version 40 subversion 0) configuration:
  Commit id: 121cb45e8f6c507d1bac1c67fc71be0dbda02c18
  Platform:
    osname=dragonfly
    osvers=6.4-release
    archname=x86_64-dragonfly-thread-multi
    uname='dragonfly cjg-dragonfly6 6.4-release dragonfly v6.4.0-release #54: fri dec 30 09:06:50 pst 2022 root@pkgbox64.dragonflybsd.org:usrobjusrsrcsysx86_64_generic x86_64 '
    config_args='-des -Dprefix=/home/cpan/bin/perl -Dscriptdir=/home/cpan/bin/perl/bin -Dusedevel -Duse64bitall -Duseithreads'
    hint=recommended
    useposix=true
    d_sigaction=define
    useithreads=define
    usemultiplicity=define
    use64bitint=define
    use64bitall=define
    uselongdouble=undef
    usemymalloc=n
    default_inc_excludes_dot=define
  Compiler:
    cc='cc'
    ccflags ='-DHAS_FPSETMASK -DHAS_FLOATINGPOINT_H -DNO_POSIX_2008_LOCALE -fwrapv -fno-strict-aliasing -pipe -fstack-protector-strong -I/usr/local/include -D_FORTIFY_SOURCE=2'
    optimize='-O2'
    cppflags='-DHAS_FPSETMASK -DHAS_FLOATINGPOINT_H -DNO_POSIX_2008_LOCALE -fwrapv -fno-strict-aliasing -pipe -fstack-protector-strong -I/usr/local/include'
    ccversion=''
    gccversion='8.3 [DragonFly] Release/2019-02-22'
    gccosandvers=''
    intsize=4
    longsize=8
    ptrsize=8
    doublesize=8
    byteorder=12345678
    doublekind=3
    d_longlong=define
    longlongsize=8
    d_longdbl=define
    longdblsize=16
    longdblkind=3
    ivtype='long'
    ivsize=8
    nvtype='double'
    nvsize=8
    Off_t='off_t'
    lseeksize=8
    alignbytes=8
    prototype=define
  Linker and Libraries:
    ld='cc'
    ldflags ='-pthread -Wl,-E  -fstack-protector-strong -L/usr/local/lib'
    libpth=/usr/lib /usr/local/lib
    libs=-lpthread -lgdbm -ldl -lm -lcrypt -lutil -lc
    perllibs=-lpthread -ldl -lm -lcrypt -lutil -lc
    libc=
    so=so
    useshrplib=false
    libperl=libperl.a
    gnulibc_version=''
  Dynamic Linking:
    dlsrc=dl_dlopen.xs
    dlext=so
    d_dlsymun=undef
    ccdlflags=' '
    cccdlflags='-DPIC -fPIC'
    lddlflags='-shared  -L/usr/local/lib -fstack-protector-strong'


Characteristics of this binary (from libperl): 
  Compile-time options:
    HAS_LONG_DOUBLE
    HAS_STRTOLD
    HAS_TIMES
    MULTIPLICITY
    PERLIO_LAYERS
    PERL_COPY_ON_WRITE
    PERL_DONT_CREATE_GVSV
    PERL_HASH_FUNC_SIPHASH13
    PERL_HASH_USE_SBOX32
    PERL_MALLOC_WRAP
    PERL_OP_PARENT
    PERL_PRESERVE_IVUV
    PERL_USE_DEVEL
    PERL_USE_SAFE_PUTENV
    USE_64_BIT_ALL
    USE_64_BIT_INT
    USE_ITHREADS
    USE_LARGE_FILES
    USE_LOCALE
    USE_LOCALE_COLLATE
    USE_LOCALE_CTYPE
    USE_LOCALE_NUMERIC
    USE_LOCALE_TIME
    USE_PERLIO
    USE_PERL_ATOF
    USE_REENTRANT_API
  Locally applied patches:
    RC1
  Built under dragonfly
  Compiled at Jun  3 2024 01:08:51
  %ENV:
    PERL5LIB="/home/cpan/.cpan/build/IO-1.55-1/blib/arch:/home/cpan/.cpan/build/IO-1.55-1/blib/lib:/home/cpan/.cpan/build/Test2-Suite-0.000162-2/blib/arch:/home/cpan/.cpan/build/Test2-Suite-0.000162-2/blib/lib:/home/cpan/.cpan/build/Test-Simple-1.302199-2/blib/arch:/home/cpan/.cpan/build/Test-Simple-1.302199-2/blib/lib:/home/cpan/.cpan/build/Test-Harness-3.48-2/blib/arch:/home/cpan/.cpan/build/Test-Harness-3.48-2/blib/lib:/home/cpan/.cpan/build/autodie-2.37-2/blib/arch:/home/cpan/.cpan/build/autodie-2.37-2/blib/lib"
    PERL5OPT=""
    PERL5_CPANPLUS_IS_RUNNING="177812"
    PERL5_CPAN_IS_RUNNING="177812"
    PERL_MM_USE_DEFAULT="1"
    PERL_USE_UNSAFE_INC="1"
  @INC:
    /home/cpan/.cpan/build/IO-1.55-1/blib/arch
    /home/cpan/.cpan/build/IO-1.55-1/blib/lib
    /home/cpan/.cpan/build/Test2-Suite-0.000162-2/blib/arch
    /home/cpan/.cpan/build/Test2-Suite-0.000162-2/blib/lib
    /home/cpan/.cpan/build/Test-Simple-1.302199-2/blib/arch
    /home/cpan/.cpan/build/Test-Simple-1.302199-2/blib/lib
    /home/cpan/.cpan/build/Test-Harness-3.48-2/blib/arch
    /home/cpan/.cpan/build/Test-Harness-3.48-2/blib/lib
    /home/cpan/.cpan/build/autodie-2.37-2/blib/arch
    /home/cpan/.cpan/build/autodie-2.37-2/blib/lib
    /home/cpan/bin/perl/lib/site_perl/5.40.0/x86_64-dragonfly-thread-multi
    /home/cpan/bin/perl/lib/site_perl/5.40.0
    /home/cpan/bin/perl/lib/5.40.0/x86_64-dragonfly-thread-multi
    /home/cpan/bin/perl/lib/5.40.0
    .