Starman v0.4017 Perl 5 v5.18.4 x86_64-linux

Status
Pass
From
Andreas J. König (ANDK)
Dist
Starman v0.4017
Platform
Perl 5 v5.18.4 x86_64-linux
Date
2024-02-01 21:38:37
ID
41d56474-c14a-11ee-9d10-a3f4e5bb1c54
This distribution has been tested as part of the CPAN Testers
project, supporting the Perl programming language.  See
http://wiki.cpantesters.org/ for more information or email
questions to cpan-testers-discuss@perl.org


--
Dear Tatsuhiko Miyagawa,

This is a computer-generated report for Starman-0.4017
on perl 5.18.4, created by CPAN-Reporter-1.2019.

Thank you for uploading your work to CPAN.  Congratulations!
All tests were successful.

Sections of this report:

    * Tester comments
    * Program output
    * Prerequisites
    * Environment and other context

------------------------------
TESTER COMMENTS
------------------------------

Additional comments from tester:

this report is from an automated smoke testing program
and was not reviewed by a human for accuracy

------------------------------
PROGRAM OUTPUT
------------------------------

Output from './Build test':

t/00_compile.t ........... ok
t/author-pod-syntax.t .... skipped: these tests are for testing by the author
2024/02/01-22:37:26 Starman::Server (type Net::Server::PreFork) starting! pid(3752090)
Binding to TCP port 43947 on host 127.0.0.1 with IPv4
Setting gid to "1005 1005 1005"
2024/02/01-22:37:26 Server closing!
t/chunked_req.t .......... ok
t/chunked_termination.t .. ok
2024/02/01-22:37:26 Starman::Server (type Net::Server::PreFork) starting! pid(3752100)
Binding to TCP port 40161 on host 127.0.0.1 with IPv4
Setting gid to "1005 1005 1005"
2024/02/01-22:37:26 Server closing!
t/chunked_zero_length.t .. ok
2024/02/01-22:37:26 Starman::Server (type Net::Server::PreFork) starting! pid(3752108)
Binding to TCP port 39701 on host 127.0.0.1 with IPv4
Setting gid to "1005 1005 1005"
2024/02/01-22:37:26 Server closing!
t/early-hints.t .......... ok
2024/02/01-22:37:27 Starman::Server (type Net::Server::PreFork) starting! pid(3752125)
Binding to TCP port 44661 on host 127.0.0.1 with IPv4
Setting gid to "1005 1005 1005"
2024/02/01-22:37:28 Server closing!
t/eintr.t ................ ok
2024/02/01-22:37:29 Starman::Server (type Net::Server::PreFork) starting! pid(3752149)
Binding to TCP port 40811 on host 127.0.0.1 with IPv4
Setting gid to "1005 1005 1005"
2024/02/01-22:37:29 Server closing!
t/expect.t ............... ok
2024/02/01-22:37:29 Starman::Server (type Net::Server::PreFork) starting! pid(3752160)
Binding to TCP port 40123 on host 127.0.0.1 with IPv4
Setting gid to "1005 1005 1005"
2024/02/01-22:37:29 Server closing!
2024/02/01-22:37:29 Starman::Server (type Net::Server::PreFork) starting! pid(3752168)
Binding to TCP port 33877 on host 127.0.0.1 with IPv4
Setting gid to "1005 1005 1005"
2024/02/01-22:37:30 Server closing!
t/harakiri.t ............. ok
2024/02/01-22:37:30 Starman::Server (type Net::Server::PreFork) starting! pid(3752203)
Binding to TCP port 34411 on host 127.0.0.1 with IPv4
Setting gid to "1005 1005 1005"
2024/02/01-22:37:30 Server closing!
t/lf_only_request.t ...... ok
2024/02/01-22:37:31 Starman::Server (type Net::Server::PreFork) starting! pid(3752214)
Binding to TCP port 46461 on host 127.0.0.1 with IPv4
Setting gid to "1005 1005 1005"
2024/02/01-22:37:31 Server closing!
t/no_chunked_head.t ...... ok
t/release-findbin.t ...... skipped: these tests are for release candidate testing
t/release-rand.t ......... skipped: these tests are for release candidate testing
2024/02/01-22:37:31 Starman::Server (type Net::Server::PreFork) starting! pid(3752230)
Binding to TCP port 33397 on host 127.0.0.1 with IPv4
Setting gid to "1005 1005 1005"
2024/02/01-22:37:31 Server closing!
t/single_zero.t .......... ok
2024/02/01-22:37:32 Starman::Server (type Net::Server::PreFork) starting! pid(3752242)
Resolved [localhost]:46629 to [::1]:46629, IPv6
Resolved [localhost]:46629 to [127.0.0.1]:46629, IPv4
Binding to SSL port 46629 on host ::1 with IPv6
Binding to SSL port 46629 on host 127.0.0.1 with IPv4
Setting gid to "1005 1005 1005"
Passed serialize value of none is incompatible with multiple ports - using default serialize
Could not finalize SSL connection with client handle (SSL accept attempt failed error:0A000126:SSL routines::unexpected eof while reading)
Child process 3752245 exited with status 255
2024/02/01-22:37:32 Server closing!
t/ssl.t .................. ok
2024/02/01-22:37:33 Starman::Server (type Net::Server::PreFork) starting! pid(3752256)
Resolved [localhost]:46827 to [::1]:46827, IPv6
Resolved [localhost]:46827 to [127.0.0.1]:46827, IPv4
Binding to SSL port 46827 on host ::1 with IPv6
Binding to SSL port 46827 on host 127.0.0.1 with IPv4
Setting gid to "1005 1005 1005"
Passed serialize value of none is incompatible with multiple ports - using default serialize
Could not finalize SSL connection with client handle (SSL accept attempt failed error:0A000126:SSL routines::unexpected eof while reading)
2024/02/01-22:37:33 Server closing!
t/ssl_largebody.t ........ ok
2024/02/01-22:37:34 Starman::Server (type Net::Server::PreFork) starting! pid(3752268)
Binding to TCP port 34483 on host 127.0.0.1 with IPv4
Setting gid to "1005 1005 1005"
2024/02/01-22:37:34 Server closing!
t/suite.t ................ ok
All tests successful.
Files=17, Tests=125,  9 wallclock secs ( 0.08 usr  0.02 sys +  2.78 cusr  1.52 csys =  4.40 CPU)
Result: PASS

------------------------------
PREREQUISITES
------------------------------

Prerequisite modules loaded:

requires:

    Module              Need     Have    
    ------------------- -------- --------
    Data::Dump          0        1.25    
    HTTP::Date          0        6.06    
    HTTP::Parser::XS    0        0.17    
    HTTP::Status        0        6.45    
    Net::Server         2.007    2.014   
    parent              0        0.241   
    perl                5.008001 5.018004
    Plack               0.9971   1.0050  
    Test::TCP           2.00     2.22    

build_requires:

    Module              Need     Have    
    ------------------- -------- --------
    LWP::UserAgent      0        6.72    
    Test::More          0        1.302196
    Test::Requires      0        0.11    

configure_requires:

    Module              Need     Have    
    ------------------- -------- --------
    Module::Build::Tiny 0.034    0.047   


------------------------------
ENVIRONMENT AND OTHER CONTEXT
------------------------------

Environment variables:

    AUTOMATED_TESTING = 1
    LANG = en_US.UTF-8
    LANGUAGE = en_US:en
    PATH = /home/sand/bin:/usr/local/bin:/usr/bin:/bin:/usr/games:/usr/local/perl/bin:/usr/X11/bin:/sbin:/usr/sbin
    PERL5LIB = 
    PERL5OPT = 
    PERL5_CPANPLUS_IS_RUNNING = 3711078
    PERL5_CPAN_IS_RUNNING = 3711078
    PERL_CANARY_STABILITY_NOPROMPT = 1
    PERL_MM_USE_DEFAULT = 1
    PERL_USE_UNSAFE_INC = 1
    SHELL = /usr/bin/zsh
    TERM = screen

Perl special variables (and OS-specific diagnostics, for MSWin32):

    $^X = /home/sand/src/perl/repoperls/installed-perls/host/k93msid/v5.18.4/bb7f/bin/perl
    $UID/$EUID = 1005 / 1005
    $GID = 1005 1005
    $EGID = 1005 1005

Perl module toolchain versions installed:

    Module              Have    
    ------------------- --------
    CPAN                2.36    
    CPAN::Meta          2.150010
    Cwd                 3.75    
    ExtUtils::CBuilder  0.280236
    ExtUtils::Command   7.70    
    ExtUtils::Install   2.06    
    ExtUtils::MakeMaker 7.70    
    ExtUtils::Manifest  1.70    
    ExtUtils::ParseXS   3.51    
    File::Spec          3.75    
    JSON                4.10    
    JSON::PP            4.16    
    Module::Build       0.4234  
    Module::Signature   0.88    
    Parse::CPAN::Meta   2.150010
    Test2               1.302196
    Test::Harness       3.48    
    Test::More          1.302196
    YAML                1.30    
    YAML::Syck          1.34    
    version             0.9930  


--

Summary of my perl5 (revision 5 version 18 subversion 4) configuration:
  Derived from: 51202371ba68f3f52f13124a3ea1bc3c171e0ee2
  Platform:
    osname=linux, osvers=6.5.0-4-amd64, archname=x86_64-linux
    uname='linux k93msid 6.5.0-4-amd64 #1 smp preempt_dynamic debian 6.5.10-1 (2023-11-03) x86_64 gnulinux '
    config_args='-Dprefix=/home/sand/src/perl/repoperls/installed-perls/host/k93msid/v5.18.4/bb7f -Dmyhostname=k93msid -Dinstallusrbinperl=n -Uversiononly -Dusedevel -des -Ui_db -Dlibswanted=cl pthread socket inet nsl gdbm dbm malloc dl ld sun m crypt sec util c cposix posix ucb BSD gdbm_compat -Uuseithreads -Uuselongdouble -DEBUGGING=both'
    hint=recommended, useposix=true, d_sigaction=define
    useithreads=undef, usemultiplicity=undef
    useperlio=define, d_sfio=undef, uselargefiles=define, usesocks=undef
    use64bitint=define, use64bitall=define, uselongdouble=undef
    usemymalloc=n, bincompat5005=undef
  Compiler:
    cc='cc', ccflags ='-fwrapv -DDEBUGGING -fno-strict-aliasing -pipe -fstack-protector -I/usr/local/include -D_LARGEFILE_SOURCE -D_FILE_OFFSET_BITS=64',
    optimize='-O2 -g',
    cppflags='-fwrapv -DDEBUGGING -fno-strict-aliasing -pipe -fstack-protector -I/usr/local/include'
    ccversion='', gccversion='13.2.0', gccosandvers=''
    intsize=4, longsize=8, ptrsize=8, doublesize=8, byteorder=12345678
    d_longlong=define, longlongsize=8, d_longdbl=define, longdblsize=16
    ivtype='long', ivsize=8, nvtype='double', nvsize=8, Off_t='off_t', lseeksize=8
    alignbytes=8, prototype=define
  Linker and Libraries:
    ld='cc', ldflags =' -fstack-protector -L/usr/local/lib'
    libpth=/usr/local/lib /lib/x86_64-linux-gnu /lib/../lib /usr/lib/x86_64-linux-gnu /usr/lib/../lib /lib /usr/lib /lib64 /usr/lib64
    libs=-lpthread -lnsl -ldl -lm -lcrypt -lutil -lc
    perllibs=-lpthread -lnsl -ldl -lm -lcrypt -lutil -lc
    libc=/lib/x86_64-linux-gnu/libc.so.6, so=so, useshrplib=false, libperl=libperl.a
    gnulibc_version='2.37'
  Dynamic Linking:
    dlsrc=dl_dlopen.xs, dlext=so, d_dlsymun=undef, ccdlflags='-Wl,-E'
    cccdlflags='-fPIC', lddlflags='-shared -O2 -g -L/usr/local/lib -fstack-protector'


Characteristics of this binary (from libperl): 
  Compile-time options: DEBUGGING HAS_TIMES PERLIO_LAYERS
                        PERL_DONT_CREATE_GVSV
                        PERL_HASH_FUNC_ONE_AT_A_TIME_HARD PERL_MALLOC_WRAP
                        PERL_PRESERVE_IVUV PERL_SAWAMPERSAND PERL_USE_DEVEL
                        USE_64_BIT_ALL USE_64_BIT_INT USE_LARGE_FILES
                        USE_LOCALE USE_LOCALE_COLLATE USE_LOCALE_CTYPE
                        USE_LOCALE_NUMERIC USE_PERLIO USE_PERL_ATOF
  Locally applied patches:
	uncommitted-changes
  Built under linux
  Compiled at Nov 11 2023 06:33:56
  %ENV:
    PERL5LIB=""
    PERL5OPT=""
    PERL5_CPANPLUS_IS_RUNNING="3711078"
    PERL5_CPAN_IS_RUNNING="3711078"
    PERL_CANARY_STABILITY_NOPROMPT="1"
    PERL_MM_USE_DEFAULT="1"
    PERL_USE_UNSAFE_INC="1"
  @INC:
    /home/sand/src/perl/repoperls/installed-perls/host/k93msid/v5.18.4/bb7f/lib/site_perl/5.18.4/x86_64-linux
    /home/sand/src/perl/repoperls/installed-perls/host/k93msid/v5.18.4/bb7f/lib/site_perl/5.18.4
    /home/sand/src/perl/repoperls/installed-perls/host/k93msid/v5.18.4/bb7f/lib/5.18.4/x86_64-linux
    /home/sand/src/perl/repoperls/installed-perls/host/k93msid/v5.18.4/bb7f/lib/5.18.4
    .