Spreadsheet-Read v0.93 Perl 5 v5.34.1 x86_64-linux-thread-multi
- Status
- Pass
- From
- Andreas J. König (ANDK)
- Dist
-
Spreadsheet-Read v0.93
- Platform
- Perl 5 v5.34.1 x86_64-linux-thread-multi
- Date
- 2025-03-26 18:00:52
- ID
- 41e5967a-0a6c-11f0-9acf-adde4255b2f1
This distribution has been tested as part of the CPAN Testers
project, supporting the Perl programming language. See
http://wiki.cpantesters.org/ for more information or email
questions to cpan-testers-discuss@perl.org
--
Dear H.Merijn Brand,
This is a computer-generated report for Spreadsheet-Read-0.93
on perl 5.34.1, created by CPAN-Reporter-1.2018.
Thank you for uploading your work to CPAN. Congratulations!
All tests were successful.
Sections of this report:
* Tester comments
* Program output
* Prerequisites
* Environment and other context
------------------------------
TESTER COMMENTS
------------------------------
Additional comments from tester:
this report is from an automated smoke testing program
and was not reviewed by a human for accuracy
------------------------------
PROGRAM OUTPUT
------------------------------
Output from '/usr/bin/make test':
PERL_DL_NONLAZY=1 "/home/sand/src/perl/repoperls/installed-perls/host/k93msid/v5.34.1/29fb/bin/perl" "-MExtUtils::Command::MM" "-MTest::Harness" "-e" "undef *Test::Harness::Switches; test_harness(0, 'blib/lib', 'blib/arch')" t/*.t
t/10_basics.t ..... ok
t/11_call.t ....... ok
# Parser: Text::CSV_XS-1.59
t/200_csv.t ....... ok
t/201_csv.t ....... ok
t/202_csv.t ....... ok
t/203_csv.t ....... ok
t/204_csv.t ....... ok
t/205_csv.t ....... ok
# Parser: Text::CSV_XS-1.59
t/210_csv.t ....... ok
t/211_csv.t ....... ok
t/212_csv.t ....... ok
t/213_csv.t ....... ok
t/214_csv.t ....... ok
# Parser: Text::CSV_PP-2.04
t/220_csv.t ....... ok
t/221_csv.t ....... ok
t/222_csv.t ....... ok
t/223_csv.t ....... ok
t/224_csv.t ....... ok
# Parser: Spreadsheet::ParseExcel-0.65
t/30_xls.t ........ ok
t/31_clr.t ........ ok
t/32_fmt.t ........ ok
t/33_misc.t ....... ok
t/34_dates.t ...... ok
t/35_perc.t ....... ok
t/36_xls.t ........ ok
t/37_merged.t ..... ok
t/410_ods.t ....... skipped: Cannot use Spreadsheet::ParseODS
t/411_clr.t ....... skipped: Cannot use Spreadsheet::ParseODS
t/412_fmt.t ....... skipped: Cannot use Spreadsheet::ParseODS
t/413_misc.t ...... skipped: Cannot use Spreadsheet::ParseODS
t/414_dates.t ..... skipped: Cannot use Spreadsheet::ParseODS
t/415_perc.t ...... skipped: Cannot use Spreadsheet::ParseODS
t/417_merged.t .... skipped: Cannot use Spreadsheet::ParseODS
t/420_sxc.t ....... skipped: No SXC parser found
t/425_ods.t ....... skipped: No SXC parser found
t/426_clr.t ....... ok
# Parser: Spreadsheet::Read-0.93
t/50_sc.t ......... ok
t/51_sc.t ......... ok
# Parser: Spreadsheet::ParseXLSX-0.34
t/600_xlsx.t ...... ok
t/601_clr.t ....... ok
t/602_fmt.t ....... ok
t/603_misc.t ...... ok
t/604_dates.t ..... ok
t/605_perc.t ...... ok
t/607_merged.t .... ok
# Parser: Spreadsheet::ParseXLSX-0.34
t/610_xlsx.t ...... ok
t/611_clr.t ....... ok
t/612_fmt.t ....... ok
t/613_misc.t ...... ok
t/614_dates.t ..... ok
t/615_perc.t ...... ok
t/617_merged.t .... ok
# Parser: Spreadsheet::XLSX-0.17
t/620_xlsx.t ...... ok
t/621_clr.t ....... ok
t/622_fmt.t ....... ok
t/623_misc.t ...... ok
t/624_dates.t ..... ok
t/625_perc.t ...... ok
t/627_merged.t .... ok
# Parser: Excel::ValueReader::XLSX-1.14
t/630_xlsx.t ...... ok
t/631_clr.t ....... ok
t/632_fmt.t ....... ok
t/633_misc.t ...... ok
t/634_dates.t ..... ok
t/635_perc.t ...... ok
t/637_merged.t .... ok
t/700_gnumeric.t .. skipped: No Gnumeric parser found
t/701_clr.t ....... skipped: No Gnumeric parser found
t/702_fmt.t ....... skipped: No Gnumeric parser found
t/704_dates.t ..... skipped: Cannot use Spreadsheet::ReadGnumeric
t/707_merged.t .... skipped: Cannot use Spreadsheet::ReadGnumeric
t/999_fail.t ...... ok
All tests successful.
Files=72, Tests=5184, 77 wallclock secs ( 0.53 usr 0.19 sys + 45.19 cusr 6.02 csys = 51.93 CPU)
Result: PASS
------------------------------
PREREQUISITES
------------------------------
Prerequisite modules loaded:
requires:
Module Need Have
------------------- ------ --------
Carp 0 1.52
Data::Dumper 0 2.183
Encode 0 3.21
Exporter 0 5.78
File::Temp 0.22 0.2311
IO::Scalar 0 2.113
List::Util 0 1.63
Test::More 0.88 1.302209
Test::NoWarnings 0 1.06
build_requires:
Module Need Have
------------------- ------ --------
ExtUtils::MakeMaker 0 7.70
Test::Harness 0 3.50
Test::More 0.88 1.302209
Test::NoWarnings 0 1.06
configure_requires:
Module Need Have
------------------- ------ --------
ExtUtils::MakeMaker 0 7.70
opt_requires:
Module Need Have
------------------- ------ --------
Data::Dumper 2.183 2.183
! Data::Peek 0.53 0.52
Encode 3.21 3.21
File::Temp 0.2311 0.2311
IO::Scalar 0 2.113
------------------------------
ENVIRONMENT AND OTHER CONTEXT
------------------------------
Environment variables:
AUTOMATED_TESTING = 1
LANG = en_US.UTF-8
LANGUAGE = en_US:en
PATH = /home/sand/bin:/usr/local/bin:/usr/bin:/bin:/usr/games:/usr/local/perl/bin:/usr/X11/bin:/sbin:/usr/sbin
PERL5LIB =
PERL5OPT =
PERL5_CPANPLUS_IS_RUNNING = 2664821
PERL5_CPAN_IS_RUNNING = 2664821
PERL_CANARY_STABILITY_NOPROMPT = 1
PERL_MM_USE_DEFAULT = 1
PERL_USE_UNSAFE_INC = 1
SHELL = /usr/bin/zsh
TERM = screen
Perl special variables (and OS-specific diagnostics, for MSWin32):
$^X = /home/sand/src/perl/repoperls/installed-perls/host/k93msid/v5.34.1/29fb/bin/perl
$UID/$EUID = 1005 / 1005
$GID = 1005 1005
$EGID = 1005 1005
Perl module toolchain versions installed:
Module Have
------------------- --------
CPAN 2.38
CPAN::Meta 2.150010
Cwd 3.80
ExtUtils::CBuilder 0.280236
ExtUtils::Command 7.70
ExtUtils::Install 2.20
ExtUtils::MakeMaker 7.70
ExtUtils::Manifest 1.75
ExtUtils::ParseXS 3.51
File::Spec 3.80
JSON 4.10
JSON::PP 4.17_01
Module::Build 0.4234
Module::Signature 0.89
Parse::CPAN::Meta 2.150010
Test::Harness 3.50
Test::More 1.302209
YAML 1.30
YAML::Syck 1.34
version 0.9929
--
Summary of my perl5 (revision 5 version 34 subversion 1) configuration:
Commit id: 1181cf72936404b890ef41362f533fe2c2626f9b
Platform:
osname=linux
osvers=5.15.0-2-amd64
archname=x86_64-linux-thread-multi
uname='linux k93msid 5.15.0-2-amd64 #1 smp debian 5.15.5-2 (2021-12-18) x86_64 gnulinux '
config_args='-Dprefix=/home/sand/src/perl/repoperls/installed-perls/host/k93msid/v5.34.1/29fb -Dmyhostname=k93msid -Dinstallusrbinperl=n -Uversiononly -Dusedevel -des -Ui_db -Dlibswanted=cl pthread socket inet nsl gdbm dbm malloc dl ld sun m crypt sec util c cposix posix ucb BSD gdbm_compat -Duseithreads -Uuselongdouble -DEBUGGING=both'
hint=recommended
useposix=true
d_sigaction=define
useithreads=define
usemultiplicity=define
use64bitint=define
use64bitall=define
uselongdouble=undef
usemymalloc=n
default_inc_excludes_dot=define
Compiler:
cc='cc'
ccflags ='-D_REENTRANT -D_GNU_SOURCE -fwrapv -DDEBUGGING -fno-strict-aliasing -pipe -fstack-protector-strong -I/usr/local/include -D_LARGEFILE_SOURCE -D_FILE_OFFSET_BITS=64 -D_FORTIFY_SOURCE=2'
optimize='-O2 -g'
cppflags='-D_REENTRANT -D_GNU_SOURCE -fwrapv -DDEBUGGING -fno-strict-aliasing -pipe -fstack-protector-strong -I/usr/local/include'
ccversion=''
gccversion='11.2.0'
gccosandvers=''
intsize=4
longsize=8
ptrsize=8
doublesize=8
byteorder=12345678
doublekind=3
d_longlong=define
longlongsize=8
d_longdbl=define
longdblsize=16
longdblkind=3
ivtype='long'
ivsize=8
nvtype='double'
nvsize=8
Off_t='off_t'
lseeksize=8
alignbytes=8
prototype=define
Linker and Libraries:
ld='cc'
ldflags =' -fstack-protector-strong -L/usr/local/lib'
libpth=/usr/local/lib /usr/lib/x86_64-linux-gnu /usr/lib /lib/x86_64-linux-gnu /lib
libs=-lpthread -lnsl -ldl -lm -lcrypt -lutil -lc
perllibs=-lpthread -lnsl -ldl -lm -lcrypt -lutil -lc
libc=libc-2.33.so
so=so
useshrplib=false
libperl=libperl.a
gnulibc_version='2.33'
Dynamic Linking:
dlsrc=dl_dlopen.xs
dlext=so
d_dlsymun=undef
ccdlflags='-Wl,-E'
cccdlflags='-fPIC'
lddlflags='-shared -O2 -g -L/usr/local/lib -fstack-protector-strong'
Characteristics of this binary (from libperl):
Compile-time options:
DEBUGGING
HAS_TIMES
MULTIPLICITY
PERLIO_LAYERS
PERL_COPY_ON_WRITE
PERL_DONT_CREATE_GVSV
PERL_IMPLICIT_CONTEXT
PERL_MALLOC_WRAP
PERL_OP_PARENT
PERL_PRESERVE_IVUV
PERL_TRACK_MEMPOOL
PERL_USE_DEVEL
USE_64_BIT_ALL
USE_64_BIT_INT
USE_ITHREADS
USE_LARGE_FILES
USE_LOCALE
USE_LOCALE_COLLATE
USE_LOCALE_CTYPE
USE_LOCALE_NUMERIC
USE_LOCALE_TIME
USE_PERLIO
USE_PERL_ATOF
USE_REENTRANT_API
USE_THREAD_SAFE_LOCALE
Built under linux
Compiled at Mar 13 2022 12:42:28
%ENV:
PERL5LIB=""
PERL5OPT=""
PERL5_CPANPLUS_IS_RUNNING="2664821"
PERL5_CPAN_IS_RUNNING="2664821"
PERL_CANARY_STABILITY_NOPROMPT="1"
PERL_MM_USE_DEFAULT="1"
PERL_USE_UNSAFE_INC="1"
@INC:
/home/sand/src/perl/repoperls/installed-perls/host/k93msid/v5.34.1/29fb/lib/site_perl/5.34.1/x86_64-linux-thread-multi
/home/sand/src/perl/repoperls/installed-perls/host/k93msid/v5.34.1/29fb/lib/site_perl/5.34.1
/home/sand/src/perl/repoperls/installed-perls/host/k93msid/v5.34.1/29fb/lib/5.34.1/x86_64-linux-thread-multi
/home/sand/src/perl/repoperls/installed-perls/host/k93msid/v5.34.1/29fb/lib/5.34.1
.