Unix-Passwd-File v0.251 Perl 5 v5.39.7 aarch64-freebsd
- Status
- Pass
- From
- Slaven Rezić
- Dist
-
Unix-Passwd-File v0.251
- Platform
- Perl 5 v5.39.7 aarch64-freebsd
- Date
- 2024-01-29 00:20:50
- ID
- 41f94ae4-be3c-11ee-bc5f-f64e6e8775ea
This distribution has been tested as part of the CPAN Testers
project, supporting the Perl programming language. See
http://wiki.cpantesters.org/ for more information or email
questions to cpan-testers-discuss@perl.org
--
Dear perlancar,
This is a computer-generated report for Unix-Passwd-File-0.251
on perl 5.39.7, created by CPAN-Reporter-1.2019.
Thank you for uploading your work to CPAN. Congratulations!
All tests were successful.
Sections of this report:
* Tester comments
* Program output
* Prerequisites
* Environment and other context
------------------------------
TESTER COMMENTS
------------------------------
Additional comments from tester:
none provided
------------------------------
PROGRAM OUTPUT
------------------------------
Output from '/usr/bin/make test':
PERL_DL_NONLAZY=1 "/usr/perl5.39.7/bin/perl5.39.7" "-MExtUtils::Command::MM" "-MTest::Harness" "-e" "undef *Test::Harness::Switches; test_harness(0, 'blib/lib', 'blib/arch')" t/*.t
Smartmatch is deprecated at /home/cpansand/.cpan/build/2024012900/Unix-Passwd-File-0.251-2/blib/lib/Unix/Passwd/File.pm line 937.
Smartmatch is deprecated at /home/cpansand/.cpan/build/2024012900/Unix-Passwd-File-0.251-2/blib/lib/Unix/Passwd/File.pm line 983.
Smartmatch is deprecated at /home/cpansand/.cpan/build/2024012900/Unix-Passwd-File-0.251-2/blib/lib/Unix/Passwd/File.pm line 1140.
Smartmatch is deprecated at /home/cpansand/.cpan/build/2024012900/Unix-Passwd-File-0.251-2/blib/lib/Unix/Passwd/File.pm line 1159.
Smartmatch is deprecated at /home/cpansand/.cpan/build/2024012900/Unix-Passwd-File-0.251-2/blib/lib/Unix/Passwd/File.pm line 1174.
Smartmatch is deprecated at /home/cpansand/.cpan/build/2024012900/Unix-Passwd-File-0.251-2/blib/lib/Unix/Passwd/File.pm line 1553.
Smartmatch is deprecated at /home/cpansand/.cpan/build/2024012900/Unix-Passwd-File-0.251-2/blib/lib/Unix/Passwd/File.pm line 1592.
Smartmatch is deprecated at /home/cpansand/.cpan/build/2024012900/Unix-Passwd-File-0.251-2/blib/lib/Unix/Passwd/File.pm line 1657.
Smartmatch is deprecated at /home/cpansand/.cpan/build/2024012900/Unix-Passwd-File-0.251-2/blib/lib/Unix/Passwd/File.pm line 1657.
Smartmatch is deprecated at /home/cpansand/.cpan/build/2024012900/Unix-Passwd-File-0.251-2/blib/lib/Unix/Passwd/File.pm line 1661.
Smartmatch is deprecated at /home/cpansand/.cpan/build/2024012900/Unix-Passwd-File-0.251-2/blib/lib/Unix/Passwd/File.pm line 1661.
Smartmatch is deprecated at /home/cpansand/.cpan/build/2024012900/Unix-Passwd-File-0.251-2/blib/lib/Unix/Passwd/File.pm line 1720.
Smartmatch is deprecated at /home/cpansand/.cpan/build/2024012900/Unix-Passwd-File-0.251-2/blib/lib/Unix/Passwd/File.pm line 1720.
Smartmatch is deprecated at /home/cpansand/.cpan/build/2024012900/Unix-Passwd-File-0.251-2/blib/lib/Unix/Passwd/File.pm line 1724.
Smartmatch is deprecated at /home/cpansand/.cpan/build/2024012900/Unix-Passwd-File-0.251-2/blib/lib/Unix/Passwd/File.pm line 1724.
Smartmatch is deprecated at /home/cpansand/.cpan/build/2024012900/Unix-Passwd-File-0.251-2/blib/lib/Unix/Passwd/File.pm line 1794.
Smartmatch is deprecated at /home/cpansand/.cpan/build/2024012900/Unix-Passwd-File-0.251-2/blib/lib/Unix/Passwd/File.pm line 1813.
t/00-compile.t .............. ok
Smartmatch is deprecated at /home/cpansand/.cpan/build/2024012900/Unix-Passwd-File-0.251-2/blib/lib/Unix/Passwd/File.pm line 937.
Smartmatch is deprecated at /home/cpansand/.cpan/build/2024012900/Unix-Passwd-File-0.251-2/blib/lib/Unix/Passwd/File.pm line 983.
Smartmatch is deprecated at /home/cpansand/.cpan/build/2024012900/Unix-Passwd-File-0.251-2/blib/lib/Unix/Passwd/File.pm line 1140.
Smartmatch is deprecated at /home/cpansand/.cpan/build/2024012900/Unix-Passwd-File-0.251-2/blib/lib/Unix/Passwd/File.pm line 1159.
Smartmatch is deprecated at /home/cpansand/.cpan/build/2024012900/Unix-Passwd-File-0.251-2/blib/lib/Unix/Passwd/File.pm line 1174.
Smartmatch is deprecated at /home/cpansand/.cpan/build/2024012900/Unix-Passwd-File-0.251-2/blib/lib/Unix/Passwd/File.pm line 1553.
Smartmatch is deprecated at /home/cpansand/.cpan/build/2024012900/Unix-Passwd-File-0.251-2/blib/lib/Unix/Passwd/File.pm line 1592.
Smartmatch is deprecated at /home/cpansand/.cpan/build/2024012900/Unix-Passwd-File-0.251-2/blib/lib/Unix/Passwd/File.pm line 1657.
Smartmatch is deprecated at /home/cpansand/.cpan/build/2024012900/Unix-Passwd-File-0.251-2/blib/lib/Unix/Passwd/File.pm line 1657.
Smartmatch is deprecated at /home/cpansand/.cpan/build/2024012900/Unix-Passwd-File-0.251-2/blib/lib/Unix/Passwd/File.pm line 1661.
Smartmatch is deprecated at /home/cpansand/.cpan/build/2024012900/Unix-Passwd-File-0.251-2/blib/lib/Unix/Passwd/File.pm line 1661.
Smartmatch is deprecated at /home/cpansand/.cpan/build/2024012900/Unix-Passwd-File-0.251-2/blib/lib/Unix/Passwd/File.pm line 1720.
Smartmatch is deprecated at /home/cpansand/.cpan/build/2024012900/Unix-Passwd-File-0.251-2/blib/lib/Unix/Passwd/File.pm line 1720.
Smartmatch is deprecated at /home/cpansand/.cpan/build/2024012900/Unix-Passwd-File-0.251-2/blib/lib/Unix/Passwd/File.pm line 1724.
Smartmatch is deprecated at /home/cpansand/.cpan/build/2024012900/Unix-Passwd-File-0.251-2/blib/lib/Unix/Passwd/File.pm line 1724.
Smartmatch is deprecated at /home/cpansand/.cpan/build/2024012900/Unix-Passwd-File-0.251-2/blib/lib/Unix/Passwd/File.pm line 1794.
Smartmatch is deprecated at /home/cpansand/.cpan/build/2024012900/Unix-Passwd-File-0.251-2/blib/lib/Unix/Passwd/File.pm line 1813.
t/add_delete_user_groups.t .. ok
Smartmatch is deprecated at /home/cpansand/.cpan/build/2024012900/Unix-Passwd-File-0.251-2/blib/lib/Unix/Passwd/File.pm line 937.
Smartmatch is deprecated at /home/cpansand/.cpan/build/2024012900/Unix-Passwd-File-0.251-2/blib/lib/Unix/Passwd/File.pm line 983.
Smartmatch is deprecated at /home/cpansand/.cpan/build/2024012900/Unix-Passwd-File-0.251-2/blib/lib/Unix/Passwd/File.pm line 1140.
Smartmatch is deprecated at /home/cpansand/.cpan/build/2024012900/Unix-Passwd-File-0.251-2/blib/lib/Unix/Passwd/File.pm line 1159.
Smartmatch is deprecated at /home/cpansand/.cpan/build/2024012900/Unix-Passwd-File-0.251-2/blib/lib/Unix/Passwd/File.pm line 1174.
Smartmatch is deprecated at /home/cpansand/.cpan/build/2024012900/Unix-Passwd-File-0.251-2/blib/lib/Unix/Passwd/File.pm line 1553.
Smartmatch is deprecated at /home/cpansand/.cpan/build/2024012900/Unix-Passwd-File-0.251-2/blib/lib/Unix/Passwd/File.pm line 1592.
Smartmatch is deprecated at /home/cpansand/.cpan/build/2024012900/Unix-Passwd-File-0.251-2/blib/lib/Unix/Passwd/File.pm line 1657.
Smartmatch is deprecated at /home/cpansand/.cpan/build/2024012900/Unix-Passwd-File-0.251-2/blib/lib/Unix/Passwd/File.pm line 1657.
Smartmatch is deprecated at /home/cpansand/.cpan/build/2024012900/Unix-Passwd-File-0.251-2/blib/lib/Unix/Passwd/File.pm line 1661.
Smartmatch is deprecated at /home/cpansand/.cpan/build/2024012900/Unix-Passwd-File-0.251-2/blib/lib/Unix/Passwd/File.pm line 1661.
Smartmatch is deprecated at /home/cpansand/.cpan/build/2024012900/Unix-Passwd-File-0.251-2/blib/lib/Unix/Passwd/File.pm line 1720.
Smartmatch is deprecated at /home/cpansand/.cpan/build/2024012900/Unix-Passwd-File-0.251-2/blib/lib/Unix/Passwd/File.pm line 1720.
Smartmatch is deprecated at /home/cpansand/.cpan/build/2024012900/Unix-Passwd-File-0.251-2/blib/lib/Unix/Passwd/File.pm line 1724.
Smartmatch is deprecated at /home/cpansand/.cpan/build/2024012900/Unix-Passwd-File-0.251-2/blib/lib/Unix/Passwd/File.pm line 1724.
Smartmatch is deprecated at /home/cpansand/.cpan/build/2024012900/Unix-Passwd-File-0.251-2/blib/lib/Unix/Passwd/File.pm line 1794.
Smartmatch is deprecated at /home/cpansand/.cpan/build/2024012900/Unix-Passwd-File-0.251-2/blib/lib/Unix/Passwd/File.pm line 1813.
t/add_group.t ............... ok
Smartmatch is deprecated at /home/cpansand/.cpan/build/2024012900/Unix-Passwd-File-0.251-2/blib/lib/Unix/Passwd/File.pm line 937.
Smartmatch is deprecated at /home/cpansand/.cpan/build/2024012900/Unix-Passwd-File-0.251-2/blib/lib/Unix/Passwd/File.pm line 983.
Smartmatch is deprecated at /home/cpansand/.cpan/build/2024012900/Unix-Passwd-File-0.251-2/blib/lib/Unix/Passwd/File.pm line 1140.
Smartmatch is deprecated at /home/cpansand/.cpan/build/2024012900/Unix-Passwd-File-0.251-2/blib/lib/Unix/Passwd/File.pm line 1159.
Smartmatch is deprecated at /home/cpansand/.cpan/build/2024012900/Unix-Passwd-File-0.251-2/blib/lib/Unix/Passwd/File.pm line 1174.
Smartmatch is deprecated at /home/cpansand/.cpan/build/2024012900/Unix-Passwd-File-0.251-2/blib/lib/Unix/Passwd/File.pm line 1553.
Smartmatch is deprecated at /home/cpansand/.cpan/build/2024012900/Unix-Passwd-File-0.251-2/blib/lib/Unix/Passwd/File.pm line 1592.
Smartmatch is deprecated at /home/cpansand/.cpan/build/2024012900/Unix-Passwd-File-0.251-2/blib/lib/Unix/Passwd/File.pm line 1657.
Smartmatch is deprecated at /home/cpansand/.cpan/build/2024012900/Unix-Passwd-File-0.251-2/blib/lib/Unix/Passwd/File.pm line 1657.
Smartmatch is deprecated at /home/cpansand/.cpan/build/2024012900/Unix-Passwd-File-0.251-2/blib/lib/Unix/Passwd/File.pm line 1661.
Smartmatch is deprecated at /home/cpansand/.cpan/build/2024012900/Unix-Passwd-File-0.251-2/blib/lib/Unix/Passwd/File.pm line 1661.
Smartmatch is deprecated at /home/cpansand/.cpan/build/2024012900/Unix-Passwd-File-0.251-2/blib/lib/Unix/Passwd/File.pm line 1720.
Smartmatch is deprecated at /home/cpansand/.cpan/build/2024012900/Unix-Passwd-File-0.251-2/blib/lib/Unix/Passwd/File.pm line 1720.
Smartmatch is deprecated at /home/cpansand/.cpan/build/2024012900/Unix-Passwd-File-0.251-2/blib/lib/Unix/Passwd/File.pm line 1724.
Smartmatch is deprecated at /home/cpansand/.cpan/build/2024012900/Unix-Passwd-File-0.251-2/blib/lib/Unix/Passwd/File.pm line 1724.
Smartmatch is deprecated at /home/cpansand/.cpan/build/2024012900/Unix-Passwd-File-0.251-2/blib/lib/Unix/Passwd/File.pm line 1794.
Smartmatch is deprecated at /home/cpansand/.cpan/build/2024012900/Unix-Passwd-File-0.251-2/blib/lib/Unix/Passwd/File.pm line 1813.
t/add_user.t ................ ok
Smartmatch is deprecated at /home/cpansand/.cpan/build/2024012900/Unix-Passwd-File-0.251-2/blib/lib/Unix/Passwd/File.pm line 937.
Smartmatch is deprecated at /home/cpansand/.cpan/build/2024012900/Unix-Passwd-File-0.251-2/blib/lib/Unix/Passwd/File.pm line 983.
Smartmatch is deprecated at /home/cpansand/.cpan/build/2024012900/Unix-Passwd-File-0.251-2/blib/lib/Unix/Passwd/File.pm line 1140.
Smartmatch is deprecated at /home/cpansand/.cpan/build/2024012900/Unix-Passwd-File-0.251-2/blib/lib/Unix/Passwd/File.pm line 1159.
Smartmatch is deprecated at /home/cpansand/.cpan/build/2024012900/Unix-Passwd-File-0.251-2/blib/lib/Unix/Passwd/File.pm line 1174.
Smartmatch is deprecated at /home/cpansand/.cpan/build/2024012900/Unix-Passwd-File-0.251-2/blib/lib/Unix/Passwd/File.pm line 1553.
Smartmatch is deprecated at /home/cpansand/.cpan/build/2024012900/Unix-Passwd-File-0.251-2/blib/lib/Unix/Passwd/File.pm line 1592.
Smartmatch is deprecated at /home/cpansand/.cpan/build/2024012900/Unix-Passwd-File-0.251-2/blib/lib/Unix/Passwd/File.pm line 1657.
Smartmatch is deprecated at /home/cpansand/.cpan/build/2024012900/Unix-Passwd-File-0.251-2/blib/lib/Unix/Passwd/File.pm line 1657.
Smartmatch is deprecated at /home/cpansand/.cpan/build/2024012900/Unix-Passwd-File-0.251-2/blib/lib/Unix/Passwd/File.pm line 1661.
Smartmatch is deprecated at /home/cpansand/.cpan/build/2024012900/Unix-Passwd-File-0.251-2/blib/lib/Unix/Passwd/File.pm line 1661.
Smartmatch is deprecated at /home/cpansand/.cpan/build/2024012900/Unix-Passwd-File-0.251-2/blib/lib/Unix/Passwd/File.pm line 1720.
Smartmatch is deprecated at /home/cpansand/.cpan/build/2024012900/Unix-Passwd-File-0.251-2/blib/lib/Unix/Passwd/File.pm line 1720.
Smartmatch is deprecated at /home/cpansand/.cpan/build/2024012900/Unix-Passwd-File-0.251-2/blib/lib/Unix/Passwd/File.pm line 1724.
Smartmatch is deprecated at /home/cpansand/.cpan/build/2024012900/Unix-Passwd-File-0.251-2/blib/lib/Unix/Passwd/File.pm line 1724.
Smartmatch is deprecated at /home/cpansand/.cpan/build/2024012900/Unix-Passwd-File-0.251-2/blib/lib/Unix/Passwd/File.pm line 1794.
Smartmatch is deprecated at /home/cpansand/.cpan/build/2024012900/Unix-Passwd-File-0.251-2/blib/lib/Unix/Passwd/File.pm line 1813.
t/add_user_to_group.t ....... ok
t/author-critic.t ........... skipped: these tests are for testing by the author
t/author-pod-coverage.t ..... skipped: these tests are for testing by the author
t/author-pod-syntax.t ....... skipped: these tests are for testing by the author
Smartmatch is deprecated at /home/cpansand/.cpan/build/2024012900/Unix-Passwd-File-0.251-2/blib/lib/Unix/Passwd/File.pm line 937.
Smartmatch is deprecated at /home/cpansand/.cpan/build/2024012900/Unix-Passwd-File-0.251-2/blib/lib/Unix/Passwd/File.pm line 983.
Smartmatch is deprecated at /home/cpansand/.cpan/build/2024012900/Unix-Passwd-File-0.251-2/blib/lib/Unix/Passwd/File.pm line 1140.
Smartmatch is deprecated at /home/cpansand/.cpan/build/2024012900/Unix-Passwd-File-0.251-2/blib/lib/Unix/Passwd/File.pm line 1159.
Smartmatch is deprecated at /home/cpansand/.cpan/build/2024012900/Unix-Passwd-File-0.251-2/blib/lib/Unix/Passwd/File.pm line 1174.
Smartmatch is deprecated at /home/cpansand/.cpan/build/2024012900/Unix-Passwd-File-0.251-2/blib/lib/Unix/Passwd/File.pm line 1553.
Smartmatch is deprecated at /home/cpansand/.cpan/build/2024012900/Unix-Passwd-File-0.251-2/blib/lib/Unix/Passwd/File.pm line 1592.
Smartmatch is deprecated at /home/cpansand/.cpan/build/2024012900/Unix-Passwd-File-0.251-2/blib/lib/Unix/Passwd/File.pm line 1657.
Smartmatch is deprecated at /home/cpansand/.cpan/build/2024012900/Unix-Passwd-File-0.251-2/blib/lib/Unix/Passwd/File.pm line 1657.
Smartmatch is deprecated at /home/cpansand/.cpan/build/2024012900/Unix-Passwd-File-0.251-2/blib/lib/Unix/Passwd/File.pm line 1661.
Smartmatch is deprecated at /home/cpansand/.cpan/build/2024012900/Unix-Passwd-File-0.251-2/blib/lib/Unix/Passwd/File.pm line 1661.
Smartmatch is deprecated at /home/cpansand/.cpan/build/2024012900/Unix-Passwd-File-0.251-2/blib/lib/Unix/Passwd/File.pm line 1720.
Smartmatch is deprecated at /home/cpansand/.cpan/build/2024012900/Unix-Passwd-File-0.251-2/blib/lib/Unix/Passwd/File.pm line 1720.
Smartmatch is deprecated at /home/cpansand/.cpan/build/2024012900/Unix-Passwd-File-0.251-2/blib/lib/Unix/Passwd/File.pm line 1724.
Smartmatch is deprecated at /home/cpansand/.cpan/build/2024012900/Unix-Passwd-File-0.251-2/blib/lib/Unix/Passwd/File.pm line 1724.
Smartmatch is deprecated at /home/cpansand/.cpan/build/2024012900/Unix-Passwd-File-0.251-2/blib/lib/Unix/Passwd/File.pm line 1794.
Smartmatch is deprecated at /home/cpansand/.cpan/build/2024012900/Unix-Passwd-File-0.251-2/blib/lib/Unix/Passwd/File.pm line 1813.
t/delete_group.t ............ ok
Smartmatch is deprecated at /home/cpansand/.cpan/build/2024012900/Unix-Passwd-File-0.251-2/blib/lib/Unix/Passwd/File.pm line 937.
Smartmatch is deprecated at /home/cpansand/.cpan/build/2024012900/Unix-Passwd-File-0.251-2/blib/lib/Unix/Passwd/File.pm line 983.
Smartmatch is deprecated at /home/cpansand/.cpan/build/2024012900/Unix-Passwd-File-0.251-2/blib/lib/Unix/Passwd/File.pm line 1140.
Smartmatch is deprecated at /home/cpansand/.cpan/build/2024012900/Unix-Passwd-File-0.251-2/blib/lib/Unix/Passwd/File.pm line 1159.
Smartmatch is deprecated at /home/cpansand/.cpan/build/2024012900/Unix-Passwd-File-0.251-2/blib/lib/Unix/Passwd/File.pm line 1174.
Smartmatch is deprecated at /home/cpansand/.cpan/build/2024012900/Unix-Passwd-File-0.251-2/blib/lib/Unix/Passwd/File.pm line 1553.
Smartmatch is deprecated at /home/cpansand/.cpan/build/2024012900/Unix-Passwd-File-0.251-2/blib/lib/Unix/Passwd/File.pm line 1592.
Smartmatch is deprecated at /home/cpansand/.cpan/build/2024012900/Unix-Passwd-File-0.251-2/blib/lib/Unix/Passwd/File.pm line 1657.
Smartmatch is deprecated at /home/cpansand/.cpan/build/2024012900/Unix-Passwd-File-0.251-2/blib/lib/Unix/Passwd/File.pm line 1657.
Smartmatch is deprecated at /home/cpansand/.cpan/build/2024012900/Unix-Passwd-File-0.251-2/blib/lib/Unix/Passwd/File.pm line 1661.
Smartmatch is deprecated at /home/cpansand/.cpan/build/2024012900/Unix-Passwd-File-0.251-2/blib/lib/Unix/Passwd/File.pm line 1661.
Smartmatch is deprecated at /home/cpansand/.cpan/build/2024012900/Unix-Passwd-File-0.251-2/blib/lib/Unix/Passwd/File.pm line 1720.
Smartmatch is deprecated at /home/cpansand/.cpan/build/2024012900/Unix-Passwd-File-0.251-2/blib/lib/Unix/Passwd/File.pm line 1720.
Smartmatch is deprecated at /home/cpansand/.cpan/build/2024012900/Unix-Passwd-File-0.251-2/blib/lib/Unix/Passwd/File.pm line 1724.
Smartmatch is deprecated at /home/cpansand/.cpan/build/2024012900/Unix-Passwd-File-0.251-2/blib/lib/Unix/Passwd/File.pm line 1724.
Smartmatch is deprecated at /home/cpansand/.cpan/build/2024012900/Unix-Passwd-File-0.251-2/blib/lib/Unix/Passwd/File.pm line 1794.
Smartmatch is deprecated at /home/cpansand/.cpan/build/2024012900/Unix-Passwd-File-0.251-2/blib/lib/Unix/Passwd/File.pm line 1813.
t/delete_user.t ............. ok
Smartmatch is deprecated at /home/cpansand/.cpan/build/2024012900/Unix-Passwd-File-0.251-2/blib/lib/Unix/Passwd/File.pm line 937.
Smartmatch is deprecated at /home/cpansand/.cpan/build/2024012900/Unix-Passwd-File-0.251-2/blib/lib/Unix/Passwd/File.pm line 983.
Smartmatch is deprecated at /home/cpansand/.cpan/build/2024012900/Unix-Passwd-File-0.251-2/blib/lib/Unix/Passwd/File.pm line 1140.
Smartmatch is deprecated at /home/cpansand/.cpan/build/2024012900/Unix-Passwd-File-0.251-2/blib/lib/Unix/Passwd/File.pm line 1159.
Smartmatch is deprecated at /home/cpansand/.cpan/build/2024012900/Unix-Passwd-File-0.251-2/blib/lib/Unix/Passwd/File.pm line 1174.
Smartmatch is deprecated at /home/cpansand/.cpan/build/2024012900/Unix-Passwd-File-0.251-2/blib/lib/Unix/Passwd/File.pm line 1553.
Smartmatch is deprecated at /home/cpansand/.cpan/build/2024012900/Unix-Passwd-File-0.251-2/blib/lib/Unix/Passwd/File.pm line 1592.
Smartmatch is deprecated at /home/cpansand/.cpan/build/2024012900/Unix-Passwd-File-0.251-2/blib/lib/Unix/Passwd/File.pm line 1657.
Smartmatch is deprecated at /home/cpansand/.cpan/build/2024012900/Unix-Passwd-File-0.251-2/blib/lib/Unix/Passwd/File.pm line 1657.
Smartmatch is deprecated at /home/cpansand/.cpan/build/2024012900/Unix-Passwd-File-0.251-2/blib/lib/Unix/Passwd/File.pm line 1661.
Smartmatch is deprecated at /home/cpansand/.cpan/build/2024012900/Unix-Passwd-File-0.251-2/blib/lib/Unix/Passwd/File.pm line 1661.
Smartmatch is deprecated at /home/cpansand/.cpan/build/2024012900/Unix-Passwd-File-0.251-2/blib/lib/Unix/Passwd/File.pm line 1720.
Smartmatch is deprecated at /home/cpansand/.cpan/build/2024012900/Unix-Passwd-File-0.251-2/blib/lib/Unix/Passwd/File.pm line 1720.
Smartmatch is deprecated at /home/cpansand/.cpan/build/2024012900/Unix-Passwd-File-0.251-2/blib/lib/Unix/Passwd/File.pm line 1724.
Smartmatch is deprecated at /home/cpansand/.cpan/build/2024012900/Unix-Passwd-File-0.251-2/blib/lib/Unix/Passwd/File.pm line 1724.
Smartmatch is deprecated at /home/cpansand/.cpan/build/2024012900/Unix-Passwd-File-0.251-2/blib/lib/Unix/Passwd/File.pm line 1794.
Smartmatch is deprecated at /home/cpansand/.cpan/build/2024012900/Unix-Passwd-File-0.251-2/blib/lib/Unix/Passwd/File.pm line 1813.
t/delete_user_from_group.t .. ok
Smartmatch is deprecated at /home/cpansand/.cpan/build/2024012900/Unix-Passwd-File-0.251-2/blib/lib/Unix/Passwd/File.pm line 937.
Smartmatch is deprecated at /home/cpansand/.cpan/build/2024012900/Unix-Passwd-File-0.251-2/blib/lib/Unix/Passwd/File.pm line 983.
Smartmatch is deprecated at /home/cpansand/.cpan/build/2024012900/Unix-Passwd-File-0.251-2/blib/lib/Unix/Passwd/File.pm line 1140.
Smartmatch is deprecated at /home/cpansand/.cpan/build/2024012900/Unix-Passwd-File-0.251-2/blib/lib/Unix/Passwd/File.pm line 1159.
Smartmatch is deprecated at /home/cpansand/.cpan/build/2024012900/Unix-Passwd-File-0.251-2/blib/lib/Unix/Passwd/File.pm line 1174.
Smartmatch is deprecated at /home/cpansand/.cpan/build/2024012900/Unix-Passwd-File-0.251-2/blib/lib/Unix/Passwd/File.pm line 1553.
Smartmatch is deprecated at /home/cpansand/.cpan/build/2024012900/Unix-Passwd-File-0.251-2/blib/lib/Unix/Passwd/File.pm line 1592.
Smartmatch is deprecated at /home/cpansand/.cpan/build/2024012900/Unix-Passwd-File-0.251-2/blib/lib/Unix/Passwd/File.pm line 1657.
Smartmatch is deprecated at /home/cpansand/.cpan/build/2024012900/Unix-Passwd-File-0.251-2/blib/lib/Unix/Passwd/File.pm line 1657.
Smartmatch is deprecated at /home/cpansand/.cpan/build/2024012900/Unix-Passwd-File-0.251-2/blib/lib/Unix/Passwd/File.pm line 1661.
Smartmatch is deprecated at /home/cpansand/.cpan/build/2024012900/Unix-Passwd-File-0.251-2/blib/lib/Unix/Passwd/File.pm line 1661.
Smartmatch is deprecated at /home/cpansand/.cpan/build/2024012900/Unix-Passwd-File-0.251-2/blib/lib/Unix/Passwd/File.pm line 1720.
Smartmatch is deprecated at /home/cpansand/.cpan/build/2024012900/Unix-Passwd-File-0.251-2/blib/lib/Unix/Passwd/File.pm line 1720.
Smartmatch is deprecated at /home/cpansand/.cpan/build/2024012900/Unix-Passwd-File-0.251-2/blib/lib/Unix/Passwd/File.pm line 1724.
Smartmatch is deprecated at /home/cpansand/.cpan/build/2024012900/Unix-Passwd-File-0.251-2/blib/lib/Unix/Passwd/File.pm line 1724.
Smartmatch is deprecated at /home/cpansand/.cpan/build/2024012900/Unix-Passwd-File-0.251-2/blib/lib/Unix/Passwd/File.pm line 1794.
Smartmatch is deprecated at /home/cpansand/.cpan/build/2024012900/Unix-Passwd-File-0.251-2/blib/lib/Unix/Passwd/File.pm line 1813.
t/get_group.t ............... ok
Smartmatch is deprecated at /home/cpansand/.cpan/build/2024012900/Unix-Passwd-File-0.251-2/blib/lib/Unix/Passwd/File.pm line 937.
Smartmatch is deprecated at /home/cpansand/.cpan/build/2024012900/Unix-Passwd-File-0.251-2/blib/lib/Unix/Passwd/File.pm line 983.
Smartmatch is deprecated at /home/cpansand/.cpan/build/2024012900/Unix-Passwd-File-0.251-2/blib/lib/Unix/Passwd/File.pm line 1140.
Smartmatch is deprecated at /home/cpansand/.cpan/build/2024012900/Unix-Passwd-File-0.251-2/blib/lib/Unix/Passwd/File.pm line 1159.
Smartmatch is deprecated at /home/cpansand/.cpan/build/2024012900/Unix-Passwd-File-0.251-2/blib/lib/Unix/Passwd/File.pm line 1174.
Smartmatch is deprecated at /home/cpansand/.cpan/build/2024012900/Unix-Passwd-File-0.251-2/blib/lib/Unix/Passwd/File.pm line 1553.
Smartmatch is deprecated at /home/cpansand/.cpan/build/2024012900/Unix-Passwd-File-0.251-2/blib/lib/Unix/Passwd/File.pm line 1592.
Smartmatch is deprecated at /home/cpansand/.cpan/build/2024012900/Unix-Passwd-File-0.251-2/blib/lib/Unix/Passwd/File.pm line 1657.
Smartmatch is deprecated at /home/cpansand/.cpan/build/2024012900/Unix-Passwd-File-0.251-2/blib/lib/Unix/Passwd/File.pm line 1657.
Smartmatch is deprecated at /home/cpansand/.cpan/build/2024012900/Unix-Passwd-File-0.251-2/blib/lib/Unix/Passwd/File.pm line 1661.
Smartmatch is deprecated at /home/cpansand/.cpan/build/2024012900/Unix-Passwd-File-0.251-2/blib/lib/Unix/Passwd/File.pm line 1661.
Smartmatch is deprecated at /home/cpansand/.cpan/build/2024012900/Unix-Passwd-File-0.251-2/blib/lib/Unix/Passwd/File.pm line 1720.
Smartmatch is deprecated at /home/cpansand/.cpan/build/2024012900/Unix-Passwd-File-0.251-2/blib/lib/Unix/Passwd/File.pm line 1720.
Smartmatch is deprecated at /home/cpansand/.cpan/build/2024012900/Unix-Passwd-File-0.251-2/blib/lib/Unix/Passwd/File.pm line 1724.
Smartmatch is deprecated at /home/cpansand/.cpan/build/2024012900/Unix-Passwd-File-0.251-2/blib/lib/Unix/Passwd/File.pm line 1724.
Smartmatch is deprecated at /home/cpansand/.cpan/build/2024012900/Unix-Passwd-File-0.251-2/blib/lib/Unix/Passwd/File.pm line 1794.
Smartmatch is deprecated at /home/cpansand/.cpan/build/2024012900/Unix-Passwd-File-0.251-2/blib/lib/Unix/Passwd/File.pm line 1813.
t/get_max_gid.t ............. ok
Smartmatch is deprecated at /home/cpansand/.cpan/build/2024012900/Unix-Passwd-File-0.251-2/blib/lib/Unix/Passwd/File.pm line 937.
Smartmatch is deprecated at /home/cpansand/.cpan/build/2024012900/Unix-Passwd-File-0.251-2/blib/lib/Unix/Passwd/File.pm line 983.
Smartmatch is deprecated at /home/cpansand/.cpan/build/2024012900/Unix-Passwd-File-0.251-2/blib/lib/Unix/Passwd/File.pm line 1140.
Smartmatch is deprecated at /home/cpansand/.cpan/build/2024012900/Unix-Passwd-File-0.251-2/blib/lib/Unix/Passwd/File.pm line 1159.
Smartmatch is deprecated at /home/cpansand/.cpan/build/2024012900/Unix-Passwd-File-0.251-2/blib/lib/Unix/Passwd/File.pm line 1174.
Smartmatch is deprecated at /home/cpansand/.cpan/build/2024012900/Unix-Passwd-File-0.251-2/blib/lib/Unix/Passwd/File.pm line 1553.
Smartmatch is deprecated at /home/cpansand/.cpan/build/2024012900/Unix-Passwd-File-0.251-2/blib/lib/Unix/Passwd/File.pm line 1592.
Smartmatch is deprecated at /home/cpansand/.cpan/build/2024012900/Unix-Passwd-File-0.251-2/blib/lib/Unix/Passwd/File.pm line 1657.
Smartmatch is deprecated at /home/cpansand/.cpan/build/2024012900/Unix-Passwd-File-0.251-2/blib/lib/Unix/Passwd/File.pm line 1657.
Smartmatch is deprecated at /home/cpansand/.cpan/build/2024012900/Unix-Passwd-File-0.251-2/blib/lib/Unix/Passwd/File.pm line 1661.
Smartmatch is deprecated at /home/cpansand/.cpan/build/2024012900/Unix-Passwd-File-0.251-2/blib/lib/Unix/Passwd/File.pm line 1661.
Smartmatch is deprecated at /home/cpansand/.cpan/build/2024012900/Unix-Passwd-File-0.251-2/blib/lib/Unix/Passwd/File.pm line 1720.
Smartmatch is deprecated at /home/cpansand/.cpan/build/2024012900/Unix-Passwd-File-0.251-2/blib/lib/Unix/Passwd/File.pm line 1720.
Smartmatch is deprecated at /home/cpansand/.cpan/build/2024012900/Unix-Passwd-File-0.251-2/blib/lib/Unix/Passwd/File.pm line 1724.
Smartmatch is deprecated at /home/cpansand/.cpan/build/2024012900/Unix-Passwd-File-0.251-2/blib/lib/Unix/Passwd/File.pm line 1724.
Smartmatch is deprecated at /home/cpansand/.cpan/build/2024012900/Unix-Passwd-File-0.251-2/blib/lib/Unix/Passwd/File.pm line 1794.
Smartmatch is deprecated at /home/cpansand/.cpan/build/2024012900/Unix-Passwd-File-0.251-2/blib/lib/Unix/Passwd/File.pm line 1813.
t/get_max_uid.t ............. ok
Smartmatch is deprecated at /home/cpansand/.cpan/build/2024012900/Unix-Passwd-File-0.251-2/blib/lib/Unix/Passwd/File.pm line 937.
Smartmatch is deprecated at /home/cpansand/.cpan/build/2024012900/Unix-Passwd-File-0.251-2/blib/lib/Unix/Passwd/File.pm line 983.
Smartmatch is deprecated at /home/cpansand/.cpan/build/2024012900/Unix-Passwd-File-0.251-2/blib/lib/Unix/Passwd/File.pm line 1140.
Smartmatch is deprecated at /home/cpansand/.cpan/build/2024012900/Unix-Passwd-File-0.251-2/blib/lib/Unix/Passwd/File.pm line 1159.
Smartmatch is deprecated at /home/cpansand/.cpan/build/2024012900/Unix-Passwd-File-0.251-2/blib/lib/Unix/Passwd/File.pm line 1174.
Smartmatch is deprecated at /home/cpansand/.cpan/build/2024012900/Unix-Passwd-File-0.251-2/blib/lib/Unix/Passwd/File.pm line 1553.
Smartmatch is deprecated at /home/cpansand/.cpan/build/2024012900/Unix-Passwd-File-0.251-2/blib/lib/Unix/Passwd/File.pm line 1592.
Smartmatch is deprecated at /home/cpansand/.cpan/build/2024012900/Unix-Passwd-File-0.251-2/blib/lib/Unix/Passwd/File.pm line 1657.
Smartmatch is deprecated at /home/cpansand/.cpan/build/2024012900/Unix-Passwd-File-0.251-2/blib/lib/Unix/Passwd/File.pm line 1657.
Smartmatch is deprecated at /home/cpansand/.cpan/build/2024012900/Unix-Passwd-File-0.251-2/blib/lib/Unix/Passwd/File.pm line 1661.
Smartmatch is deprecated at /home/cpansand/.cpan/build/2024012900/Unix-Passwd-File-0.251-2/blib/lib/Unix/Passwd/File.pm line 1661.
Smartmatch is deprecated at /home/cpansand/.cpan/build/2024012900/Unix-Passwd-File-0.251-2/blib/lib/Unix/Passwd/File.pm line 1720.
Smartmatch is deprecated at /home/cpansand/.cpan/build/2024012900/Unix-Passwd-File-0.251-2/blib/lib/Unix/Passwd/File.pm line 1720.
Smartmatch is deprecated at /home/cpansand/.cpan/build/2024012900/Unix-Passwd-File-0.251-2/blib/lib/Unix/Passwd/File.pm line 1724.
Smartmatch is deprecated at /home/cpansand/.cpan/build/2024012900/Unix-Passwd-File-0.251-2/blib/lib/Unix/Passwd/File.pm line 1724.
Smartmatch is deprecated at /home/cpansand/.cpan/build/2024012900/Unix-Passwd-File-0.251-2/blib/lib/Unix/Passwd/File.pm line 1794.
Smartmatch is deprecated at /home/cpansand/.cpan/build/2024012900/Unix-Passwd-File-0.251-2/blib/lib/Unix/Passwd/File.pm line 1813.
t/get_user.t ................ ok
Smartmatch is deprecated at /home/cpansand/.cpan/build/2024012900/Unix-Passwd-File-0.251-2/blib/lib/Unix/Passwd/File.pm line 937.
Smartmatch is deprecated at /home/cpansand/.cpan/build/2024012900/Unix-Passwd-File-0.251-2/blib/lib/Unix/Passwd/File.pm line 983.
Smartmatch is deprecated at /home/cpansand/.cpan/build/2024012900/Unix-Passwd-File-0.251-2/blib/lib/Unix/Passwd/File.pm line 1140.
Smartmatch is deprecated at /home/cpansand/.cpan/build/2024012900/Unix-Passwd-File-0.251-2/blib/lib/Unix/Passwd/File.pm line 1159.
Smartmatch is deprecated at /home/cpansand/.cpan/build/2024012900/Unix-Passwd-File-0.251-2/blib/lib/Unix/Passwd/File.pm line 1174.
Smartmatch is deprecated at /home/cpansand/.cpan/build/2024012900/Unix-Passwd-File-0.251-2/blib/lib/Unix/Passwd/File.pm line 1553.
Smartmatch is deprecated at /home/cpansand/.cpan/build/2024012900/Unix-Passwd-File-0.251-2/blib/lib/Unix/Passwd/File.pm line 1592.
Smartmatch is deprecated at /home/cpansand/.cpan/build/2024012900/Unix-Passwd-File-0.251-2/blib/lib/Unix/Passwd/File.pm line 1657.
Smartmatch is deprecated at /home/cpansand/.cpan/build/2024012900/Unix-Passwd-File-0.251-2/blib/lib/Unix/Passwd/File.pm line 1657.
Smartmatch is deprecated at /home/cpansand/.cpan/build/2024012900/Unix-Passwd-File-0.251-2/blib/lib/Unix/Passwd/File.pm line 1661.
Smartmatch is deprecated at /home/cpansand/.cpan/build/2024012900/Unix-Passwd-File-0.251-2/blib/lib/Unix/Passwd/File.pm line 1661.
Smartmatch is deprecated at /home/cpansand/.cpan/build/2024012900/Unix-Passwd-File-0.251-2/blib/lib/Unix/Passwd/File.pm line 1720.
Smartmatch is deprecated at /home/cpansand/.cpan/build/2024012900/Unix-Passwd-File-0.251-2/blib/lib/Unix/Passwd/File.pm line 1720.
Smartmatch is deprecated at /home/cpansand/.cpan/build/2024012900/Unix-Passwd-File-0.251-2/blib/lib/Unix/Passwd/File.pm line 1724.
Smartmatch is deprecated at /home/cpansand/.cpan/build/2024012900/Unix-Passwd-File-0.251-2/blib/lib/Unix/Passwd/File.pm line 1724.
Smartmatch is deprecated at /home/cpansand/.cpan/build/2024012900/Unix-Passwd-File-0.251-2/blib/lib/Unix/Passwd/File.pm line 1794.
Smartmatch is deprecated at /home/cpansand/.cpan/build/2024012900/Unix-Passwd-File-0.251-2/blib/lib/Unix/Passwd/File.pm line 1813.
t/get_user_groups.t ......... ok
Smartmatch is deprecated at /home/cpansand/.cpan/build/2024012900/Unix-Passwd-File-0.251-2/blib/lib/Unix/Passwd/File.pm line 937.
Smartmatch is deprecated at /home/cpansand/.cpan/build/2024012900/Unix-Passwd-File-0.251-2/blib/lib/Unix/Passwd/File.pm line 983.
Smartmatch is deprecated at /home/cpansand/.cpan/build/2024012900/Unix-Passwd-File-0.251-2/blib/lib/Unix/Passwd/File.pm line 1140.
Smartmatch is deprecated at /home/cpansand/.cpan/build/2024012900/Unix-Passwd-File-0.251-2/blib/lib/Unix/Passwd/File.pm line 1159.
Smartmatch is deprecated at /home/cpansand/.cpan/build/2024012900/Unix-Passwd-File-0.251-2/blib/lib/Unix/Passwd/File.pm line 1174.
Smartmatch is deprecated at /home/cpansand/.cpan/build/2024012900/Unix-Passwd-File-0.251-2/blib/lib/Unix/Passwd/File.pm line 1553.
Smartmatch is deprecated at /home/cpansand/.cpan/build/2024012900/Unix-Passwd-File-0.251-2/blib/lib/Unix/Passwd/File.pm line 1592.
Smartmatch is deprecated at /home/cpansand/.cpan/build/2024012900/Unix-Passwd-File-0.251-2/blib/lib/Unix/Passwd/File.pm line 1657.
Smartmatch is deprecated at /home/cpansand/.cpan/build/2024012900/Unix-Passwd-File-0.251-2/blib/lib/Unix/Passwd/File.pm line 1657.
Smartmatch is deprecated at /home/cpansand/.cpan/build/2024012900/Unix-Passwd-File-0.251-2/blib/lib/Unix/Passwd/File.pm line 1661.
Smartmatch is deprecated at /home/cpansand/.cpan/build/2024012900/Unix-Passwd-File-0.251-2/blib/lib/Unix/Passwd/File.pm line 1661.
Smartmatch is deprecated at /home/cpansand/.cpan/build/2024012900/Unix-Passwd-File-0.251-2/blib/lib/Unix/Passwd/File.pm line 1720.
Smartmatch is deprecated at /home/cpansand/.cpan/build/2024012900/Unix-Passwd-File-0.251-2/blib/lib/Unix/Passwd/File.pm line 1720.
Smartmatch is deprecated at /home/cpansand/.cpan/build/2024012900/Unix-Passwd-File-0.251-2/blib/lib/Unix/Passwd/File.pm line 1724.
Smartmatch is deprecated at /home/cpansand/.cpan/build/2024012900/Unix-Passwd-File-0.251-2/blib/lib/Unix/Passwd/File.pm line 1724.
Smartmatch is deprecated at /home/cpansand/.cpan/build/2024012900/Unix-Passwd-File-0.251-2/blib/lib/Unix/Passwd/File.pm line 1794.
Smartmatch is deprecated at /home/cpansand/.cpan/build/2024012900/Unix-Passwd-File-0.251-2/blib/lib/Unix/Passwd/File.pm line 1813.
t/group_exists.t ............ ok
Smartmatch is deprecated at /home/cpansand/.cpan/build/2024012900/Unix-Passwd-File-0.251-2/blib/lib/Unix/Passwd/File.pm line 937.
Smartmatch is deprecated at /home/cpansand/.cpan/build/2024012900/Unix-Passwd-File-0.251-2/blib/lib/Unix/Passwd/File.pm line 983.
Smartmatch is deprecated at /home/cpansand/.cpan/build/2024012900/Unix-Passwd-File-0.251-2/blib/lib/Unix/Passwd/File.pm line 1140.
Smartmatch is deprecated at /home/cpansand/.cpan/build/2024012900/Unix-Passwd-File-0.251-2/blib/lib/Unix/Passwd/File.pm line 1159.
Smartmatch is deprecated at /home/cpansand/.cpan/build/2024012900/Unix-Passwd-File-0.251-2/blib/lib/Unix/Passwd/File.pm line 1174.
Smartmatch is deprecated at /home/cpansand/.cpan/build/2024012900/Unix-Passwd-File-0.251-2/blib/lib/Unix/Passwd/File.pm line 1553.
Smartmatch is deprecated at /home/cpansand/.cpan/build/2024012900/Unix-Passwd-File-0.251-2/blib/lib/Unix/Passwd/File.pm line 1592.
Smartmatch is deprecated at /home/cpansand/.cpan/build/2024012900/Unix-Passwd-File-0.251-2/blib/lib/Unix/Passwd/File.pm line 1657.
Smartmatch is deprecated at /home/cpansand/.cpan/build/2024012900/Unix-Passwd-File-0.251-2/blib/lib/Unix/Passwd/File.pm line 1657.
Smartmatch is deprecated at /home/cpansand/.cpan/build/2024012900/Unix-Passwd-File-0.251-2/blib/lib/Unix/Passwd/File.pm line 1661.
Smartmatch is deprecated at /home/cpansand/.cpan/build/2024012900/Unix-Passwd-File-0.251-2/blib/lib/Unix/Passwd/File.pm line 1661.
Smartmatch is deprecated at /home/cpansand/.cpan/build/2024012900/Unix-Passwd-File-0.251-2/blib/lib/Unix/Passwd/File.pm line 1720.
Smartmatch is deprecated at /home/cpansand/.cpan/build/2024012900/Unix-Passwd-File-0.251-2/blib/lib/Unix/Passwd/File.pm line 1720.
Smartmatch is deprecated at /home/cpansand/.cpan/build/2024012900/Unix-Passwd-File-0.251-2/blib/lib/Unix/Passwd/File.pm line 1724.
Smartmatch is deprecated at /home/cpansand/.cpan/build/2024012900/Unix-Passwd-File-0.251-2/blib/lib/Unix/Passwd/File.pm line 1724.
Smartmatch is deprecated at /home/cpansand/.cpan/build/2024012900/Unix-Passwd-File-0.251-2/blib/lib/Unix/Passwd/File.pm line 1794.
Smartmatch is deprecated at /home/cpansand/.cpan/build/2024012900/Unix-Passwd-File-0.251-2/blib/lib/Unix/Passwd/File.pm line 1813.
t/is_member.t ............... ok
Smartmatch is deprecated at /home/cpansand/.cpan/build/2024012900/Unix-Passwd-File-0.251-2/blib/lib/Unix/Passwd/File.pm line 937.
Smartmatch is deprecated at /home/cpansand/.cpan/build/2024012900/Unix-Passwd-File-0.251-2/blib/lib/Unix/Passwd/File.pm line 983.
Smartmatch is deprecated at /home/cpansand/.cpan/build/2024012900/Unix-Passwd-File-0.251-2/blib/lib/Unix/Passwd/File.pm line 1140.
Smartmatch is deprecated at /home/cpansand/.cpan/build/2024012900/Unix-Passwd-File-0.251-2/blib/lib/Unix/Passwd/File.pm line 1159.
Smartmatch is deprecated at /home/cpansand/.cpan/build/2024012900/Unix-Passwd-File-0.251-2/blib/lib/Unix/Passwd/File.pm line 1174.
Smartmatch is deprecated at /home/cpansand/.cpan/build/2024012900/Unix-Passwd-File-0.251-2/blib/lib/Unix/Passwd/File.pm line 1553.
Smartmatch is deprecated at /home/cpansand/.cpan/build/2024012900/Unix-Passwd-File-0.251-2/blib/lib/Unix/Passwd/File.pm line 1592.
Smartmatch is deprecated at /home/cpansand/.cpan/build/2024012900/Unix-Passwd-File-0.251-2/blib/lib/Unix/Passwd/File.pm line 1657.
Smartmatch is deprecated at /home/cpansand/.cpan/build/2024012900/Unix-Passwd-File-0.251-2/blib/lib/Unix/Passwd/File.pm line 1657.
Smartmatch is deprecated at /home/cpansand/.cpan/build/2024012900/Unix-Passwd-File-0.251-2/blib/lib/Unix/Passwd/File.pm line 1661.
Smartmatch is deprecated at /home/cpansand/.cpan/build/2024012900/Unix-Passwd-File-0.251-2/blib/lib/Unix/Passwd/File.pm line 1661.
Smartmatch is deprecated at /home/cpansand/.cpan/build/2024012900/Unix-Passwd-File-0.251-2/blib/lib/Unix/Passwd/File.pm line 1720.
Smartmatch is deprecated at /home/cpansand/.cpan/build/2024012900/Unix-Passwd-File-0.251-2/blib/lib/Unix/Passwd/File.pm line 1720.
Smartmatch is deprecated at /home/cpansand/.cpan/build/2024012900/Unix-Passwd-File-0.251-2/blib/lib/Unix/Passwd/File.pm line 1724.
Smartmatch is deprecated at /home/cpansand/.cpan/build/2024012900/Unix-Passwd-File-0.251-2/blib/lib/Unix/Passwd/File.pm line 1724.
Smartmatch is deprecated at /home/cpansand/.cpan/build/2024012900/Unix-Passwd-File-0.251-2/blib/lib/Unix/Passwd/File.pm line 1794.
Smartmatch is deprecated at /home/cpansand/.cpan/build/2024012900/Unix-Passwd-File-0.251-2/blib/lib/Unix/Passwd/File.pm line 1813.
t/list_groups.t ............. ok
Smartmatch is deprecated at /home/cpansand/.cpan/build/2024012900/Unix-Passwd-File-0.251-2/blib/lib/Unix/Passwd/File.pm line 937.
Smartmatch is deprecated at /home/cpansand/.cpan/build/2024012900/Unix-Passwd-File-0.251-2/blib/lib/Unix/Passwd/File.pm line 983.
Smartmatch is deprecated at /home/cpansand/.cpan/build/2024012900/Unix-Passwd-File-0.251-2/blib/lib/Unix/Passwd/File.pm line 1140.
Smartmatch is deprecated at /home/cpansand/.cpan/build/2024012900/Unix-Passwd-File-0.251-2/blib/lib/Unix/Passwd/File.pm line 1159.
Smartmatch is deprecated at /home/cpansand/.cpan/build/2024012900/Unix-Passwd-File-0.251-2/blib/lib/Unix/Passwd/File.pm line 1174.
Smartmatch is deprecated at /home/cpansand/.cpan/build/2024012900/Unix-Passwd-File-0.251-2/blib/lib/Unix/Passwd/File.pm line 1553.
Smartmatch is deprecated at /home/cpansand/.cpan/build/2024012900/Unix-Passwd-File-0.251-2/blib/lib/Unix/Passwd/File.pm line 1592.
Smartmatch is deprecated at /home/cpansand/.cpan/build/2024012900/Unix-Passwd-File-0.251-2/blib/lib/Unix/Passwd/File.pm line 1657.
Smartmatch is deprecated at /home/cpansand/.cpan/build/2024012900/Unix-Passwd-File-0.251-2/blib/lib/Unix/Passwd/File.pm line 1657.
Smartmatch is deprecated at /home/cpansand/.cpan/build/2024012900/Unix-Passwd-File-0.251-2/blib/lib/Unix/Passwd/File.pm line 1661.
Smartmatch is deprecated at /home/cpansand/.cpan/build/2024012900/Unix-Passwd-File-0.251-2/blib/lib/Unix/Passwd/File.pm line 1661.
Smartmatch is deprecated at /home/cpansand/.cpan/build/2024012900/Unix-Passwd-File-0.251-2/blib/lib/Unix/Passwd/File.pm line 1720.
Smartmatch is deprecated at /home/cpansand/.cpan/build/2024012900/Unix-Passwd-File-0.251-2/blib/lib/Unix/Passwd/File.pm line 1720.
Smartmatch is deprecated at /home/cpansand/.cpan/build/2024012900/Unix-Passwd-File-0.251-2/blib/lib/Unix/Passwd/File.pm line 1724.
Smartmatch is deprecated at /home/cpansand/.cpan/build/2024012900/Unix-Passwd-File-0.251-2/blib/lib/Unix/Passwd/File.pm line 1724.
Smartmatch is deprecated at /home/cpansand/.cpan/build/2024012900/Unix-Passwd-File-0.251-2/blib/lib/Unix/Passwd/File.pm line 1794.
Smartmatch is deprecated at /home/cpansand/.cpan/build/2024012900/Unix-Passwd-File-0.251-2/blib/lib/Unix/Passwd/File.pm line 1813.
t/list_users.t .............. ok
Smartmatch is deprecated at /home/cpansand/.cpan/build/2024012900/Unix-Passwd-File-0.251-2/blib/lib/Unix/Passwd/File.pm line 937.
Smartmatch is deprecated at /home/cpansand/.cpan/build/2024012900/Unix-Passwd-File-0.251-2/blib/lib/Unix/Passwd/File.pm line 983.
Smartmatch is deprecated at /home/cpansand/.cpan/build/2024012900/Unix-Passwd-File-0.251-2/blib/lib/Unix/Passwd/File.pm line 1140.
Smartmatch is deprecated at /home/cpansand/.cpan/build/2024012900/Unix-Passwd-File-0.251-2/blib/lib/Unix/Passwd/File.pm line 1159.
Smartmatch is deprecated at /home/cpansand/.cpan/build/2024012900/Unix-Passwd-File-0.251-2/blib/lib/Unix/Passwd/File.pm line 1174.
Smartmatch is deprecated at /home/cpansand/.cpan/build/2024012900/Unix-Passwd-File-0.251-2/blib/lib/Unix/Passwd/File.pm line 1553.
Smartmatch is deprecated at /home/cpansand/.cpan/build/2024012900/Unix-Passwd-File-0.251-2/blib/lib/Unix/Passwd/File.pm line 1592.
Smartmatch is deprecated at /home/cpansand/.cpan/build/2024012900/Unix-Passwd-File-0.251-2/blib/lib/Unix/Passwd/File.pm line 1657.
Smartmatch is deprecated at /home/cpansand/.cpan/build/2024012900/Unix-Passwd-File-0.251-2/blib/lib/Unix/Passwd/File.pm line 1657.
Smartmatch is deprecated at /home/cpansand/.cpan/build/2024012900/Unix-Passwd-File-0.251-2/blib/lib/Unix/Passwd/File.pm line 1661.
Smartmatch is deprecated at /home/cpansand/.cpan/build/2024012900/Unix-Passwd-File-0.251-2/blib/lib/Unix/Passwd/File.pm line 1661.
Smartmatch is deprecated at /home/cpansand/.cpan/build/2024012900/Unix-Passwd-File-0.251-2/blib/lib/Unix/Passwd/File.pm line 1720.
Smartmatch is deprecated at /home/cpansand/.cpan/build/2024012900/Unix-Passwd-File-0.251-2/blib/lib/Unix/Passwd/File.pm line 1720.
Smartmatch is deprecated at /home/cpansand/.cpan/build/2024012900/Unix-Passwd-File-0.251-2/blib/lib/Unix/Passwd/File.pm line 1724.
Smartmatch is deprecated at /home/cpansand/.cpan/build/2024012900/Unix-Passwd-File-0.251-2/blib/lib/Unix/Passwd/File.pm line 1724.
Smartmatch is deprecated at /home/cpansand/.cpan/build/2024012900/Unix-Passwd-File-0.251-2/blib/lib/Unix/Passwd/File.pm line 1794.
Smartmatch is deprecated at /home/cpansand/.cpan/build/2024012900/Unix-Passwd-File-0.251-2/blib/lib/Unix/Passwd/File.pm line 1813.
t/list_users_and_groups.t ... ok
Smartmatch is deprecated at /home/cpansand/.cpan/build/2024012900/Unix-Passwd-File-0.251-2/blib/lib/Unix/Passwd/File.pm line 937.
Smartmatch is deprecated at /home/cpansand/.cpan/build/2024012900/Unix-Passwd-File-0.251-2/blib/lib/Unix/Passwd/File.pm line 983.
Smartmatch is deprecated at /home/cpansand/.cpan/build/2024012900/Unix-Passwd-File-0.251-2/blib/lib/Unix/Passwd/File.pm line 1140.
Smartmatch is deprecated at /home/cpansand/.cpan/build/2024012900/Unix-Passwd-File-0.251-2/blib/lib/Unix/Passwd/File.pm line 1159.
Smartmatch is deprecated at /home/cpansand/.cpan/build/2024012900/Unix-Passwd-File-0.251-2/blib/lib/Unix/Passwd/File.pm line 1174.
Smartmatch is deprecated at /home/cpansand/.cpan/build/2024012900/Unix-Passwd-File-0.251-2/blib/lib/Unix/Passwd/File.pm line 1553.
Smartmatch is deprecated at /home/cpansand/.cpan/build/2024012900/Unix-Passwd-File-0.251-2/blib/lib/Unix/Passwd/File.pm line 1592.
Smartmatch is deprecated at /home/cpansand/.cpan/build/2024012900/Unix-Passwd-File-0.251-2/blib/lib/Unix/Passwd/File.pm line 1657.
Smartmatch is deprecated at /home/cpansand/.cpan/build/2024012900/Unix-Passwd-File-0.251-2/blib/lib/Unix/Passwd/File.pm line 1657.
Smartmatch is deprecated at /home/cpansand/.cpan/build/2024012900/Unix-Passwd-File-0.251-2/blib/lib/Unix/Passwd/File.pm line 1661.
Smartmatch is deprecated at /home/cpansand/.cpan/build/2024012900/Unix-Passwd-File-0.251-2/blib/lib/Unix/Passwd/File.pm line 1661.
Smartmatch is deprecated at /home/cpansand/.cpan/build/2024012900/Unix-Passwd-File-0.251-2/blib/lib/Unix/Passwd/File.pm line 1720.
Smartmatch is deprecated at /home/cpansand/.cpan/build/2024012900/Unix-Passwd-File-0.251-2/blib/lib/Unix/Passwd/File.pm line 1720.
Smartmatch is deprecated at /home/cpansand/.cpan/build/2024012900/Unix-Passwd-File-0.251-2/blib/lib/Unix/Passwd/File.pm line 1724.
Smartmatch is deprecated at /home/cpansand/.cpan/build/2024012900/Unix-Passwd-File-0.251-2/blib/lib/Unix/Passwd/File.pm line 1724.
Smartmatch is deprecated at /home/cpansand/.cpan/build/2024012900/Unix-Passwd-File-0.251-2/blib/lib/Unix/Passwd/File.pm line 1794.
Smartmatch is deprecated at /home/cpansand/.cpan/build/2024012900/Unix-Passwd-File-0.251-2/blib/lib/Unix/Passwd/File.pm line 1813.
t/modify_group.t ............ ok
Smartmatch is deprecated at /home/cpansand/.cpan/build/2024012900/Unix-Passwd-File-0.251-2/blib/lib/Unix/Passwd/File.pm line 937.
Smartmatch is deprecated at /home/cpansand/.cpan/build/2024012900/Unix-Passwd-File-0.251-2/blib/lib/Unix/Passwd/File.pm line 983.
Smartmatch is deprecated at /home/cpansand/.cpan/build/2024012900/Unix-Passwd-File-0.251-2/blib/lib/Unix/Passwd/File.pm line 1140.
Smartmatch is deprecated at /home/cpansand/.cpan/build/2024012900/Unix-Passwd-File-0.251-2/blib/lib/Unix/Passwd/File.pm line 1159.
Smartmatch is deprecated at /home/cpansand/.cpan/build/2024012900/Unix-Passwd-File-0.251-2/blib/lib/Unix/Passwd/File.pm line 1174.
Smartmatch is deprecated at /home/cpansand/.cpan/build/2024012900/Unix-Passwd-File-0.251-2/blib/lib/Unix/Passwd/File.pm line 1553.
Smartmatch is deprecated at /home/cpansand/.cpan/build/2024012900/Unix-Passwd-File-0.251-2/blib/lib/Unix/Passwd/File.pm line 1592.
Smartmatch is deprecated at /home/cpansand/.cpan/build/2024012900/Unix-Passwd-File-0.251-2/blib/lib/Unix/Passwd/File.pm line 1657.
Smartmatch is deprecated at /home/cpansand/.cpan/build/2024012900/Unix-Passwd-File-0.251-2/blib/lib/Unix/Passwd/File.pm line 1657.
Smartmatch is deprecated at /home/cpansand/.cpan/build/2024012900/Unix-Passwd-File-0.251-2/blib/lib/Unix/Passwd/File.pm line 1661.
Smartmatch is deprecated at /home/cpansand/.cpan/build/2024012900/Unix-Passwd-File-0.251-2/blib/lib/Unix/Passwd/File.pm line 1661.
Smartmatch is deprecated at /home/cpansand/.cpan/build/2024012900/Unix-Passwd-File-0.251-2/blib/lib/Unix/Passwd/File.pm line 1720.
Smartmatch is deprecated at /home/cpansand/.cpan/build/2024012900/Unix-Passwd-File-0.251-2/blib/lib/Unix/Passwd/File.pm line 1720.
Smartmatch is deprecated at /home/cpansand/.cpan/build/2024012900/Unix-Passwd-File-0.251-2/blib/lib/Unix/Passwd/File.pm line 1724.
Smartmatch is deprecated at /home/cpansand/.cpan/build/2024012900/Unix-Passwd-File-0.251-2/blib/lib/Unix/Passwd/File.pm line 1724.
Smartmatch is deprecated at /home/cpansand/.cpan/build/2024012900/Unix-Passwd-File-0.251-2/blib/lib/Unix/Passwd/File.pm line 1794.
Smartmatch is deprecated at /home/cpansand/.cpan/build/2024012900/Unix-Passwd-File-0.251-2/blib/lib/Unix/Passwd/File.pm line 1813.
t/modify_user.t ............. ok
t/release-rinci.t ........... skipped: these tests are for release candidate testing
Smartmatch is deprecated at /home/cpansand/.cpan/build/2024012900/Unix-Passwd-File-0.251-2/blib/lib/Unix/Passwd/File.pm line 937.
Smartmatch is deprecated at /home/cpansand/.cpan/build/2024012900/Unix-Passwd-File-0.251-2/blib/lib/Unix/Passwd/File.pm line 983.
Smartmatch is deprecated at /home/cpansand/.cpan/build/2024012900/Unix-Passwd-File-0.251-2/blib/lib/Unix/Passwd/File.pm line 1140.
Smartmatch is deprecated at /home/cpansand/.cpan/build/2024012900/Unix-Passwd-File-0.251-2/blib/lib/Unix/Passwd/File.pm line 1159.
Smartmatch is deprecated at /home/cpansand/.cpan/build/2024012900/Unix-Passwd-File-0.251-2/blib/lib/Unix/Passwd/File.pm line 1174.
Smartmatch is deprecated at /home/cpansand/.cpan/build/2024012900/Unix-Passwd-File-0.251-2/blib/lib/Unix/Passwd/File.pm line 1553.
Smartmatch is deprecated at /home/cpansand/.cpan/build/2024012900/Unix-Passwd-File-0.251-2/blib/lib/Unix/Passwd/File.pm line 1592.
Smartmatch is deprecated at /home/cpansand/.cpan/build/2024012900/Unix-Passwd-File-0.251-2/blib/lib/Unix/Passwd/File.pm line 1657.
Smartmatch is deprecated at /home/cpansand/.cpan/build/2024012900/Unix-Passwd-File-0.251-2/blib/lib/Unix/Passwd/File.pm line 1657.
Smartmatch is deprecated at /home/cpansand/.cpan/build/2024012900/Unix-Passwd-File-0.251-2/blib/lib/Unix/Passwd/File.pm line 1661.
Smartmatch is deprecated at /home/cpansand/.cpan/build/2024012900/Unix-Passwd-File-0.251-2/blib/lib/Unix/Passwd/File.pm line 1661.
Smartmatch is deprecated at /home/cpansand/.cpan/build/2024012900/Unix-Passwd-File-0.251-2/blib/lib/Unix/Passwd/File.pm line 1720.
Smartmatch is deprecated at /home/cpansand/.cpan/build/2024012900/Unix-Passwd-File-0.251-2/blib/lib/Unix/Passwd/File.pm line 1720.
Smartmatch is deprecated at /home/cpansand/.cpan/build/2024012900/Unix-Passwd-File-0.251-2/blib/lib/Unix/Passwd/File.pm line 1724.
Smartmatch is deprecated at /home/cpansand/.cpan/build/2024012900/Unix-Passwd-File-0.251-2/blib/lib/Unix/Passwd/File.pm line 1724.
Smartmatch is deprecated at /home/cpansand/.cpan/build/2024012900/Unix-Passwd-File-0.251-2/blib/lib/Unix/Passwd/File.pm line 1794.
Smartmatch is deprecated at /home/cpansand/.cpan/build/2024012900/Unix-Passwd-File-0.251-2/blib/lib/Unix/Passwd/File.pm line 1813.
t/set_user_groups.t ......... ok
Smartmatch is deprecated at /home/cpansand/.cpan/build/2024012900/Unix-Passwd-File-0.251-2/blib/lib/Unix/Passwd/File.pm line 937.
Smartmatch is deprecated at /home/cpansand/.cpan/build/2024012900/Unix-Passwd-File-0.251-2/blib/lib/Unix/Passwd/File.pm line 983.
Smartmatch is deprecated at /home/cpansand/.cpan/build/2024012900/Unix-Passwd-File-0.251-2/blib/lib/Unix/Passwd/File.pm line 1140.
Smartmatch is deprecated at /home/cpansand/.cpan/build/2024012900/Unix-Passwd-File-0.251-2/blib/lib/Unix/Passwd/File.pm line 1159.
Smartmatch is deprecated at /home/cpansand/.cpan/build/2024012900/Unix-Passwd-File-0.251-2/blib/lib/Unix/Passwd/File.pm line 1174.
Smartmatch is deprecated at /home/cpansand/.cpan/build/2024012900/Unix-Passwd-File-0.251-2/blib/lib/Unix/Passwd/File.pm line 1553.
Smartmatch is deprecated at /home/cpansand/.cpan/build/2024012900/Unix-Passwd-File-0.251-2/blib/lib/Unix/Passwd/File.pm line 1592.
Smartmatch is deprecated at /home/cpansand/.cpan/build/2024012900/Unix-Passwd-File-0.251-2/blib/lib/Unix/Passwd/File.pm line 1657.
Smartmatch is deprecated at /home/cpansand/.cpan/build/2024012900/Unix-Passwd-File-0.251-2/blib/lib/Unix/Passwd/File.pm line 1657.
Smartmatch is deprecated at /home/cpansand/.cpan/build/2024012900/Unix-Passwd-File-0.251-2/blib/lib/Unix/Passwd/File.pm line 1661.
Smartmatch is deprecated at /home/cpansand/.cpan/build/2024012900/Unix-Passwd-File-0.251-2/blib/lib/Unix/Passwd/File.pm line 1661.
Smartmatch is deprecated at /home/cpansand/.cpan/build/2024012900/Unix-Passwd-File-0.251-2/blib/lib/Unix/Passwd/File.pm line 1720.
Smartmatch is deprecated at /home/cpansand/.cpan/build/2024012900/Unix-Passwd-File-0.251-2/blib/lib/Unix/Passwd/File.pm line 1720.
Smartmatch is deprecated at /home/cpansand/.cpan/build/2024012900/Unix-Passwd-File-0.251-2/blib/lib/Unix/Passwd/File.pm line 1724.
Smartmatch is deprecated at /home/cpansand/.cpan/build/2024012900/Unix-Passwd-File-0.251-2/blib/lib/Unix/Passwd/File.pm line 1724.
Smartmatch is deprecated at /home/cpansand/.cpan/build/2024012900/Unix-Passwd-File-0.251-2/blib/lib/Unix/Passwd/File.pm line 1794.
Smartmatch is deprecated at /home/cpansand/.cpan/build/2024012900/Unix-Passwd-File-0.251-2/blib/lib/Unix/Passwd/File.pm line 1813.
t/set_user_password.t ....... ok
Smartmatch is deprecated at /home/cpansand/.cpan/build/2024012900/Unix-Passwd-File-0.251-2/blib/lib/Unix/Passwd/File.pm line 937.
Smartmatch is deprecated at /home/cpansand/.cpan/build/2024012900/Unix-Passwd-File-0.251-2/blib/lib/Unix/Passwd/File.pm line 983.
Smartmatch is deprecated at /home/cpansand/.cpan/build/2024012900/Unix-Passwd-File-0.251-2/blib/lib/Unix/Passwd/File.pm line 1140.
Smartmatch is deprecated at /home/cpansand/.cpan/build/2024012900/Unix-Passwd-File-0.251-2/blib/lib/Unix/Passwd/File.pm line 1159.
Smartmatch is deprecated at /home/cpansand/.cpan/build/2024012900/Unix-Passwd-File-0.251-2/blib/lib/Unix/Passwd/File.pm line 1174.
Smartmatch is deprecated at /home/cpansand/.cpan/build/2024012900/Unix-Passwd-File-0.251-2/blib/lib/Unix/Passwd/File.pm line 1553.
Smartmatch is deprecated at /home/cpansand/.cpan/build/2024012900/Unix-Passwd-File-0.251-2/blib/lib/Unix/Passwd/File.pm line 1592.
Smartmatch is deprecated at /home/cpansand/.cpan/build/2024012900/Unix-Passwd-File-0.251-2/blib/lib/Unix/Passwd/File.pm line 1657.
Smartmatch is deprecated at /home/cpansand/.cpan/build/2024012900/Unix-Passwd-File-0.251-2/blib/lib/Unix/Passwd/File.pm line 1657.
Smartmatch is deprecated at /home/cpansand/.cpan/build/2024012900/Unix-Passwd-File-0.251-2/blib/lib/Unix/Passwd/File.pm line 1661.
Smartmatch is deprecated at /home/cpansand/.cpan/build/2024012900/Unix-Passwd-File-0.251-2/blib/lib/Unix/Passwd/File.pm line 1661.
Smartmatch is deprecated at /home/cpansand/.cpan/build/2024012900/Unix-Passwd-File-0.251-2/blib/lib/Unix/Passwd/File.pm line 1720.
Smartmatch is deprecated at /home/cpansand/.cpan/build/2024012900/Unix-Passwd-File-0.251-2/blib/lib/Unix/Passwd/File.pm line 1720.
Smartmatch is deprecated at /home/cpansand/.cpan/build/2024012900/Unix-Passwd-File-0.251-2/blib/lib/Unix/Passwd/File.pm line 1724.
Smartmatch is deprecated at /home/cpansand/.cpan/build/2024012900/Unix-Passwd-File-0.251-2/blib/lib/Unix/Passwd/File.pm line 1724.
Smartmatch is deprecated at /home/cpansand/.cpan/build/2024012900/Unix-Passwd-File-0.251-2/blib/lib/Unix/Passwd/File.pm line 1794.
Smartmatch is deprecated at /home/cpansand/.cpan/build/2024012900/Unix-Passwd-File-0.251-2/blib/lib/Unix/Passwd/File.pm line 1813.
t/user_exists.t ............. ok
All tests successful.
Files=27, Tests=116, 2 wallclock secs ( 0.11 usr 0.08 sys + 1.88 cusr 0.48 csys = 2.55 CPU)
Result: PASS
------------------------------
PREREQUISITES
------------------------------
Prerequisite modules loaded:
requires:
Module Need Have
--------------------- -------- --------
Crypt::Password::Util 0.06 0.17
experimental 0 0.031
File::Flock::Retry 0.631 0.632
List::MoreUtils 0 0.430
List::Util 1.45 1.63
perl 5.010001 5.039007
strict 0 1.13
warnings 0 1.67
build_requires:
Module Need Have
--------------------- -------- --------
ExtUtils::MakeMaker 0 7.70
File::chdir 0 0.1011
File::Copy 0 2.41
File::Copy::Recursive 0 0.45
File::Path 0 2.18
File::Slurper 0 0.014
File::Spec 0 3.90
File::Temp 0 0.2311
FindBin 0 1.54
IO::Handle 0 1.55
IPC::Open3 0 1.22
lib 0 0.65
Test::More 0.98 1.302198
vars 0 1.05
configure_requires:
Module Need Have
--------------------- -------- --------
ExtUtils::MakeMaker 0 7.70
------------------------------
ENVIRONMENT AND OTHER CONTEXT
------------------------------
Environment variables:
LANG = C.UTF-8
PATH = /usr/local/bin:/usr/bin:/bin:/usr/local/sbin:/usr/sbin:/sbin:/home/cpansand/bin/sh:/home/cpansand/bin:/usr/games:/home/cpansand/devel:/home/eserte/src/srezic-misc/scripts
PERL5LIB = /home/cpansand/.cpan/build/2024012900/Crypt-Password-Util-0.17-0/blib/arch:/home/cpansand/.cpan/build/2024012900/Crypt-Password-Util-0.17-0/blib/lib:/home/cpansand/.cpan/build/2024012900/Proc-Find-0.051-2/blib/arch:/home/cpansand/.cpan/build/2024012900/Proc-Find-0.051-2/blib/lib:/home/cpansand/.cpan/build/2024012900/Parse-Services-0.002-2/blib/arch:/home/cpansand/.cpan/build/2024012900/Parse-Services-0.002-2/blib/lib:/home/cpansand/.cpan/build/2024012900/Data-Sah-CoerceBundle-To_array-From_str-comma_sep-0.013-2/blib/arch:/home/cpansand/.cpan/build/2024012900/Data-Sah-CoerceBundle-To_array-From_str-comma_sep-0.013-2/blib/lib:/home/cpansand/.cpan/build/2024012900/String-JS-0.03-2/blib/arch:/home/cpansand/.cpan/build/2024012900/String-JS-0.03-2/blib/lib
PERL5OPT =
PERL5_CPANPLUS_IS_RUNNING = 46323
PERL5_CPAN_IS_RUNNING = 46323
PERL5_CPAN_IS_RUNNING_IN_RECURSION = 43098,46323
PERL_BATCH = yes
PERL_CANARY_STABILITY_NOPROMPT = 1
PERL_CPAN_REPORTER_CONFIG = /var/tmp/cpansmoker-1023/2024012900/cpanreporter_000_config.ini
PERL_EXTUTILS_AUTOINSTALL = --defaultdeps
PERL_USE_UNSAFE_INC = 1
SHELL = /bin/sh
TMPDIR = /var/tmp/cpansmoker-1023/2024012900
Perl special variables (and OS-specific diagnostics, for MSWin32):
$^X = /usr/perl5.39.7/bin/perl5.39.7
$UID/$EUID = 1023 / 1023
$GID = 1023 1023
$EGID = 1023 1023
Perl module toolchain versions installed:
Module Have
------------------- --------
CPAN 2.36
CPAN::Meta 2.150010
Cwd 3.90
ExtUtils::CBuilder 0.280240
ExtUtils::Command 7.70
ExtUtils::Install 2.22
ExtUtils::MakeMaker 7.70
ExtUtils::Manifest 1.75
ExtUtils::ParseXS 3.51
File::Spec 3.90
JSON 4.10
JSON::PP 4.16
Module::Build 0.4234
Module::Signature n/a
Parse::CPAN::Meta 2.150010
Test2 1.302198
Test::Harness 3.48
Test::More 1.302198
YAML 1.31
YAML::Syck 1.34
version 0.9930
--
Summary of my perl5 (revision 5 version 39 subversion 7) configuration:
Platform:
osname=freebsd
osvers=14.0-stable
archname=aarch64-freebsd
uname='freebsd cloud9.bbbike.org 14.0-stable freebsd 14.0-stable #5 stable14-62f890cfb: sat jan 20 10:17:09 utc 2024 root@cloud9.bbbike.org:usrobjhomeprojectsfreebsd-srcarm64.aarch64sysgeneric arm64 '
config_args='-ds -e -Dprefix=/usr/perl5.39.7 -Dusedevel -Dusemallocwrap=no -Dcf_email=srezic@cpan.org -Doptimize=-O2 -pipe'
hint=recommended
useposix=true
d_sigaction=define
useithreads=undef
usemultiplicity=undef
use64bitint=define
use64bitall=define
uselongdouble=undef
usemymalloc=n
default_inc_excludes_dot=define
Compiler:
cc='cc'
ccflags ='-DHAS_FPSETMASK -DHAS_FLOATINGPOINT_H -DNO_POSIX_2008_LOCALE -fno-strict-aliasing -pipe -fstack-protector-strong -I/usr/local/include'
optimize='-O2 -pipe'
cppflags='-DHAS_FPSETMASK -DHAS_FLOATINGPOINT_H -DNO_POSIX_2008_LOCALE -fno-strict-aliasing -pipe -fstack-protector-strong -I/usr/local/include'
ccversion=''
gccversion='FreeBSD Clang 16.0.6 (https://github.com/llvm/llvm-project.git llvmorg-16.0.6-0-g7cbf1a259152)'
gccosandvers=''
intsize=4
longsize=8
ptrsize=8
doublesize=8
byteorder=12345678
doublekind=3
d_longlong=define
longlongsize=8
d_longdbl=define
longdblsize=16
longdblkind=1
ivtype='long'
ivsize=8
nvtype='double'
nvsize=8
Off_t='off_t'
lseeksize=8
alignbytes=8
prototype=define
Linker and Libraries:
ld='cc'
ldflags ='-Wl,-E -fstack-protector-strong -L/usr/local/lib'
libpth=/usr/lib /usr/local/lib /usr/lib/clang/16/lib
libs=-lpthread -lgdbm -ldl -lm -lcrypt -lutil -lc
perllibs=-lpthread -ldl -lm -lcrypt -lutil -lc
libc=
so=so
useshrplib=false
libperl=libperl.a
gnulibc_version=''
Dynamic Linking:
dlsrc=dl_dlopen.xs
dlext=so
d_dlsymun=undef
ccdlflags=' '
cccdlflags='-DPIC -fPIC'
lddlflags='-shared -L/usr/local/lib -fstack-protector-strong'
Characteristics of this binary (from libperl):
Compile-time options:
HAS_LONG_DOUBLE
HAS_STRTOLD
HAS_TIMES
PERLIO_LAYERS
PERL_COPY_ON_WRITE
PERL_DONT_CREATE_GVSV
PERL_HASH_FUNC_SIPHASH13
PERL_HASH_USE_SBOX32
PERL_OP_PARENT
PERL_PRESERVE_IVUV
PERL_USE_DEVEL
PERL_USE_SAFE_PUTENV
USE_64_BIT_ALL
USE_64_BIT_INT
USE_LARGE_FILES
USE_LOCALE
USE_LOCALE_COLLATE
USE_LOCALE_CTYPE
USE_LOCALE_NUMERIC
USE_LOCALE_TIME
USE_PERLIO
USE_PERL_ATOF
Built under freebsd
Compiled at Jan 20 2024 19:08:46
%ENV:
PERL5LIB="/home/cpansand/.cpan/build/2024012900/Crypt-Password-Util-0.17-0/blib/arch:/home/cpansand/.cpan/build/2024012900/Crypt-Password-Util-0.17-0/blib/lib:/home/cpansand/.cpan/build/2024012900/Proc-Find-0.051-2/blib/arch:/home/cpansand/.cpan/build/2024012900/Proc-Find-0.051-2/blib/lib:/home/cpansand/.cpan/build/2024012900/Parse-Services-0.002-2/blib/arch:/home/cpansand/.cpan/build/2024012900/Parse-Services-0.002-2/blib/lib:/home/cpansand/.cpan/build/2024012900/Data-Sah-CoerceBundle-To_array-From_str-comma_sep-0.013-2/blib/arch:/home/cpansand/.cpan/build/2024012900/Data-Sah-CoerceBundle-To_array-From_str-comma_sep-0.013-2/blib/lib:/home/cpansand/.cpan/build/2024012900/String-JS-0.03-2/blib/arch:/home/cpansand/.cpan/build/2024012900/String-JS-0.03-2/blib/lib"
PERL5OPT=""
PERL5_CPANPLUS_IS_RUNNING="46323"
PERL5_CPAN_IS_RUNNING="46323"
PERL5_CPAN_IS_RUNNING_IN_RECURSION="43098,46323"
PERL_BATCH="yes"
PERL_CANARY_STABILITY_NOPROMPT="1"
PERL_CPAN_REPORTER_CONFIG="/var/tmp/cpansmoker-1023/2024012900/cpanreporter_000_config.ini"
PERL_EXTUTILS_AUTOINSTALL="--defaultdeps"
PERL_USE_UNSAFE_INC="1"
@INC:
/home/cpansand/.cpan/build/2024012900/Crypt-Password-Util-0.17-0/blib/arch
/home/cpansand/.cpan/build/2024012900/Crypt-Password-Util-0.17-0/blib/lib
/home/cpansand/.cpan/build/2024012900/Proc-Find-0.051-2/blib/arch
/home/cpansand/.cpan/build/2024012900/Proc-Find-0.051-2/blib/lib
/home/cpansand/.cpan/build/2024012900/Parse-Services-0.002-2/blib/arch
/home/cpansand/.cpan/build/2024012900/Parse-Services-0.002-2/blib/lib
/home/cpansand/.cpan/build/2024012900/Data-Sah-CoerceBundle-To_array-From_str-comma_sep-0.013-2/blib/arch
/home/cpansand/.cpan/build/2024012900/Data-Sah-CoerceBundle-To_array-From_str-comma_sep-0.013-2/blib/lib
/home/cpansand/.cpan/build/2024012900/String-JS-0.03-2/blib/arch
/home/cpansand/.cpan/build/2024012900/String-JS-0.03-2/blib/lib
/usr/perl5.39.7/lib/site_perl/5.39.7/aarch64-freebsd
/usr/perl5.39.7/lib/site_perl/5.39.7
/usr/perl5.39.7/lib/5.39.7/aarch64-freebsd
/usr/perl5.39.7/lib/5.39.7
.