Data-Roundtrip v0.29 Perl 5 v5.18.2 x86_64-linux-thread-multi

Status
Pass
From
Andreas J. König (ANDK)
Dist
Data-Roundtrip v0.29
Platform
Perl 5 v5.18.2 x86_64-linux-thread-multi
Date
2024-10-24 23:25:29
ID
41febba8-925f-11ef-8b27-dbfad1db0f0c
This distribution has been tested as part of the CPAN Testers
project, supporting the Perl programming language.  See
http://wiki.cpantesters.org/ for more information or email
questions to cpan-testers-discuss@perl.org


--
Dear Andreas Hadjiprocopis,

This is a computer-generated report for Data-Roundtrip-0.29
on perl 5.18.2, created by CPAN-Reporter-1.2019.

Thank you for uploading your work to CPAN.  Congratulations!
All tests were successful.

Sections of this report:

    * Tester comments
    * Program output
    * Prerequisites
    * Environment and other context

------------------------------
TESTER COMMENTS
------------------------------

Additional comments from tester:

this report is from an automated smoke testing program
and was not reviewed by a human for accuracy

------------------------------
PROGRAM OUTPUT
------------------------------

Output from '/usr/bin/make test':

PERL_DL_NONLAZY=1 "/home/sand/src/perl/repoperls/installed-perls/host/k93msid/v5.18.2/29fb/bin/perl" "-MExtUtils::Command::MM" "-MTest::Harness" "-e" "undef *Test::Harness::Switches; test_harness(0, 'blib/lib', 'blib/arch')" t/*.t
# Testing Data::Roundtrip 0.29, Perl 5.018002, /home/sand/src/perl/repoperls/installed-perls/host/k93msid/v5.18.2/29fb/bin/perl
t/00-load.t ..................................... ok
dump2perl() : WARNING, eval()'ing input string, are you sure you did check its content ?
dump2perl() : WARNING, this sub will be removed in future releases.
dump2perl() : WARNING, eval()'ing input string, are you sure you did check its content ?
dump2perl() : WARNING, this sub will be removed in future releases.
dump2perl() : WARNING, eval()'ing input string, are you sure you did check its content ?
dump2perl() : WARNING, this sub will be removed in future releases.
dump2perl() : WARNING, eval()'ing input string, are you sure you did check its content ?
dump2perl() : WARNING, this sub will be removed in future releases.
dump2perl() : WARNING, eval()'ing input string, are you sure you did check its content ?
dump2perl() : WARNING, this sub will be removed in future releases.
dump2perl() : WARNING, eval()'ing input string, are you sure you did check its content ?
dump2perl() : WARNING, this sub will be removed in future releases.
t/01-basic.t .................................... ok
dump2perl() : WARNING, eval()'ing input string, are you sure you did check its content ?
dump2perl() : WARNING, this sub will be removed in future releases.
dump2perl() : WARNING, eval()'ing input string, are you sure you did check its content ?
dump2perl() : WARNING, this sub will be removed in future releases.
dump2perl() : WARNING, eval()'ing input string, are you sure you did check its content ?
dump2perl() : WARNING, this sub will be removed in future releases.
dump2perl() : WARNING, eval()'ing input string, are you sure you did check its content ?
dump2perl() : WARNING, this sub will be removed in future releases.
dump2perl() : WARNING, eval()'ing input string, are you sure you did check its content ?
dump2perl() : WARNING, this sub will be removed in future releases.
dump2perl() : WARNING, eval()'ing input string, are you sure you did check its content ?
dump2perl() : WARNING, this sub will be removed in future releases.
perl2yaml() : pretty-printing is not supported for YAML output
t/02-random-data-structure.t .................... ok
dump2perl() : WARNING, eval()'ing input string, are you sure you did check its content ?
dump2perl() : WARNING, this sub will be removed in future releases.
dump2perl() : WARNING, eval()'ing input string, are you sure you did check its content ?
dump2perl() : WARNING, this sub will be removed in future releases.
dump2perl() : WARNING, eval()'ing input string, are you sure you did check its content ?
dump2perl() : WARNING, this sub will be removed in future releases.
dump2perl() : WARNING, eval()'ing input string, are you sure you did check its content ?
dump2perl() : WARNING, this sub will be removed in future releases.
dump2perl() : WARNING, eval()'ing input string, are you sure you did check its content ?
dump2perl() : WARNING, this sub will be removed in future releases.
dump2perl() : WARNING, eval()'ing input string, are you sure you did check its content ?
dump2perl() : WARNING, this sub will be removed in future releases.
perl2yaml() : pretty-printing is not supported for YAML output
dump2perl() : WARNING, eval()'ing input string, are you sure you did check its content ?
dump2perl() : WARNING, this sub will be removed in future releases.
dump2perl() : WARNING, eval()'ing input string, are you sure you did check its content ?
dump2perl() : WARNING, this sub will be removed in future releases.
dump2perl() : WARNING, eval()'ing input string, are you sure you did check its content ?
dump2perl() : WARNING, this sub will be removed in future releases.
t/03-random-data-structure-UTF8.t ............... ok
t/04-dump2-use-is-explicit.t .................... ok
dump2perl() : WARNING, eval()'ing input string, are you sure you did check its content ?
dump2perl() : WARNING, this sub will be removed in future releases.
dump2perl() : WARNING, eval()'ing input string, are you sure you did check its content ?
dump2perl() : WARNING, this sub will be removed in future releases.
dump2perl() : WARNING, eval()'ing input string, are you sure you did check its content ?
dump2perl() : WARNING, this sub will be removed in future releases.
dump2perl() : WARNING, eval()'ing input string, are you sure you did check its content ?
dump2perl() : WARNING, this sub will be removed in future releases.
t/05-perl2dump-no-escape-unicode-temporarily.t .. ok
dump2perl() : WARNING, eval()'ing input string, are you sure you did check its content ?
dump2perl() : WARNING, this sub will be removed in future releases.
dump2perl() : WARNING, eval()'ing input string, are you sure you did check its content ?
dump2perl() : WARNING, this sub will be removed in future releases.
dump2perl() : WARNING, eval()'ing input string, are you sure you did check its content ?
dump2perl() : WARNING, this sub will be removed in future releases.
dump2perl() : WARNING, eval()'ing input string, are you sure you did check its content ?
dump2perl() : WARNING, this sub will be removed in future releases.
t/06-perl2dump-no-escape-unicode-permanently.t .. ok
dump2perl() : WARNING, eval()'ing input string, are you sure you did check its content ?
dump2perl() : WARNING, this sub will be removed in future releases.
dump2perl() : WARNING, eval()'ing input string, are you sure you did check its content ?
dump2perl() : WARNING, this sub will be removed in future releases.
dump2perl() : WARNING, eval()'ing input string, are you sure you did check its content ?
dump2perl() : WARNING, this sub will be removed in future releases.
dump2perl() : WARNING, eval()'ing input string, are you sure you did check its content ?
dump2perl() : WARNING, this sub will be removed in future releases.
t/07-perl2dump-escape-unicode-permanently.t ..... ok
t/10-scripts.t .................................. ok
t/11-scripts-pod.t .............................. ok
# temp dir: '/tmp/jrLdO24hFa' ...
t/12-from-file.t ................................ ok
t/13-yaml-tricky-cases.t ........................ ok
t/14-yaml-tainted-input.t ....................... ok
dump2perl() : WARNING, eval()'ing input string, are you sure you did check its content ?
dump2perl() : WARNING, this sub will be removed in future releases.
dump2perl() : WARNING, eval()'ing input string, are you sure you did check its content ?
dump2perl() : WARNING, this sub will be removed in future releases.
t/20-synopsis.t ................................. ok
t/manifest.t .................................... skipped: Author tests not required for installation
t/pod-coverage.t ................................ skipped: Author tests not required for installation
t/pod.t ......................................... skipped: Author tests not required for installation
All tests successful.
Files=17, Tests=412,  9 wallclock secs ( 0.12 usr  0.10 sys +  4.54 cusr  1.25 csys =  6.01 CPU)
Result: PASS

------------------------------
PREREQUISITES
------------------------------

Prerequisite modules loaded:

requires:

    Module                        Need   Have    
    ----------------------------- ------ --------
    Data::Dump                    0      1.25    
    Data::Dump::Filtered          0      0       
    Data::Dumper                  0      2.183   
    Encode                        3.0    3.21    
    JSON                          4.0    4.10    
    perl                          5.008  5.018002
    Unicode::Escape               v0.0.2 0.0.2   
    YAML::PP                      0      v0.38.0 

build_requires:

    Module                        Need   Have    
    ----------------------------- ------ --------
    Benchmark                     0      1.15    
    Data::Random::Structure       0      0.01    
    Data::Random::Structure::UTF8 0.06   0.06    
    ExtUtils::MakeMaker           0      7.70    
    File::Spec                    0      3.75    
    File::Temp                    0      0.2311  
    Test2::Plugin::UTF8           0      1.302201
    Test::More                    0      1.302201
    Test::Pod                     1.51   1.52    
    Test::Script                  1.28   1.29    
    Test::Taint                   0      1.08    
    YAML::PP                      0      v0.38.0 

configure_requires:

    Module                        Need   Have    
    ----------------------------- ------ --------
    ExtUtils::MakeMaker           0      7.70    


------------------------------
ENVIRONMENT AND OTHER CONTEXT
------------------------------

Environment variables:

    AUTOMATED_TESTING = 1
    LANG = en_US.UTF-8
    LANGUAGE = en_US:en
    PATH = /home/sand/bin:/usr/local/bin:/usr/bin:/bin:/usr/games:/usr/local/perl/bin:/usr/X11/bin:/sbin:/usr/sbin
    PERL5LIB = 
    PERL5OPT = 
    PERL5_CPANPLUS_IS_RUNNING = 2422245
    PERL5_CPAN_IS_RUNNING = 2422245
    PERL_CANARY_STABILITY_NOPROMPT = 1
    PERL_MM_USE_DEFAULT = 1
    PERL_USE_UNSAFE_INC = 1
    SHELL = /usr/bin/zsh
    TERM = screen

Perl special variables (and OS-specific diagnostics, for MSWin32):

    $^X = /home/sand/src/perl/repoperls/installed-perls/host/k93msid/v5.18.2/29fb/bin/perl
    $UID/$EUID = 1005 / 1005
    $GID = 1005 1005
    $EGID = 1005 1005

Perl module toolchain versions installed:

    Module              Have    
    ------------------- --------
    CPAN                2.36    
    CPAN::Meta          2.150010
    Cwd                 3.75    
    ExtUtils::CBuilder  0.280236
    ExtUtils::Command   7.70    
    ExtUtils::Install   2.06    
    ExtUtils::MakeMaker 7.70    
    ExtUtils::Manifest  1.75    
    ExtUtils::ParseXS   3.51    
    File::Spec          3.75    
    JSON                4.10    
    JSON::PP            4.16    
    Module::Build       0.4234  
    Module::Signature   0.88    
    Parse::CPAN::Meta   2.150010
    Test2               1.302201
    Test::Harness       3.50    
    Test::More          1.302201
    YAML                1.30    
    YAML::Syck          1.34    
    version             0.9930  


--

Summary of my perl5 (revision 5 version 18 subversion 2) configuration:
  Derived from: e2a4306ace4a19cb3a434e4eb9fedad6ff1248b4
  Platform:
    osname=linux, osvers=6.5.0-4-amd64, archname=x86_64-linux-thread-multi
    uname='linux k93msid 6.5.0-4-amd64 #1 smp preempt_dynamic debian 6.5.10-1 (2023-11-03) x86_64 gnulinux '
    config_args='-Dprefix=/home/sand/src/perl/repoperls/installed-perls/host/k93msid/v5.18.2/29fb -Dmyhostname=k93msid -Dinstallusrbinperl=n -Uversiononly -Dusedevel -des -Ui_db -Dlibswanted=cl pthread socket inet nsl gdbm dbm malloc dl ld sun m crypt sec util c cposix posix ucb BSD gdbm_compat -Duseithreads -Uuselongdouble -DEBUGGING=both'
    hint=recommended, useposix=true, d_sigaction=define
    useithreads=define, usemultiplicity=define
    useperlio=define, d_sfio=undef, uselargefiles=define, usesocks=undef
    use64bitint=define, use64bitall=define, uselongdouble=undef
    usemymalloc=n, bincompat5005=undef
  Compiler:
    cc='cc', ccflags ='-D_REENTRANT -D_GNU_SOURCE -fwrapv -DDEBUGGING -fno-strict-aliasing -pipe -fstack-protector -I/usr/local/include -D_LARGEFILE_SOURCE -D_FILE_OFFSET_BITS=64',
    optimize='-O2 -g',
    cppflags='-D_REENTRANT -D_GNU_SOURCE -fwrapv -DDEBUGGING -fno-strict-aliasing -pipe -fstack-protector -I/usr/local/include'
    ccversion='', gccversion='13.2.0', gccosandvers=''
    intsize=4, longsize=8, ptrsize=8, doublesize=8, byteorder=12345678
    d_longlong=define, longlongsize=8, d_longdbl=define, longdblsize=16
    ivtype='long', ivsize=8, nvtype='double', nvsize=8, Off_t='off_t', lseeksize=8
    alignbytes=8, prototype=define
  Linker and Libraries:
    ld='cc', ldflags =' -fstack-protector -L/usr/local/lib'
    libpth=/usr/local/lib /lib/x86_64-linux-gnu /lib/../lib /usr/lib/x86_64-linux-gnu /usr/lib/../lib /lib /usr/lib /lib64 /usr/lib64
    libs=-lpthread -lnsl -ldl -lm -lcrypt -lutil -lc
    perllibs=-lpthread -lnsl -ldl -lm -lcrypt -lutil -lc
    libc=/lib/x86_64-linux-gnu/libc.so.6, so=so, useshrplib=false, libperl=libperl.a
    gnulibc_version='2.37'
  Dynamic Linking:
    dlsrc=dl_dlopen.xs, dlext=so, d_dlsymun=undef, ccdlflags='-Wl,-E'
    cccdlflags='-fPIC', lddlflags='-shared -O2 -g -L/usr/local/lib -fstack-protector'


Characteristics of this binary (from libperl): 
  Compile-time options: DEBUGGING HAS_TIMES MULTIPLICITY PERLIO_LAYERS
                        PERL_DONT_CREATE_GVSV
                        PERL_HASH_FUNC_ONE_AT_A_TIME_HARD
                        PERL_IMPLICIT_CONTEXT PERL_MALLOC_WRAP
                        PERL_PRESERVE_IVUV PERL_SAWAMPERSAND
                        PERL_TRACK_MEMPOOL PERL_USE_DEVEL USE_64_BIT_ALL
                        USE_64_BIT_INT USE_ITHREADS USE_LARGE_FILES
                        USE_LOCALE USE_LOCALE_COLLATE USE_LOCALE_CTYPE
                        USE_LOCALE_NUMERIC USE_PERLIO USE_PERL_ATOF
                        USE_REENTRANT_API
  Locally applied patches:
	uncommitted-changes
  Built under linux
  Compiled at Nov 26 2023 19:49:17
  %ENV:
    PERL5LIB=""
    PERL5OPT=""
    PERL5_CPANPLUS_IS_RUNNING="2422245"
    PERL5_CPAN_IS_RUNNING="2422245"
    PERL_CANARY_STABILITY_NOPROMPT="1"
    PERL_MM_USE_DEFAULT="1"
    PERL_USE_UNSAFE_INC="1"
  @INC:
    /home/sand/src/perl/repoperls/installed-perls/host/k93msid/v5.18.2/29fb/lib/site_perl/5.18.2/x86_64-linux-thread-multi
    /home/sand/src/perl/repoperls/installed-perls/host/k93msid/v5.18.2/29fb/lib/site_perl/5.18.2
    /home/sand/src/perl/repoperls/installed-perls/host/k93msid/v5.18.2/29fb/lib/5.18.2/x86_64-linux-thread-multi
    /home/sand/src/perl/repoperls/installed-perls/host/k93msid/v5.18.2/29fb/lib/5.18.2
    .