Data-Session v1.18 Perl 5 v5.36.0 x86_64-linux-thread-multi

Status
Pass
From
Andreas J. König (ANDK)
Dist
Data-Session v1.18
Platform
Perl 5 v5.36.0 x86_64-linux-thread-multi
Date
2022-06-10 12:17:12
ID
42352c8c-e8b7-11ec-bd59-10f93b52c3a3
This distribution has been tested as part of the CPAN Testers
project, supporting the Perl programming language.  See
http://wiki.cpantesters.org/ for more information or email
questions to cpan-testers-discuss@perl.org


--
Dear Ron Savage,

This is a computer-generated report for Data-Session-1.18
on perl 5.36.0, created by CPAN-Reporter-1.2018.

Thank you for uploading your work to CPAN.  Congratulations!
All tests were successful.

Sections of this report:

    * Tester comments
    * Program output
    * Prerequisites
    * Environment and other context

------------------------------
TESTER COMMENTS
------------------------------

Additional comments from tester:

this report is from an automated smoke testing program
and was not reviewed by a human for accuracy

------------------------------
PROGRAM OUTPUT
------------------------------

Output from '/usr/bin/make test':

PERL_DL_NONLAZY=1 "/tmp/basesmoker-reloperl-IKow/bin/perl" "-MExtUtils::Command::MM" "-MTest::Harness" "-e" "undef *Test::Harness::Switches; test_harness(0, 'blib/lib', 'blib/arch')" t/*.t
# Testing Data::Session V 1.18
# Using autovivification V 0.18
# Using CGI V 4.54
# Using Class::Load V 0.25
# Using Config::Tiny V 2.28
# Using Data::Dumper V 2.184
# Using Data::UUID V 1.226
# Using DBD::SQLite V 1.70
# Using DBI V 1.643
# Using DBIx::Admin::CreateTable V 2.11
# Using Digest::MD5 V 2.58
# Using Digest::SHA V 6.02
# Using Fcntl V 1.15
# Using File::Basename V 2.85
# Using File::Path V 2.18
# Using File::Slurper V 0.013
# Using File::Spec V 3.84
# Using File::Temp V 0.2311
# Using FreezeThaw V 0.5001
# Using Hash::FieldHash V 0.15
# Using JSON V 4.06
# Using overload V 1.35
# Using parent V 0.238
# Using Safe V 2.43
# Using Scalar::Util V 1.62
# Using Storable V 3.26
# Using strict V 1.12
# Using Try::Tiny V 0.31
# Using vars V 1.05
# Using warnings V 1.58
# Using YAML::Tiny V 1.73
t/00.versions.t .. ok
# Test: File.1. DSN: dbi:File:. ID generator: AutoIncrement. Serializer: DataDumper
# id 1: 1002
# Test: File.1. DSN: dbi:File:. ID generator: AutoIncrement. Serializer: FreezeThaw
# id 1: 1008
# Test: File.1. DSN: dbi:File:. ID generator: AutoIncrement. Serializer: JSON
# id 1: 1014
# Test: File.1. DSN: dbi:File:. ID generator: AutoIncrement. Serializer: Storable
# id 1: 1020
# Test: File.1. DSN: dbi:File:. ID generator: AutoIncrement. Serializer: YAML
# id 1: 1026
# Test: File.1. DSN: dbi:File:. ID generator: MD5. Serializer: DataDumper
# id 1: b6ef30fe0e20a631e2735877c7b88ada
# Test: File.1. DSN: dbi:File:. ID generator: MD5. Serializer: FreezeThaw
# id 1: a22f15648fff12fabbc65b37a02e24a0
# Test: File.1. DSN: dbi:File:. ID generator: MD5. Serializer: JSON
# id 1: 27d336c32a08d1769e147532dfa87ae3
# Test: File.1. DSN: dbi:File:. ID generator: MD5. Serializer: Storable
# id 1: 9ab1168e0634032408ebb324fbf60a9c
# Test: File.1. DSN: dbi:File:. ID generator: MD5. Serializer: YAML
# id 1: 3c02cdbf0eca9152830e2fb1c057f51d
# Test: File.1. DSN: dbi:File:. ID generator: SHA1. Serializer: DataDumper
# id 1: 534944c20b4a8a949935ed273842efa24e36c06f
# Test: File.1. DSN: dbi:File:. ID generator: SHA1. Serializer: FreezeThaw
# id 1: b9a9089aca6faec96c65152626f7b91f98606021
# Test: File.1. DSN: dbi:File:. ID generator: SHA1. Serializer: JSON
# id 1: 50ae14570468b057401687934a5798ddc1528a5f
# Test: File.1. DSN: dbi:File:. ID generator: SHA1. Serializer: Storable
# id 1: 09cc77d16f5b68329f937e2e6e1ddd66c65a5638
# Test: File.1. DSN: dbi:File:. ID generator: SHA1. Serializer: YAML
# id 1: 8b46c9078b65e08cc052161111055a0ff779a5ce
# Test: File.1. DSN: dbi:File:. ID generator: SHA256. Serializer: DataDumper
# id 1: 4c1a4229e11100ad51e9fe8030e9651ba26351f5f450465bed7e1b9db874f113
# Test: File.1. DSN: dbi:File:. ID generator: SHA256. Serializer: FreezeThaw
# id 1: 7cbfc2e94721bcb3d598db8f738425435614f456cdf5a75222faa89dbe298ec5
# Test: File.1. DSN: dbi:File:. ID generator: SHA256. Serializer: JSON
# id 1: 664d1a249cc59db836a24a655e28584f6005e4deba86d3906216841b8f5fe0b8
# Test: File.1. DSN: dbi:File:. ID generator: SHA256. Serializer: Storable
# id 1: 10cb1957902be6e0f4f7bec70af6b3653e62ecd49a9edfbd9c9fc3781c27f84a
# Test: File.1. DSN: dbi:File:. ID generator: SHA256. Serializer: YAML
# id 1: e60f953a1b394b66b23660f365a6035d1e13331fbe674306bc643586fa548e74
# Test: File.1. DSN: dbi:File:. ID generator: SHA512. Serializer: DataDumper
# id 1: a4b5dac5de8c0e0d158f8f7597bb87d796224ec66c7788ab0c8b86ca280fd6c186bf50c21210e094ff1829d5ab9174002501d795bebb48199e8dad1c7348cacc
# Test: File.1. DSN: dbi:File:. ID generator: SHA512. Serializer: FreezeThaw
# id 1: 98a94b6cec6f9654cd3cfee91647882565e671aca07ab4b712a72697ba6e002b5237028667e547d04c762daee92f21842da05e8dd2f6c2c79c9ea4263031e408
# Test: File.1. DSN: dbi:File:. ID generator: SHA512. Serializer: JSON
# id 1: 283230001c3eeff1f005adcea8336cf911338bb84d2f0a2caed46536d022a03650e36ca1cb0981edebaec79deb8fe0099acb2b3d70076e6519d63edea73b2ca6
# Test: File.1. DSN: dbi:File:. ID generator: SHA512. Serializer: Storable
# id 1: 0189145577c8f2fde1c1a7bb801bffb3cf24a1c10c751de3946476fc184efb5204267781fc1c7a88ac46a253310316073fb1d1121f4bdf31d9b39994dbd8e6f5
# Test: File.1. DSN: dbi:File:. ID generator: SHA512. Serializer: YAML
# id 1: a2b4968ecb2956829bbedcfeb5328822a0e68bce6bc046490591e99247e1345a1b56d3dd81e3727e11992d8f91e4106af2060bb83928e6746f484429328c48d6
# Test: File.1. DSN: dbi:File:. ID generator: Static. Serializer: DataDumper
# id 1: 1234
# Test: File.1. DSN: dbi:File:. ID generator: Static. Serializer: FreezeThaw
# id 1: 1234
# Test: File.1. DSN: dbi:File:. ID generator: Static. Serializer: JSON
# id 1: 1234
# Test: File.1. DSN: dbi:File:. ID generator: Static. Serializer: Storable
# id 1: 1234
# Test: File.1. DSN: dbi:File:. ID generator: Static. Serializer: YAML
# id 1: 1234
# Test: File.1. DSN: dbi:File:. ID generator: UUID34. Serializer: DataDumper
# id 1: 0x28894C5AE8B711EC9033AB8F4D5177B7
# Test: File.1. DSN: dbi:File:. ID generator: UUID34. Serializer: FreezeThaw
# id 1: 0x288E82E2E8B711EC9033AB8F4D5177B7
# Test: File.1. DSN: dbi:File:. ID generator: UUID34. Serializer: JSON
# id 1: 0x289199AAE8B711EC9033AB8F4D5177B7
# Test: File.1. DSN: dbi:File:. ID generator: UUID34. Serializer: Storable
# id 1: 0x28951134E8B711EC9033AB8F4D5177B7
# Test: File.1. DSN: dbi:File:. ID generator: UUID34. Serializer: YAML
# id 1: 0x28985B64E8B711EC9033AB8F4D5177B7
# Test: File.1. DSN: dbi:File:. ID generator: UUID36. Serializer: DataDumper
# id 1: 289B6804-E8B7-11EC-9033-AB8F4D5177B7
# Test: File.1. DSN: dbi:File:. ID generator: UUID36. Serializer: FreezeThaw
# id 1: 289E60C2-E8B7-11EC-9033-AB8F4D5177B7
# Test: File.1. DSN: dbi:File:. ID generator: UUID36. Serializer: JSON
# id 1: 28A106C4-E8B7-11EC-9033-AB8F4D5177B7
# Test: File.1. DSN: dbi:File:. ID generator: UUID36. Serializer: Storable
# id 1: 28A48858-E8B7-11EC-9033-AB8F4D5177B7
# Test: File.1. DSN: dbi:File:. ID generator: UUID36. Serializer: YAML
# id 1: 28A9A716-E8B7-11EC-9033-AB8F4D5177B7
# Skipping dsn 'dbi:SQLite:dbname=/tmp/sessions.sqlite' because the SQLite directory does not exist
# 
# Testing HTTP header generation
# 
# Testing expire the session. Sleeping for 1 second ...
# Expiring id: 28AF11C4-E8B7-11EC-9033-AB8F4D5177B7
# 
# Testing expire a session parameter. Sleeping for 1 second ...
t/basic.t ........ ok
# DSN name: File.1. DSN: dbi:File:. ID generator: MD5. Serializer: DataDumper
# id1: f851286388da849ab2c6de45898221b7
# 1: Recovered known id 4b71057781e53d7a42dc31a44f9f6af4 from traverse
# 2: Recovered known id a760489e592fba2577df9457eaf99463 from traverse
# 3: Recovered known id 32c39ccbd830b04321dea299a6808e17 from traverse
# 4: Recovered known id a6a4a38e812c999befd33bc0723c8833 from traverse
# Skipping dsn 'dbi:SQLite:dbname=/tmp/sessions.sqlite' because the SQLite directory does not exist
t/traverse.t ..... ok
All tests successful.
Files=3, Tests=52,  8 wallclock secs ( 0.04 usr  0.16 sys +  0.99 cusr  0.27 csys =  1.46 CPU)
Result: PASS

------------------------------
PREREQUISITES
------------------------------

Prerequisite modules loaded:

requires:

    Module                   Need     Have    
    ------------------------ -------- --------
    autovivification         0        0.18    
    CGI                      3.63     4.54    
    Class::Load              0.19     0.25    
    Config::Tiny             2.14     2.28    
    Data::Dumper             2.145    2.184   
    Data::UUID               1.218    1.226   
    DBD::SQLite              1.39     1.70    
    DBI                      1.627    1.643   
    DBIx::Admin::CreateTable 2.07     2.11    
    Digest::MD5              2.52     2.58    
    Digest::SHA              5.84     6.02    
    Fcntl                    1.06     1.15    
    File::Basename           2.77     2.85    
    File::Path               2.07     2.18    
    File::Slurper            0.012    0.013   
    File::Spec               3.3      3.84    
    File::Temp               0.22     0.2311  
    FreezeThaw               0.5001   0.5001  
    Hash::FieldHash          0.14     0.15    
    JSON                     2.59     4.06    
    overload                 0        1.35    
    parent                   0        0.238   
    Safe                     2.35     2.43    
    Scalar::Util             1.27     1.62    
    Storable                 2.39     3.26    
    strict                   0        1.12    
    Try::Tiny                0.12     0.31    
    vars                     0        1.05    
    warnings                 0        1.58    
    YAML::Tiny               1.51     1.73    

build_requires:

    Module                   Need     Have    
    ------------------------ -------- --------
    ExtUtils::MakeMaker      0        7.64    
    Test::More               1.001014 1.302190
    Test::Pod                1.48     1.52    

configure_requires:

    Module                   Need     Have    
    ------------------------ -------- --------
    ExtUtils::MakeMaker      0        7.64    


------------------------------
ENVIRONMENT AND OTHER CONTEXT
------------------------------

Environment variables:

    AUTOMATED_TESTING = 1
    LANG = en_US.UTF-8
    LC_ADDRESS = de_DE.UTF-8
    LC_IDENTIFICATION = de_DE.UTF-8
    LC_MEASUREMENT = de_DE.UTF-8
    LC_MONETARY = de_DE.UTF-8
    LC_NAME = de_DE.UTF-8
    LC_NUMERIC = de_DE.UTF-8
    LC_PAPER = de_DE.UTF-8
    LC_TELEPHONE = de_DE.UTF-8
    LC_TIME = de_DE.UTF-8
    PATH = /home/sand/bin:/usr/local/bin:/usr/local/sbin:/usr/sbin:/usr/bin:/sbin:/bin:/usr/games:/usr/local/games:/snap/bin:/usr/local/perl/bin:/usr/X11/bin
    PERL = /tmp/basesmoker-reloperl-IKow/bin/perl
    PERL5LIB = /tmp/loop_over_bdir-226700-yecXbJ/Dpkg-1.21.8-0/blib/arch:/tmp/loop_over_bdir-226700-yecXbJ/Dpkg-1.21.8-0/blib/lib:/tmp/loop_over_bdir-226700-yecXbJ/perl-Hardware-UPS-Perl-0.43-0/blib/arch:/tmp/loop_over_bdir-226700-yecXbJ/perl-Hardware-UPS-Perl-0.43-0/blib/lib:/tmp/loop_over_bdir-226700-yecXbJ/ProjectBuilder-0.14.1-0/blib/arch:/tmp/loop_over_bdir-226700-yecXbJ/ProjectBuilder-0.14.1-0/blib/lib:/tmp/loop_over_bdir-226700-yecXbJ/mmds-1.902-0/blib/arch:/tmp/loop_over_bdir-226700-yecXbJ/mmds-1.902-0/blib/lib:/tmp/loop_over_bdir-226700-yecXbJ/Serge-1.4-0/blib/arch:/tmp/loop_over_bdir-226700-yecXbJ/Serge-1.4-0/blib/lib:/tmp/loop_over_bdir-226700-yecXbJ/Net-OpenVPN-DDNS-0.1-0/blib/arch:/tmp/loop_over_bdir-226700-yecXbJ/Net-OpenVPN-DDNS-0.1-0/blib/lib
    PERL5OPT = 
    PERL5_CPANPLUS_IS_RUNNING = 226708
    PERL5_CPAN_IS_RUNNING = 226708
    PERL_CANARY_STABILITY_NOPROMPT = 1
    PERL_MM_USE_DEFAULT = 1
    PERL_USE_UNSAFE_INC = 1
    SHELL = /usr/bin/zsh
    TERM = screen

Perl special variables (and OS-specific diagnostics, for MSWin32):

    $^X = /tmp/basesmoker-reloperl-IKow/bin/perl
    $UID/$EUID = 1005 / 1005
    $GID = 1005 1005
    $EGID = 1005 1005

Perl module toolchain versions installed:

    Module              Have    
    ------------------- --------
    CPAN                2.34    
    CPAN::Meta          2.150010
    Cwd                 3.84    
    ExtUtils::CBuilder  0.280236
    ExtUtils::Command   7.64    
    ExtUtils::Install   2.20    
    ExtUtils::MakeMaker 7.64    
    ExtUtils::Manifest  1.73    
    ExtUtils::ParseXS   3.45    
    File::Spec          3.84    
    JSON                4.06    
    JSON::PP            4.09    
    Module::Build       0.4231  
    Module::Signature   0.88    
    Parse::CPAN::Meta   2.150010
    Test::Harness       3.44    
    Test::More          1.302190
    YAML                1.30    
    YAML::Syck          1.34    
    version             0.9929  


--

Summary of my perl5 (revision 5 version 36 subversion 0) configuration:
  Commit id: b3c502b607191da0e743a4fa34501a05442305b3
  Platform:
    osname=linux
    osvers=5.15.0-35-generic
    archname=x86_64-linux-thread-multi
    uname='linux k93jammy 5.15.0-35-generic #36-ubuntu smp sat may 21 02:24:07 utc 2022 x86_64 x86_64 x86_64 gnulinux '
    config_args='-Dprefix=/home/sand/src/perl/repoperls/installed-perls/host/k93jammy/v5.36.0/b4f3 -Dmyhostname=k93jammy -Dinstallusrbinperl=n -Uversiononly -Dusedevel -des -Ui_db -Dlibswanted=cl pthread socket inet nsl gdbm dbm malloc dl ld sun m crypt sec util c cposix posix ucb BSD gdbm_compat -Duseithreads -Uuselongdouble -DEBUGGING=-g'
    hint=recommended
    useposix=true
    d_sigaction=define
    useithreads=define
    usemultiplicity=define
    use64bitint=define
    use64bitall=define
    uselongdouble=undef
    usemymalloc=n
    default_inc_excludes_dot=define
  Compiler:
    cc='cc'
    ccflags ='-D_REENTRANT -D_GNU_SOURCE -fwrapv -fno-strict-aliasing -pipe -fstack-protector-strong -I/usr/local/include -D_LARGEFILE_SOURCE -D_FILE_OFFSET_BITS=64'
    optimize='-O2 -g'
    cppflags='-D_REENTRANT -D_GNU_SOURCE -fwrapv -fno-strict-aliasing -pipe -fstack-protector-strong -I/usr/local/include'
    ccversion=''
    gccversion='11.2.0'
    gccosandvers=''
    intsize=4
    longsize=8
    ptrsize=8
    doublesize=8
    byteorder=12345678
    doublekind=3
    d_longlong=define
    longlongsize=8
    d_longdbl=define
    longdblsize=16
    longdblkind=3
    ivtype='long'
    ivsize=8
    nvtype='double'
    nvsize=8
    Off_t='off_t'
    lseeksize=8
    alignbytes=8
    prototype=define
  Linker and Libraries:
    ld='cc'
    ldflags =' -fstack-protector-strong -L/usr/local/lib'
    libpth=/usr/local/lib /usr/lib/x86_64-linux-gnu /usr/lib /usr/lib64
    libs=-lpthread -lnsl -ldl -lm -lcrypt -lutil -lc
    perllibs=-lpthread -lnsl -ldl -lm -lcrypt -lutil -lc
    libc=/lib/x86_64-linux-gnu/libc.so.6
    so=so
    useshrplib=false
    libperl=libperl.a
    gnulibc_version='2.35'
  Dynamic Linking:
    dlsrc=dl_dlopen.xs
    dlext=so
    d_dlsymun=undef
    ccdlflags='-Wl,-E'
    cccdlflags='-fPIC'
    lddlflags='-shared -O2 -g -L/usr/local/lib -fstack-protector-strong'


Characteristics of this binary (from libperl): 
  Compile-time options:
    HAS_TIMES
    MULTIPLICITY
    PERLIO_LAYERS
    PERL_COPY_ON_WRITE
    PERL_DONT_CREATE_GVSV
    PERL_MALLOC_WRAP
    PERL_OP_PARENT
    PERL_PRESERVE_IVUV
    PERL_USE_DEVEL
    USE_64_BIT_ALL
    USE_64_BIT_INT
    USE_ITHREADS
    USE_LARGE_FILES
    USE_LOCALE
    USE_LOCALE_COLLATE
    USE_LOCALE_CTYPE
    USE_LOCALE_NUMERIC
    USE_LOCALE_TIME
    USE_PERLIO
    USE_PERL_ATOF
    USE_REENTRANT_API
    USE_THREAD_SAFE_LOCALE
  Built under linux
  Compiled at Jun  8 2022 05:53:36
  %ENV:
    PERL="/tmp/basesmoker-reloperl-IKow/bin/perl"
    PERL5LIB="/tmp/loop_over_bdir-226700-yecXbJ/Dpkg-1.21.8-0/blib/arch:/tmp/loop_over_bdir-226700-yecXbJ/Dpkg-1.21.8-0/blib/lib:/tmp/loop_over_bdir-226700-yecXbJ/perl-Hardware-UPS-Perl-0.43-0/blib/arch:/tmp/loop_over_bdir-226700-yecXbJ/perl-Hardware-UPS-Perl-0.43-0/blib/lib:/tmp/loop_over_bdir-226700-yecXbJ/ProjectBuilder-0.14.1-0/blib/arch:/tmp/loop_over_bdir-226700-yecXbJ/ProjectBuilder-0.14.1-0/blib/lib:/tmp/loop_over_bdir-226700-yecXbJ/mmds-1.902-0/blib/arch:/tmp/loop_over_bdir-226700-yecXbJ/mmds-1.902-0/blib/lib:/tmp/loop_over_bdir-226700-yecXbJ/Serge-1.4-0/blib/arch:/tmp/loop_over_bdir-226700-yecXbJ/Serge-1.4-0/blib/lib:/tmp/loop_over_bdir-226700-yecXbJ/Net-OpenVPN-DDNS-0.1-0/blib/arch:/tmp/loop_over_bdir-226700-yecXbJ/Net-OpenVPN-DDNS-0.1-0/blib/lib"
    PERL5OPT=""
    PERL5_CPANPLUS_IS_RUNNING="226708"
    PERL5_CPAN_IS_RUNNING="226708"
    PERL_CANARY_STABILITY_NOPROMPT="1"
    PERL_MM_USE_DEFAULT="1"
    PERL_USE_UNSAFE_INC="1"
  @INC:
    /tmp/loop_over_bdir-226700-yecXbJ/Dpkg-1.21.8-0/blib/arch
    /tmp/loop_over_bdir-226700-yecXbJ/Dpkg-1.21.8-0/blib/lib
    /tmp/loop_over_bdir-226700-yecXbJ/perl-Hardware-UPS-Perl-0.43-0/blib/arch
    /tmp/loop_over_bdir-226700-yecXbJ/perl-Hardware-UPS-Perl-0.43-0/blib/lib
    /tmp/loop_over_bdir-226700-yecXbJ/ProjectBuilder-0.14.1-0/blib/arch
    /tmp/loop_over_bdir-226700-yecXbJ/ProjectBuilder-0.14.1-0/blib/lib
    /tmp/loop_over_bdir-226700-yecXbJ/mmds-1.902-0/blib/arch
    /tmp/loop_over_bdir-226700-yecXbJ/mmds-1.902-0/blib/lib
    /tmp/loop_over_bdir-226700-yecXbJ/Serge-1.4-0/blib/arch
    /tmp/loop_over_bdir-226700-yecXbJ/Serge-1.4-0/blib/lib
    /tmp/loop_over_bdir-226700-yecXbJ/Net-OpenVPN-DDNS-0.1-0/blib/arch
    /tmp/loop_over_bdir-226700-yecXbJ/Net-OpenVPN-DDNS-0.1-0/blib/lib
    /home/sand/src/perl/repoperls/installed-perls/host/k93jammy/v5.36.0/b4f3/lib/site_perl/5.36.0/x86_64-linux-thread-multi
    /home/sand/src/perl/repoperls/installed-perls/host/k93jammy/v5.36.0/b4f3/lib/site_perl/5.36.0
    /home/sand/src/perl/repoperls/installed-perls/host/k93jammy/v5.36.0/b4f3/lib/5.36.0/x86_64-linux-thread-multi
    /home/sand/src/perl/repoperls/installed-perls/host/k93jammy/v5.36.0/b4f3/lib/5.36.0
    .