HTML-FormFu v2.07 Perl 5 v5.36.3 x86_64-linux

Status
Pass
From
Slaven Rezić
Dist
HTML-FormFu v2.07
Platform
Perl 5 v5.36.3 x86_64-linux
Date
2023-12-31 18:41:50
ID
426e4b50-a80c-11ee-be6f-b3e46d8775ea
This distribution has been tested as part of the CPAN Testers
project, supporting the Perl programming language.  See
http://wiki.cpantesters.org/ for more information or email
questions to cpan-testers-discuss@perl.org


--
Dear Carl Franks,

This is a computer-generated report for HTML-FormFu-2.07
on perl 5.36.3, created by CPAN-Reporter-1.2019.

Thank you for uploading your work to CPAN.  Congratulations!
All tests were successful.

Sections of this report:

    * Tester comments
    * Program output
    * Prerequisites
    * Environment and other context

------------------------------
TESTER COMMENTS
------------------------------

Additional comments from tester:

none provided

------------------------------
PROGRAM OUTPUT
------------------------------

Output from '/usr/bin/make test':

Skip blib/lib/auto/share/dist/HTML-FormFu/templates/tt/xhtml/field_layout_label_field (unchanged)
Skip blib/lib/auto/share/dist/HTML-FormFu/templates/tt/xhtml/field_layout_textarea_field (unchanged)
Skip blib/lib/auto/share/dist/HTML-FormFu/templates/tt/xhtml/block (unchanged)
Skip blib/lib/auto/share/dist/HTML-FormFu/templates/tt/xhtml/end_block (unchanged)
Skip blib/lib/auto/share/dist/HTML-FormFu/templates/tt/xhtml/field_layout_label (unchanged)
Skip blib/lib/auto/share/dist/HTML-FormFu/templates/tt/xhtml/field_layout_errors (unchanged)
Skip blib/lib/auto/share/dist/HTML-FormFu/templates/tt/xhtml/field_layout_multi_field (unchanged)
Skip blib/lib/auto/share/dist/HTML-FormFu/templates/tt/xhtml/end_form (unchanged)
Skip blib/lib/auto/share/dist/HTML-FormFu/templates/tt/xhtml/field_layout_javascript (unchanged)
Skip blib/lib/auto/share/dist/HTML-FormFu/templates/tt/xhtml/field_layout_block (unchanged)
Skip blib/lib/auto/share/dist/HTML-FormFu/templates/tt/xhtml/field_layout_select_field (unchanged)
Skip blib/lib/auto/share/dist/HTML-FormFu/templates/tt/xhtml/form (unchanged)
Skip blib/lib/auto/share/dist/HTML-FormFu/templates/tt/xhtml/field_layout (unchanged)
Skip blib/lib/auto/share/dist/HTML-FormFu/templates/tt/xhtml/field_layout_comment (unchanged)
Skip blib/lib/auto/share/dist/HTML-FormFu/templates/tt/xhtml/field_layout_checkboxgroup_field (unchanged)
Skip blib/lib/auto/share/dist/HTML-FormFu/templates/tt/xhtml/field_layout_label_text (unchanged)
Skip blib/lib/auto/share/dist/HTML-FormFu/templates/tt/xhtml/non_block (unchanged)
Skip blib/lib/auto/share/dist/HTML-FormFu/templates/tt/xhtml/field_layout_field (unchanged)
Skip blib/lib/auto/share/dist/HTML-FormFu/templates/tt/xhtml/field_layout_parser (unchanged)
Skip blib/lib/auto/share/dist/HTML-FormFu/templates/tt/xhtml/field (unchanged)
Skip blib/lib/auto/share/dist/HTML-FormFu/templates/tt/xhtml/field_layout_contentbutton_field (unchanged)
Skip blib/lib/auto/share/dist/HTML-FormFu/templates/tt/xhtml/start_block (unchanged)
Skip blib/lib/auto/share/dist/HTML-FormFu/templates/tt/xhtml/start_form (unchanged)
Skip blib/lib/auto/share/dist/HTML-FormFu/templates/tt/xhtml/repeatable (unchanged)
Skip blib/lib/auto/share/dist/HTML-FormFu/templates/tt/xhtml/recaptcha (unchanged)
PERL_DL_NONLAZY=1 "/opt/perl-5.36.3/bin/perl" "-MExtUtils::Command::MM" "-MTest::Harness" "-e" "undef *Test::Harness::Switches; test_harness(0, 'blib/lib', 'blib/arch')" t/*.t t/bugs/*.t t/constraints/*.t t/deflators/*.t t/elements/*.t t/examples/*.t t/filters/*.t t/force_errors/*.t t/form/*.t t/i18n/*.t t/inflators/*.t t/internals/*.t t/load_config/*.t t/model/*.t t/nested/*.t t/nested/constraints/*.t t/nested/elements/*.t t/nested/filters/*.t t/nested/form/*.t t/nested/inflators/*.t t/nested/internals/*.t t/nested/transformers/*.t t/nested/validators/*.t t/output_processors/*.t t/plugins/*.t t/repeatable/*.t t/repeatable/constraints/*.t t/repeatable/repeatable/constraints/*.t t/roles/*.t t/transformers/*.t t/utils/*.t t/validators/*.t
# 
# Versions for all modules listed in MYMETA.json (including optional ones):
# 
# === Configure Requires ===
# 
#     Module                  Want Have
#     ----------------------- ---- ----
#     ExtUtils::MakeMaker      any 7.64
#     File::ShareDir::Install 0.06 0.14
# 
# === Build Requires ===
# 
#     Module              Want Have
#     ------------------- ---- ----
#     ExtUtils::MakeMaker  any 7.64
# 
# === Test Requires ===
# 
#     Module                 Want     Have
#     ---------------------- ---- --------
#     CGI                    3.37     4.60
#     ExtUtils::MakeMaker     any     7.64
#     File::Spec              any     3.84
#     POSIX                   any     2.03
#     Regexp::Assemble        any     0.38
#     Test::Exception         any     0.43
#     Test::Memory::Cycle     any     1.06
#     Test::More             0.92 1.302198
#     Test::RequiresInternet  any     0.05
# 
# === Test Recommends ===
# 
#     Module         Want     Have
#     ---------- -------- --------
#     CPAN::Meta 2.120900 2.150010
# 
# === Runtime Requires ===
# 
#     Module                       Want       Have
#     -------------------------- ------ ----------
#     Carp                          any       1.52
#     Class::MOP::Method            any     2.2206
#     Clone                        0.31       0.46
#     Config::Any                  0.18       0.33
#     Cwd                           any       3.84
#     Data::Visitor                0.26       0.32
#     Data::Visitor::Callback       any       0.32
#     DateTime                     0.54       1.65
#     DateTime::Format::Builder  0.7901       0.83
#     DateTime::Format::Natural     any       1.18
#     DateTime::Format::Strptime 1.2000       1.79
#     DateTime::Locale             0.45       1.40
#     Email::Valid                  any      1.203
#     Encode                        any       3.17
#     Exporter                     5.57       5.77
#     Fatal                         any       2.37
#     File::Copy                    any       2.39
#     File::Find                    any       1.40
#     File::ShareDir                any      1.118
#     File::Spec                    any       3.84
#     File::Temp                    any     0.2311
#     HTML::Scrubber                any       0.19
#     HTML::TokeParser::Simple     3.14       3.16
#     HTTP::Headers                1.64       6.45
#     Hash::Flatten                 any       1.19
#     IO::File                      any       1.55
#     JSON::MaybeXS                 any   1.004005
#     List::MoreUtils               any      0.430
#     List::Util                   1.45       1.63
#     Locale::Maketext              any       1.33
#     Module::Pluggable             any        5.2
#     Moose                        1.00     2.2206
#     Moose::Role                   any     2.2206
#     Moose::Util                   any     2.2206
#     MooseX::Aliases               any       0.11
#     MooseX::Attribute::Chained v1.0.2      1.0.3
#     Number::Format                any       1.76
#     Path::Class::File             any       0.37
#     Readonly                      any       2.05
#     Regexp::Common                any 2017060201
#     Scalar::Util                  any       1.63
#     Storable                      any       3.26
#     Task::Weaken                  any       1.06
#     YAML::XS                     0.32       0.88
# 
t/00-report-prereqs.t .......................................... ok
t/01use.t ...................................................... ok
t/04basic.t .................................................... ok
t/05_repeated_render.t ......................................... ok
t/block_insert_after.t ......................................... ok
t/block_insert_before.t ........................................ ok
t/bugs/constructor_arg_overwrites_default.t .................... ok
t/bugs/date_element_deflator.t ................................. ok
t/bugs/date_element_empty_input.t .............................. ok
t/bugs/datetime_hour_lt_10.t ................................... ok
t/bugs/element_class.t ......................................... ok
t/bugs/element_parent.t ........................................ ok
t/bugs/empty_block_with_nested_name.t .......................... ok
t/bugs/error_msg.t ............................................. ok
t/bugs/error_multiple_fields_same_name.t ....................... ok
t/bugs/field_no_name.t ......................................... ok
t/bugs/filter_run_once.t ....................................... ok
t/bugs/multiple_checkbox_same_name.t ........................... ok
t/bugs/name_regex_chars.t ...................................... ok
t/bugs/not_nested.t ............................................ ok
t/bugs/populate_element_coderef.t .............................. ok
t/bugs/pre_1_00_compat.t ....................................... ok
t/bugs/render_processed_value_retain_default.t ................. ok
t/bugs/repeatable_increase_rep.t ............................... ok
t/bugs/result_params_multiple.t ................................ ok
t/bugs/select_empty_options.t .................................. ok
t/bugs/submit_no_value.t ....................................... ok
t/bugs/submit_retain_default.t ................................. ok
t/bugs/value_empty_string.t .................................... ok
t/bugs/value_no_default.t ...................................... ok
t/bugs/yaml_utf8.t ............................................. ok
t/constraints/allornone.t ...................................... ok
t/constraints/allornone_attach_errors_to_base.t ................ ok
t/constraints/allornone_attach_errors_to_others.t .............. ok
t/constraints/ascii.t .......................................... ok
t/constraints/autoset.t ........................................ ok
t/constraints/autoset_group.t .................................. ok
t/constraints/bool.t ........................................... ok
t/constraints/callback.t ....................................... ok
t/constraints/callbackonce.t ................................... ok
t/constraints/constraint.t ..................................... ok
t/constraints/constraint_other_siblings.t ...................... ok
t/constraints/constraint_other_siblings_not.t .................. ok
t/constraints/constraint_when.t ................................ ok
t/constraints/constraint_when_any_field.t ...................... ok
t/constraints/constraint_when_any_true_value.t ................. ok
t/constraints/constraint_when_default_empty_value.t ............ ok
t/constraints/constraint_when_fields.t ......................... ok
t/constraints/datetime_parser.t ................................ ok
t/constraints/dependon.t ....................................... ok
t/constraints/dependon_attach_errors_to_base.t ................. ok
t/constraints/dependon_attach_errors_to_others.t ............... ok
t/constraints/email-mx.t ....................................... ok
t/constraints/email.t .......................................... ok
t/constraints/equal.t .......................................... ok
t/constraints/equal_internals.t ................................ ok
t/constraints/equal_not.t ...................................... ok
t/constraints/file.t ........................................... ok
t/constraints/file_maxsize.t ................................... ok
t/constraints/file_mime.t ...................................... ok
t/constraints/file_minsize.t ................................... ok
t/constraints/file_size.t ...................................... ok
t/constraints/integer.t ........................................ ok
t/constraints/json.t ........................................... ok
t/constraints/length.t ......................................... ok
t/constraints/localize.t ....................................... ok
t/constraints/maxlength.t ...................................... ok
t/constraints/maxrange.t ....................................... ok
t/constraints/minlength.t ...................................... ok
t/constraints/minmaxfields.t ................................... ok
t/constraints/minmaxfields_with_filter_split.t ................. ok
t/constraints/minrange.t ....................................... ok
t/constraints/not_equal.t ...................................... ok
t/constraints/not_word.t ....................................... ok
t/constraints/number.t ......................................... ok
t/constraints/printable.t ...................................... ok
t/constraints/range.t .......................................... ok
t/constraints/regex.t .......................................... ok
t/constraints/regex_anchored.t ................................. ok
t/constraints/regex_common.t ................................... ok
t/constraints/repeatable_any.t ................................. ok
t/constraints/repeatable_any_not_increment_field_names.t ....... ok
t/constraints/required.t ....................................... ok
t/constraints/required_file.t .................................. ok
t/constraints/required_only_on_reps.t .......................... ok
t/constraints/set.t ............................................ ok
t/constraints/singlevalue.t .................................... ok
t/constraints/word.t ........................................... ok
t/constraints/xml.t ............................................ ok
t/deflators/callback.t ......................................... ok
t/deflators/compounddatetime.t ................................. ok
t/deflators/compounddatetime_field_order.t ..................... ok
t/deflators/compoundsplit.t .................................... ok
t/deflators/compoundsplit_after_submit.t ....................... ok
t/deflators/compoundsplit_field_order.t ........................ ok
t/deflators/compoundsplit_split.t .............................. ok
t/deflators/formatnumber.t ..................................... ok
t/deflators/pathclassfile.t .................................... ok
t/elements-file_post.t ......................................... ok
t/elements/blank.t ............................................. ok
t/elements/block.t ............................................. ok
t/elements/block_auto_block_id.t ............................... ok
t/elements/block_repeatable.t .................................. ok
t/elements/block_repeatable_attrs.t ............................ ok
t/elements/block_repeatable_auto_block_id.t .................... ok
t/elements/block_repeatable_auto_id.t .......................... ok
t/elements/block_repeatable_date.t ............................. ok
t/elements/block_repeatable_inc.t .............................. ok
t/elements/block_repeatable_multi.t ............................ ok
t/elements/block_repeatable_tag.t .............................. ok
t/elements/button.t ............................................ ok
t/elements/button_no_name.t .................................... ok
t/elements/checkbox.t .......................................... ok
t/elements/checkbox_force_default.t ............................ ok
t/elements/checkbox_retain_default.t ........................... ok
t/elements/checkbox_reverse.t .................................. ok
t/elements/checkboxgroup.t ..................................... ok
t/elements/checkboxgroup_attributes_escaped.t .................. ok
t/elements/combobox.t .......................................... ok
t/elements/combobox_repeatable.t ............................... ok
t/elements/combobox_required.t ................................. ok
t/elements/content_button.t .................................... ok
t/elements/date.t .............................................. ok
t/elements/date_default.t ...................................... ok
t/elements/date_default_datetime_args.t ........................ ok
t/elements/date_default_empty.t ................................ ok
t/elements/date_month_year.t ................................... ok
t/elements/date_natural.t ...................................... ok
t/elements/date_order.t ........................................ ok
t/elements/date_order_error.t .................................. ok
t/elements/date_rename.t ....................................... ok
t/elements/date_undef.t ........................................ ok
t/elements/date_year_reverse.t ................................. ok
t/elements/datetime.t .......................................... ok
t/elements/datetime_interval.t ................................. ok
t/elements/datetime_seconds.t .................................. ok
t/elements/element_setup.t ..................................... ok
t/elements/email.t ............................................. ok
t/elements/error_attributes_failing_test.t ..................... ok
t/elements/escaping.t .......................................... ok
t/elements/field_default_empty_value.t ......................... ok
t/elements/field_non_param.t ................................... ok
t/elements/fieldset.t .......................................... ok
t/elements/fieldset_legend_attrs.t ............................. ok
t/elements/file.t .............................................. ok
t/elements/file_post_cgi_simple.t .............................. ok
t/elements/hidden.t ............................................ ok
t/elements/hr.t ................................................ ok
t/elements/image.t ............................................. ok
t/elements/label.t ............................................. ok
t/elements/label_value_submission.t ............................ ok
t/elements/multi.t ............................................. ok
t/elements/multi_errors.t ...................................... ok
t/elements/multiple_submit_buttons.t ........................... ok
t/elements/no_block_tag.t ...................................... ok
t/elements/no_container_tag.t .................................. ok
t/elements/number.t ............................................ ok
t/elements/object.t ............................................ ok
t/elements/password.t .......................................... ok
t/elements/password_render_value.t ............................. ok
t/elements/password_retain_default.t ........................... ok
t/elements/radio.t ............................................. ok
t/elements/radio_force_default.t ............................... ok
t/elements/radio_retain_default.t .............................. ok
t/elements/radiogroup.t ........................................ ok
t/elements/radiogroup_attributes_escaped.t ..................... ok
t/elements/radiogroup_attrs_xml.t .............................. ok
t/elements/radiogroup_dup_opt.t ................................ ok
t/elements/radiogroup_errors.t ................................. ok
t/elements/radiogroup_force_default.t .......................... ok
t/elements/radiogroup_id.t ..................................... ok
t/elements/radiogroup_id_value.t ............................... ok
t/elements/radiogroup_retain_default.t ......................... ok
t/elements/radiogroup_subgroup.t ............................... ok
t/elements/radiogroup_unknown_opt.t ............................ ok
t/elements/radiogroup_xml.t .................................... ok
t/elements/render_method.t ..................................... ok
t/elements/repeatable_counter_name.t ........................... ok
t/elements/repeatable_repeatable.t ............................. ok
t/elements/reset.t ............................................. ok
t/elements/reverse.t ........................................... ok
t/elements/select.t ............................................ ok
t/elements/select_attributes_escaped.t ......................... ok
t/elements/select_deflator_default.t ........................... ok
t/elements/select_empty_first.t ................................ ok
t/elements/select_empty_first_label.t .......................... ok
t/elements/select_force_default.t .............................. ok
t/elements/select_label_loc.t .................................. ok
t/elements/select_multi_default_values.t ....................... ok
t/elements/select_multi_value.t ................................ ok
t/elements/select_optgroup.t ................................... ok
t/elements/select_options.t .................................... ok
t/elements/select_retain_default.t ............................. ok
t/elements/select_same_name.t .................................. ok
t/elements/select_value_range.t ................................ ok
t/elements/simple_table.t ...................................... ok
t/elements/simple_table_class.t ................................ ok
t/elements/simple_table_multiple.t ............................. ok
t/elements/src.t ............................................... ok
t/elements/submit.t ............................................ ok
t/elements/text.t .............................................. ok
t/elements/text_attributes.t ................................... ok
t/elements/text_auto_comment_class.t ........................... ok
t/elements/text_auto_container_class.t ......................... ok
t/elements/text_auto_container_comment_class.t ................. ok
t/elements/text_auto_container_error_class.t ................... ok
t/elements/text_auto_container_label_class.t ................... ok
t/elements/text_auto_label_class.t ............................. ok
t/elements/text_datalist_options.t ............................. ok
t/elements/text_datalist_values.t .............................. ok
t/elements/text_errors.t ....................................... ok
t/elements/text_force_default.t ................................ ok
t/elements/text_layout.t ....................................... ok
t/elements/text_retain_default.t ............................... ok
t/elements/text_title.t ........................................ ok
t/elements/textarea.t .......................................... ok
t/elements/url.t ............................................... ok
t/examples/custom_label.t ...................................... ok
t/examples/custom_label2.t ..................................... ok
t/examples/field_as.t .......................................... ok
t/examples/fields_as_list_items.t .............................. ok
t/field_accessor_loc.t ......................................... ok
t/field_accessor_loc_arrayref.t ................................ ok
t/field_change_name.t .......................................... ok
t/field_id.t ................................................... ok
t/filters/all_by_default.t ..................................... ok
t/filters/callback.t ........................................... ok
t/filters/compoundjoin.t ....................................... ok
t/filters/compoundjoin_field_order.t ........................... ok
t/filters/compoundjoin_join.t .................................. ok
t/filters/compoundsprintf.t .................................... ok
t/filters/compoundsprintf_field_order.t ........................ ok
t/filters/copyvalue.t .......................................... ok
t/filters/encode.t ............................................. ok
t/filters/filter.t ............................................. ok
t/filters/formatnumber.t ....................................... ok
t/filters/htmlescape.t ......................................... ok
t/filters/htmlscrubber.t ....................................... ok
t/filters/lowercase.t .......................................... ok
t/filters/nonnumeric.t ......................................... ok
t/filters/regex.t .............................................. ok
t/filters/regex_eval.t ......................................... ok
t/filters/split.t .............................................. ok
t/filters/trimedges.t .......................................... ok
t/filters/uppercase.t .......................................... ok
t/filters/whitespace.t ......................................... ok
t/force_errors/allornone.t ..................................... ok
t/force_errors/callbackonce.t .................................. ok
t/force_errors/dependon.t ...................................... ok
t/force_errors/equal.t ......................................... ok
t/force_errors/force_errors.t .................................. ok
t/force_errors/integer.t ....................................... ok
t/force_errors/minmaxfields.t .................................. ok
t/form/add_render_class_args.t ................................. ok
t/form/add_valid.t ............................................. ok
t/form/add_valid_unknown.t ..................................... ok
t/form/attributes.t ............................................ ok
t/form/auto_constraint_class.t ................................. ok
t/form/auto_error_class.t ...................................... ok
t/form/auto_error_field_class.t ................................ ok
t/form/auto_error_message.t .................................... ok
t/form/auto_fieldset.t ......................................... ok
t/form/auto_label.t ............................................ ok
t/form/clone.t ................................................. ok
t/form/config_callback.t ....................................... ok
t/form/constraints_from_dbic.t ................................. ok
t/form/constraints_from_dbic_rs.t .............................. ok
t/form/default_args.t .......................................... ok
t/form/default_args_alt.t ...................................... ok
t/form/default_args_isa.t ...................................... ok
t/form/default_args_not_inheriting.t ........................... ok
t/form/default_values.t ........................................ ok
t/form/end.t ................................................... ok
t/form/error_message.t ......................................... ok
t/form/force_error_message.t ................................... ok
t/form/form_error_message_class.t .............................. ok
t/form/get_all_elements.t ...................................... ok
t/form/get_constraint.t ........................................ ok
t/form/get_constraints.t ....................................... ok
t/form/get_deflator.t .......................................... ok
t/form/get_deflators.t ......................................... ok
t/form/get_element.t ........................................... ok
t/form/get_elements.t .......................................... ok
t/form/get_errors.t ............................................ ok
t/form/get_field.t ............................................. ok
t/form/get_fields.t ............................................ ok
t/form/get_filter.t ............................................ ok
t/form/get_filters.t ........................................... ok
t/form/get_inflator.t .......................................... ok
t/form/get_inflators.t ......................................... ok
t/form/get_parent.t ............................................ ok
t/form/has_errors.t ............................................ ok
t/form/hidden_fields.t ......................................... ok
t/form/init_arg.t .............................................. ok
t/form/insert_after.t .......................................... ok
t/form/insert_before.t ......................................... ok
t/form/javascript.t ............................................ ok
t/form/javascript_src.t ........................................ ok
t/form/languages.t ............................................. ok
t/form/model.t ................................................. ok
t/form/multiple_same_named_fields.t ............................ ok
t/form/object.t ................................................ ok
t/form/param.t ................................................. ok
t/form/param_array.t ........................................... ok
t/form/param_list.t ............................................ ok
t/form/param_value.t ........................................... ok
t/form/params.t ................................................ ok
t/form/params_ignore_underscore.t .............................. ok
t/form/query.t ................................................. ok
t/form/render_processed_value.t ................................ ok
t/form/start.t ................................................. ok
t/form/stash.t ................................................. ok
t/form/submitted.t ............................................. ok
t/form/submitted_and_valid.t ................................... ok
t/form/title_xml.t ............................................. ok
t/form/valid.t ................................................. ok
t/i18n/add_localize_object.t ................................... ok
t/i18n/add_localize_object_from_class.t ........................ ok
t/inflators/array.t ............................................ ok
t/inflators/callback.t ......................................... ok
t/inflators/compounddatetime.t ................................. ok
t/inflators/compounddatetime_field_order.t ..................... ok
t/inflators/datetime_optional.t ................................ ok
t/inflators/datetime_parser.t .................................. ok
t/inflators/datetime_regex.t ................................... ok
t/inflators/datetime_regex_string.t ............................ ok
t/inflators/datetime_strptime.t ................................ ok
t/inflators/datetime_timezone.t ................................ ok
t/inflators/datetime_with_constraint.t ......................... ok
t/internals/default_args-types.t ............................... ok
t/load_config/config_file_path.t ............................... ok
t/load_config/load_config_file.t ............................... ok
t/load_config/load_config_file_constraint_regex.t .............. ok
t/load_config/load_config_file_multi_stream.t .................. ok
t/load_config/load_config_file_multiple.t ...................... ok
t/load_config/load_config_filestem.t ........................... ok
t/model/hashref_create.t ....................................... ok
t/model/hashref_create_repeatable_without_nestedname.t ......... ok
t/model/hashref_default_values.t ............................... ok
t/model/hashref_escaping.t ..................................... ok
t/model/hashref_multi_within_rep.t ............................. ok
t/model/hashref_process.t ...................................... ok
t/multiple_select_fields.t ..................................... ok
t/multiple_text_fields.t ....................................... ok
t/nested-elements-file_post.t .................................. ok
t/nested/constraints/allornone.t ............................... ok
t/nested/constraints/callbackonce.t ............................ ok
t/nested/constraints/constraint_when.t ......................... ok
t/nested/constraints/dependon.t ................................ ok
t/nested/constraints/equal.t ................................... ok
t/nested/constraints/minmaxfields.t ............................ ok
t/nested/constraints/required.t ................................ ok
t/nested/element_name.t ........................................ ok
t/nested/elements/block_repeatable_multi_named.t ............... ok
t/nested/elements/block_repeatable_multi_named_filter.t ........ ok
t/nested/elements/block_without_name.t ......................... ok
t/nested/elements/checkbox_force_default.t ..................... ok
t/nested/elements/checkbox_retain_default.t .................... ok
t/nested/elements/combobox.t ................................... ok
t/nested/elements/date.t ....................................... ok
t/nested/elements/multi.t ...................................... ok
t/nested/elements/multi_named.t ................................ ok
t/nested/elements/radio.t ...................................... ok
t/nested/elements/radio_force_default.t ........................ ok
t/nested/elements/radio_retain_default.t ....................... ok
t/nested/elements/radiogroup.t ................................. ok
t/nested/elements/radiogroup_force_default.t ................... ok
t/nested/elements/radiogroup_retain_default.t .................. ok
t/nested/elements/repeatable_repeatable.t ...................... ok
t/nested/elements/select.t ..................................... ok
t/nested/elements/select_force_default.t ....................... ok
t/nested/elements/select_retain_default.t ...................... ok
t/nested/elements/select_same_name.t ........................... ok
t/nested/elements/text.t ....................................... ok
t/nested/filters/regex.t ....................................... ok
t/nested/form/render_processed_value.t ......................... ok
t/nested/form_input.t .......................................... ok
t/nested/illegal_name.t ........................................ ok
t/nested/inflators/datetime_strptime.t ......................... ok
t/nested/internals/form_processed_params.t ..................... ok
t/nested/internals/hash_keys.t ................................. ok
t/nested/param.t ............................................... ok
t/nested/params.t .............................................. ok
t/nested/pre_expanded.t ........................................ ok
t/nested/transformers/callback.t ............................... ok
t/nested/valid.t ............................................... ok
t/nested/validators/callback.t ................................. ok
t/output_processors/indent.t ................................... ok
t/output_processors/indent_internals.t ......................... ok
t/output_processors/strip_whitespace.t ......................... ok
t/plugins/stashvalid.t ......................................... ok
t/plugins/stashvalid_on_field.t ................................ ok
t/repeatable/clone.t ........................................... ok
t/repeatable/constraints/attach_errors_to.t .................... ok
t/repeatable/constraints/equal.t ............................... ok
t/repeatable/constraints/required.t ............................ ok
t/repeatable/constraints/required_not_increment_field_names.t .. ok
t/repeatable/constraints/required_not_nested.t ................. ok
t/repeatable/constraints/when.t ................................ ok
t/repeatable/repeatable/constraints/repeatable_any.t ........... ok
t/roles/block.t ................................................ ok
t/roles/field.t ................................................ ok
t/roles/form.t ................................................. ok
t/transformers/callback.t ...................................... ok
t/utils/append_xml_attribute.t ................................. ok
t/utils/has_xml_attribute.t .................................... ok
t/utils/remove_xml_attribute.t ................................. ok
t/validators/callback.t ........................................ ok
t/validators/validator.t ....................................... ok
All tests successful.
Files=409, Tests=2255, 223 wallclock secs ( 1.07 usr  0.75 sys + 158.46 cusr 58.62 csys = 218.90 CPU)
Result: PASS

------------------------------
PREREQUISITES
------------------------------

Prerequisite modules loaded:

requires:

    Module                     Need   Have      
    -------------------------- ------ ----------
    Carp                       0      1.52      
    Class::MOP::Method         0      2.2206    
    Clone                      0.31   0.46      
    Config::Any                0.18   0.33      
    Cwd                        0      3.84      
    Data::Visitor              0.26   0.32      
    Data::Visitor::Callback    0      0.32      
    DateTime                   0.54   1.65      
    DateTime::Format::Builder  0.7901 0.83      
    DateTime::Format::Natural  0      1.18      
    DateTime::Format::Strptime 1.2000 1.79      
    DateTime::Locale           0.45   1.40      
    Email::Valid               0      1.203     
    Encode                     0      3.17      
    Exporter                   5.57   5.77      
    Fatal                      0      2.37      
    File::Copy                 0      2.39      
    File::Find                 0      1.40      
    File::ShareDir             0      1.118     
    File::Spec                 0      3.84      
    File::Temp                 0      0.2311    
    Hash::Flatten              0      1.19      
    HTML::Scrubber             0      0.19      
    HTML::TokeParser::Simple   3.14   3.16      
    HTTP::Headers              1.64   6.45      
    IO::File                   0      1.55      
    JSON::MaybeXS              0      1.004005  
    List::MoreUtils            0      0.430     
    List::Util                 1.45   1.63      
    Locale::Maketext           0      1.33      
    Module::Pluggable          0      5.2       
    Moose                      1.00   2.2206    
    Moose::Role                0      2.2206    
    Moose::Util                0      2.2206    
    MooseX::Aliases            0      0.11      
    MooseX::Attribute::Chained v1.0.2 1.0.3     
    Number::Format             0      1.76      
    Path::Class::File          0      0.37      
    perl                       5.010  5.036003  
    Readonly                   0      2.05      
    Regexp::Common             0      2017060201
    Scalar::Util               0      1.63      
    Storable                   0      3.26      
    Task::Weaken               0      1.06      
    YAML::XS                   0.32   0.88      

build_requires:

    Module                     Need   Have      
    -------------------------- ------ ----------
    CGI                        3.37   4.60      
    ExtUtils::MakeMaker        0      7.64      
    File::Spec                 0      3.84      
    POSIX                      0      2.03      
    Regexp::Assemble           0      0.38      
    Test::Exception            0      0.43      
    Test::Memory::Cycle        0      1.06      
    Test::More                 0.92   1.302198  
    Test::RequiresInternet     0      0.05      

configure_requires:

    Module                     Need   Have      
    -------------------------- ------ ----------
    ExtUtils::MakeMaker        0      7.64      
    File::ShareDir::Install    0.06   0.14      


------------------------------
ENVIRONMENT AND OTHER CONTEXT
------------------------------

Environment variables:

    LANG = en_US.UTF-8
    PATH = /usr/local/bin:/usr/bin:/bin:/usr/local/sbin:/usr/sbin:/sbin:/home/cpansand/bin/linux-gnu:/home/cpansand/bin/sh:/home/cpansand/bin:/usr/games:/home/cpansand/devel:/home/eserte/src/srezic-misc/scripts
    PERL5LIB = /home/cpansand/.cpan/build/2023123118/Regexp-Assemble-0.38-1/blib/arch:/home/cpansand/.cpan/build/2023123118/Regexp-Assemble-0.38-1/blib/lib:/home/cpansand/.cpan/build/2023123118/Number-Format-1.76-1/blib/arch:/home/cpansand/.cpan/build/2023123118/Number-Format-1.76-1/blib/lib:/home/cpansand/.cpan/build/2023123118/MooseX-Attribute-Chained-1.0.3-1/blib/arch:/home/cpansand/.cpan/build/2023123118/MooseX-Attribute-Chained-1.0.3-1/blib/lib:/home/cpansand/.cpan/build/2023123118/MooseX-Aliases-0.11-1/blib/arch:/home/cpansand/.cpan/build/2023123118/MooseX-Aliases-0.11-1/blib/lib:/home/cpansand/.cpan/build/2023123118/HTML-TokeParser-Simple-3.16-1/blib/arch:/home/cpansand/.cpan/build/2023123118/HTML-TokeParser-Simple-3.16-1/blib/lib:/home/cpansand/.cpan/build/2023123118/HTML-Scrubber-0.19-1/blib/arch:/home/cpansand/.cpan/build/2023123118/HTML-Scrubber-0.19-1/blib/lib:/home/cpansand/.cpan/build/2023123118/Email-Valid-1.203-1/blib/arch:/home/cpansand/.cpan/build/2023123118/Email-Valid-1.203-1/blib/lib:/home/cpansand/.cpan/build/2023123118/Net-DNS-1.42-1/blib/arch:/home/cpansand/.cpan/build/2023123118/Net-DNS-1.42-1/blib/lib:/home/cpansand/.cpan/build/2023123118/MailTools-2.21-1/blib/arch:/home/cpansand/.cpan/build/2023123118/MailTools-2.21-1/blib/lib:/home/cpansand/.cpan/build/2023123118/DateTime-Format-Natural-1.18-1/blib/arch:/home/cpansand/.cpan/build/2023123118/DateTime-Format-Natural-1.18-1/blib/lib:/home/cpansand/.cpan/build/2023123118/Test-MockTime-HiRes-0.08-1/blib/arch:/home/cpansand/.cpan/build/2023123118/Test-MockTime-HiRes-0.08-1/blib/lib:/home/cpansand/.cpan/build/2023123118/Module-Util-1.09-1/blib/arch:/home/cpansand/.cpan/build/2023123118/Module-Util-1.09-1/blib/lib:/home/cpansand/.cpan/build/2023123118/DateTime-HiRes-0.04-1/blib/arch:/home/cpansand/.cpan/build/2023123118/DateTime-HiRes-0.04-1/blib/lib:/home/cpansand/.cpan/build/2023123118/Code-TidyAll-Plugin-Perl-AlignMooseAttributes-0.01-0/blib/arch:/home/cpansand/.cpan/build/2023123118/Code-TidyAll-Plugin-Perl-AlignMooseAttributes-0.01-0/blib/lib:/home/cpansand/.cpan/build/2023123118/Code-TidyAll-0.84-0/blib/arch:/home/cpansand/.cpan/build/2023123118/Code-TidyAll-0.84-0/blib/lib:/home/cpansand/.cpan/build/2023123118/lib-relative-1.002-0/blib/arch:/home/cpansand/.cpan/build/2023123118/lib-relative-1.002-0/blib/lib:/home/cpansand/.cpan/build/2023123118/Test-Class-Most-0.08-0/blib/arch:/home/cpansand/.cpan/build/2023123118/Test-Class-Most-0.08-0/blib/lib:/home/cpansand/.cpan/build/2023123118/Test-Class-0.52-1/blib/arch:/home/cpansand/.cpan/build/2023123118/Test-Class-0.52-1/blib/lib:/home/cpansand/.cpan/build/2023123118/Specio-Library-Path-Tiny-0.05-0/blib/arch:/home/cpansand/.cpan/build/2023123118/Specio-Library-Path-Tiny-0.05-0/blib/lib:/home/cpansand/.cpan/build/2023123118/List-SomeUtils-0.59-0/blib/arch:/home/cpansand/.cpan/build/2023123118/List-SomeUtils-0.59-0/blib/lib:/home/cpansand/.cpan/build/2023123118/List-SomeUtils-XS-0.58-0/blib/arch:/home/cpansand/.cpan/build/2023123118/List-SomeUtils-XS-0.58-0/blib/lib:/home/cpansand/.cpan/build/2023123118/List-Compare-0.55-0/blib/arch:/home/cpansand/.cpan/build/2023123118/List-Compare-0.55-0/blib/lib:/home/cpansand/.cpan/build/2023123118/Catalyst-View-TT-0.46-0/blib/arch:/home/cpansand/.cpan/build/2023123118/Catalyst-View-TT-0.46-0/blib/lib:/home/cpansand/.cpan/build/2023123118/Template-Timer-1.00-0/blib/arch:/home/cpansand/.cpan/build/2023123118/Template-Timer-1.00-0/blib/lib:/home/cpansand/.cpan/build/2023123118/Catalyst-Plugin-Session-Store-File-0.18-0/blib/arch:/home/cpansand/.cpan/build/2023123118/Catalyst-Plugin-Session-Store-File-0.18-0/blib/lib:/home/cpansand/.cpan/build/2023123118/Cache-Cache-1.08-0/blib/arch:/home/cpansand/.cpan/build/2023123118/Cache-Cache-1.08-0/blib/lib:/home/cpansand/.cpan/build/2023123118/Error-0.17029-0/blib/arch:/home/cpansand/.cpan/build/2023123118/Error-0.17029-0/blib/lib:/home/cpansand/.cpan/build/2023123118/Catalyst-Authentication-Store-DBIx-Class-0.1506-0/blib/arch:/home/cpansand/.cpan/build/2023123118/Catalyst-Authentication-Store-DBIx-Class-0.1506-0/blib/lib:/home/cpansand/.cpan/build/2023123118/Catalyst-Plugin-Authentication-0.10023-0/blib/arch:/home/cpansand/.cpan/build/2023123118/Catalyst-Plugin-Authentication-0.10023-0/blib/lib:/home/cpansand/.cpan/build/2023123118/Catalyst-Action-RenderView-0.16-0/blib/arch:/home/cpansand/.cpan/build/2023123118/Catalyst-Action-RenderView-0.16-0/blib/lib:/home/cpansand/.cpan/build/2023123118/HTTP-Request-AsCGI-1.2-0/blib/arch:/home/cpansand/.cpan/build/2023123118/HTTP-Request-AsCGI-1.2-0/blib/lib
    PERL5OPT = 
    PERL5_CPANPLUS_IS_RUNNING = 3798434
    PERL5_CPAN_IS_RUNNING = 3798434
    PERL5_CPAN_IS_RUNNING_IN_RECURSION = 3643519,3798434
    PERLDOC = -MPod::Perldoc::ToTextOverstrike
    PERL_BATCH = yes
    PERL_CANARY_STABILITY_NOPROMPT = 1
    PERL_CPAN_REPORTER_CONFIG = /var/tmp/cpansmoker-1023/2023123115/cpanreporter_000_config.ini
    PERL_EXTUTILS_AUTOINSTALL = --defaultdeps
    PERL_USE_UNSAFE_INC = 1
    SHELL = /usr/bin/zsh
    TERM = screen
    TMPDIR = /var/tmp/cpansmoker-1023/2023123115

Perl special variables (and OS-specific diagnostics, for MSWin32):

    $^X = /opt/perl-5.36.3/bin/perl
    $UID/$EUID = 1023 / 1023
    $GID = 1023 1023
    $EGID = 1023 1023

Perl module toolchain versions installed:

    Module              Have    
    ------------------- --------
    CPAN                2.33    
    CPAN::Meta          2.150010
    Cwd                 3.84    
    ExtUtils::CBuilder  0.280236
    ExtUtils::Command   7.64    
    ExtUtils::Install   2.20    
    ExtUtils::MakeMaker 7.64    
    ExtUtils::Manifest  1.73    
    ExtUtils::ParseXS   3.45    
    File::Spec          3.84    
    JSON                4.10    
    JSON::PP            4.16    
    Module::Build       0.4234  
    Module::Signature   0.88    
    Parse::CPAN::Meta   2.150010
    Test2               1.302198
    Test::Harness       3.44    
    Test::More          1.302198
    YAML                1.31    
    YAML::Syck          1.34    
    version             0.9929  


--

Summary of my perl5 (revision 5 version 36 subversion 3) configuration:
   
  Platform:
    osname=linux
    osvers=6.6.8-100.fc38.x86_64
    archname=x86_64-linux
    uname='linux fedora39-2gb-hil 6.6.8-100.fc38.x86_64 #1 smp preempt_dynamic thu dec 21 04:01:45 utc 2023 x86_64 gnulinux '
    config_args='-ds -e -Dprefix=/opt/perl-5.36.3 -Dcf_email=srezic@cpan.org'
    hint=recommended
    useposix=true
    d_sigaction=define
    useithreads=undef
    usemultiplicity=undef
    use64bitint=define
    use64bitall=define
    uselongdouble=undef
    usemymalloc=n
    default_inc_excludes_dot=define
  Compiler:
    cc='cc'
    ccflags ='-fwrapv -fno-strict-aliasing -pipe -fstack-protector-strong -I/usr/local/include -D_LARGEFILE_SOURCE -D_FILE_OFFSET_BITS=64 -D_FORTIFY_SOURCE=2'
    optimize='-O2'
    cppflags='-fwrapv -fno-strict-aliasing -pipe -fstack-protector-strong -I/usr/local/include'
    ccversion=''
    gccversion='13.2.1 20231205 (Red Hat 13.2.1-6)'
    gccosandvers=''
    intsize=4
    longsize=8
    ptrsize=8
    doublesize=8
    byteorder=12345678
    doublekind=3
    d_longlong=define
    longlongsize=8
    d_longdbl=define
    longdblsize=16
    longdblkind=3
    ivtype='long'
    ivsize=8
    nvtype='double'
    nvsize=8
    Off_t='off_t'
    lseeksize=8
    alignbytes=8
    prototype=define
  Linker and Libraries:
    ld='cc'
    ldflags =' -fstack-protector-strong -L/usr/local/lib'
    libpth=/usr/local/lib /usr/lib /usr/lib64 /usr/local/lib64
    libs=-lpthread -ldb -ldl -lm -lcrypt -lutil -lc
    perllibs=-lpthread -ldl -lm -lcrypt -lutil -lc
    libc=/lib/../lib64/libc.so.6
    so=so
    useshrplib=false
    libperl=libperl.a
    gnulibc_version='2.38'
  Dynamic Linking:
    dlsrc=dl_dlopen.xs
    dlext=so
    d_dlsymun=undef
    ccdlflags='-Wl,-E'
    cccdlflags='-fPIC'
    lddlflags='-shared -O2 -L/usr/local/lib -fstack-protector-strong'


Characteristics of this binary (from libperl): 
  Compile-time options:
    HAS_TIMES
    PERLIO_LAYERS
    PERL_COPY_ON_WRITE
    PERL_DONT_CREATE_GVSV
    PERL_MALLOC_WRAP
    PERL_OP_PARENT
    PERL_PRESERVE_IVUV
    USE_64_BIT_ALL
    USE_64_BIT_INT
    USE_LARGE_FILES
    USE_LOCALE
    USE_LOCALE_COLLATE
    USE_LOCALE_CTYPE
    USE_LOCALE_NUMERIC
    USE_LOCALE_TIME
    USE_PERLIO
    USE_PERL_ATOF
  Built under linux
  Compiled at Dec 26 2023 08:08:23
  %ENV:
    PERL5LIB="/home/cpansand/.cpan/build/2023123118/Regexp-Assemble-0.38-1/blib/arch:/home/cpansand/.cpan/build/2023123118/Regexp-Assemble-0.38-1/blib/lib:/home/cpansand/.cpan/build/2023123118/Number-Format-1.76-1/blib/arch:/home/cpansand/.cpan/build/2023123118/Number-Format-1.76-1/blib/lib:/home/cpansand/.cpan/build/2023123118/MooseX-Attribute-Chained-1.0.3-1/blib/arch:/home/cpansand/.cpan/build/2023123118/MooseX-Attribute-Chained-1.0.3-1/blib/lib:/home/cpansand/.cpan/build/2023123118/MooseX-Aliases-0.11-1/blib/arch:/home/cpansand/.cpan/build/2023123118/MooseX-Aliases-0.11-1/blib/lib:/home/cpansand/.cpan/build/2023123118/HTML-TokeParser-Simple-3.16-1/blib/arch:/home/cpansand/.cpan/build/2023123118/HTML-TokeParser-Simple-3.16-1/blib/lib:/home/cpansand/.cpan/build/2023123118/HTML-Scrubber-0.19-1/blib/arch:/home/cpansand/.cpan/build/2023123118/HTML-Scrubber-0.19-1/blib/lib:/home/cpansand/.cpan/build/2023123118/Email-Valid-1.203-1/blib/arch:/home/cpansand/.cpan/build/2023123118/Email-Valid-1.203-1/blib/lib:/home/cpansand/.cpan/build/2023123118/Net-DNS-1.42-1/blib/arch:/home/cpansand/.cpan/build/2023123118/Net-DNS-1.42-1/blib/lib:/home/cpansand/.cpan/build/2023123118/MailTools-2.21-1/blib/arch:/home/cpansand/.cpan/build/2023123118/MailTools-2.21-1/blib/lib:/home/cpansand/.cpan/build/2023123118/DateTime-Format-Natural-1.18-1/blib/arch:/home/cpansand/.cpan/build/2023123118/DateTime-Format-Natural-1.18-1/blib/lib:/home/cpansand/.cpan/build/2023123118/Test-MockTime-HiRes-0.08-1/blib/arch:/home/cpansand/.cpan/build/2023123118/Test-MockTime-HiRes-0.08-1/blib/lib:/home/cpansand/.cpan/build/2023123118/Module-Util-1.09-1/blib/arch:/home/cpansand/.cpan/build/2023123118/Module-Util-1.09-1/blib/lib:/home/cpansand/.cpan/build/2023123118/DateTime-HiRes-0.04-1/blib/arch:/home/cpansand/.cpan/build/2023123118/DateTime-HiRes-0.04-1/blib/lib:/home/cpansand/.cpan/build/2023123118/Code-TidyAll-Plugin-Perl-AlignMooseAttributes-0.01-0/blib/arch:/home/cpansand/.cpan/build/2023123118/Code-TidyAll-Plugin-Perl-AlignMooseAttributes-0.01-0/blib/lib:/home/cpansand/.cpan/build/2023123118/Code-TidyAll-0.84-0/blib/arch:/home/cpansand/.cpan/build/2023123118/Code-TidyAll-0.84-0/blib/lib:/home/cpansand/.cpan/build/2023123118/lib-relative-1.002-0/blib/arch:/home/cpansand/.cpan/build/2023123118/lib-relative-1.002-0/blib/lib:/home/cpansand/.cpan/build/2023123118/Test-Class-Most-0.08-0/blib/arch:/home/cpansand/.cpan/build/2023123118/Test-Class-Most-0.08-0/blib/lib:/home/cpansand/.cpan/build/2023123118/Test-Class-0.52-1/blib/arch:/home/cpansand/.cpan/build/2023123118/Test-Class-0.52-1/blib/lib:/home/cpansand/.cpan/build/2023123118/Specio-Library-Path-Tiny-0.05-0/blib/arch:/home/cpansand/.cpan/build/2023123118/Specio-Library-Path-Tiny-0.05-0/blib/lib:/home/cpansand/.cpan/build/2023123118/List-SomeUtils-0.59-0/blib/arch:/home/cpansand/.cpan/build/2023123118/List-SomeUtils-0.59-0/blib/lib:/home/cpansand/.cpan/build/2023123118/List-SomeUtils-XS-0.58-0/blib/arch:/home/cpansand/.cpan/build/2023123118/List-SomeUtils-XS-0.58-0/blib/lib:/home/cpansand/.cpan/build/2023123118/List-Compare-0.55-0/blib/arch:/home/cpansand/.cpan/build/2023123118/List-Compare-0.55-0/blib/lib:/home/cpansand/.cpan/build/2023123118/Catalyst-View-TT-0.46-0/blib/arch:/home/cpansand/.cpan/build/2023123118/Catalyst-View-TT-0.46-0/blib/lib:/home/cpansand/.cpan/build/2023123118/Template-Timer-1.00-0/blib/arch:/home/cpansand/.cpan/build/2023123118/Template-Timer-1.00-0/blib/lib:/home/cpansand/.cpan/build/2023123118/Catalyst-Plugin-Session-Store-File-0.18-0/blib/arch:/home/cpansand/.cpan/build/2023123118/Catalyst-Plugin-Session-Store-File-0.18-0/blib/lib:/home/cpansand/.cpan/build/2023123118/Cache-Cache-1.08-0/blib/arch:/home/cpansand/.cpan/build/2023123118/Cache-Cache-1.08-0/blib/lib:/home/cpansand/.cpan/build/2023123118/Error-0.17029-0/blib/arch:/home/cpansand/.cpan/build/2023123118/Error-0.17029-0/blib/lib:/home/cpansand/.cpan/build/2023123118/Catalyst-Authentication-Store-DBIx-Class-0.1506-0/blib/arch:/home/cpansand/.cpan/build/2023123118/Catalyst-Authentication-Store-DBIx-Class-0.1506-0/blib/lib:/home/cpansand/.cpan/build/2023123118/Catalyst-Plugin-Authentication-0.10023-0/blib/arch:/home/cpansand/.cpan/build/2023123118/Catalyst-Plugin-Authentication-0.10023-0/blib/lib:/home/cpansand/.cpan/build/2023123118/Catalyst-Action-RenderView-0.16-0/blib/arch:/home/cpansand/.cpan/build/2023123118/Catalyst-Action-RenderView-0.16-0/blib/lib:/home/cpansand/.cpan/build/2023123118/HTTP-Request-AsCGI-1.2-0/blib/arch:/home/cpansand/.cpan/build/2023123118/HTTP-Request-AsCGI-1.2-0/blib/lib"
    PERL5OPT=""
    PERL5_CPANPLUS_IS_RUNNING="3798434"
    PERL5_CPAN_IS_RUNNING="3798434"
    PERL5_CPAN_IS_RUNNING_IN_RECURSION="3643519,3798434"
    PERLDOC="-MPod::Perldoc::ToTextOverstrike"
    PERL_BATCH="yes"
    PERL_CANARY_STABILITY_NOPROMPT="1"
    PERL_CPAN_REPORTER_CONFIG="/var/tmp/cpansmoker-1023/2023123115/cpanreporter_000_config.ini"
    PERL_EXTUTILS_AUTOINSTALL="--defaultdeps"
    PERL_USE_UNSAFE_INC="1"
  @INC:
    /home/cpansand/.cpan/build/2023123118/Regexp-Assemble-0.38-1/blib/arch
    /home/cpansand/.cpan/build/2023123118/Regexp-Assemble-0.38-1/blib/lib
    /home/cpansand/.cpan/build/2023123118/Number-Format-1.76-1/blib/arch
    /home/cpansand/.cpan/build/2023123118/Number-Format-1.76-1/blib/lib
    /home/cpansand/.cpan/build/2023123118/MooseX-Attribute-Chained-1.0.3-1/blib/arch
    /home/cpansand/.cpan/build/2023123118/MooseX-Attribute-Chained-1.0.3-1/blib/lib
    /home/cpansand/.cpan/build/2023123118/MooseX-Aliases-0.11-1/blib/arch
    /home/cpansand/.cpan/build/2023123118/MooseX-Aliases-0.11-1/blib/lib
    /home/cpansand/.cpan/build/2023123118/HTML-TokeParser-Simple-3.16-1/blib/arch
    /home/cpansand/.cpan/build/2023123118/HTML-TokeParser-Simple-3.16-1/blib/lib
    /home/cpansand/.cpan/build/2023123118/HTML-Scrubber-0.19-1/blib/arch
    /home/cpansand/.cpan/build/2023123118/HTML-Scrubber-0.19-1/blib/lib
    /home/cpansand/.cpan/build/2023123118/Email-Valid-1.203-1/blib/arch
    /home/cpansand/.cpan/build/2023123118/Email-Valid-1.203-1/blib/lib
    /home/cpansand/.cpan/build/2023123118/Net-DNS-1.42-1/blib/arch
    /home/cpansand/.cpan/build/2023123118/Net-DNS-1.42-1/blib/lib
    /home/cpansand/.cpan/build/2023123118/MailTools-2.21-1/blib/arch
    /home/cpansand/.cpan/build/2023123118/MailTools-2.21-1/blib/lib
    /home/cpansand/.cpan/build/2023123118/DateTime-Format-Natural-1.18-1/blib/arch
    /home/cpansand/.cpan/build/2023123118/DateTime-Format-Natural-1.18-1/blib/lib
    /home/cpansand/.cpan/build/2023123118/Test-MockTime-HiRes-0.08-1/blib/arch
    /home/cpansand/.cpan/build/2023123118/Test-MockTime-HiRes-0.08-1/blib/lib
    /home/cpansand/.cpan/build/2023123118/Module-Util-1.09-1/blib/arch
    /home/cpansand/.cpan/build/2023123118/Module-Util-1.09-1/blib/lib
    /home/cpansand/.cpan/build/2023123118/DateTime-HiRes-0.04-1/blib/arch
    /home/cpansand/.cpan/build/2023123118/DateTime-HiRes-0.04-1/blib/lib
    /home/cpansand/.cpan/build/2023123118/Code-TidyAll-Plugin-Perl-AlignMooseAttributes-0.01-0/blib/arch
    /home/cpansand/.cpan/build/2023123118/Code-TidyAll-Plugin-Perl-AlignMooseAttributes-0.01-0/blib/lib
    /home/cpansand/.cpan/build/2023123118/Code-TidyAll-0.84-0/blib/arch
    /home/cpansand/.cpan/build/2023123118/Code-TidyAll-0.84-0/blib/lib
    /home/cpansand/.cpan/build/2023123118/lib-relative-1.002-0/blib/arch
    /home/cpansand/.cpan/build/2023123118/lib-relative-1.002-0/blib/lib
    /home/cpansand/.cpan/build/2023123118/Test-Class-Most-0.08-0/blib/arch
    /home/cpansand/.cpan/build/2023123118/Test-Class-Most-0.08-0/blib/lib
    /home/cpansand/.cpan/build/2023123118/Test-Class-0.52-1/blib/arch
    /home/cpansand/.cpan/build/2023123118/Test-Class-0.52-1/blib/lib
    /home/cpansand/.cpan/build/2023123118/Specio-Library-Path-Tiny-0.05-0/blib/arch
    /home/cpansand/.cpan/build/2023123118/Specio-Library-Path-Tiny-0.05-0/blib/lib
    /home/cpansand/.cpan/build/2023123118/List-SomeUtils-0.59-0/blib/arch
    /home/cpansand/.cpan/build/2023123118/List-SomeUtils-0.59-0/blib/lib
    /home/cpansand/.cpan/build/2023123118/List-SomeUtils-XS-0.58-0/blib/arch
    /home/cpansand/.cpan/build/2023123118/List-SomeUtils-XS-0.58-0/blib/lib
    /home/cpansand/.cpan/build/2023123118/List-Compare-0.55-0/blib/arch
    /home/cpansand/.cpan/build/2023123118/List-Compare-0.55-0/blib/lib
    /home/cpansand/.cpan/build/2023123118/Catalyst-View-TT-0.46-0/blib/arch
    /home/cpansand/.cpan/build/2023123118/Catalyst-View-TT-0.46-0/blib/lib
    /home/cpansand/.cpan/build/2023123118/Template-Timer-1.00-0/blib/arch
    /home/cpansand/.cpan/build/2023123118/Template-Timer-1.00-0/blib/lib
    /home/cpansand/.cpan/build/2023123118/Catalyst-Plugin-Session-Store-File-0.18-0/blib/arch
    /home/cpansand/.cpan/build/2023123118/Catalyst-Plugin-Session-Store-File-0.18-0/blib/lib
    /home/cpansand/.cpan/build/2023123118/Cache-Cache-1.08-0/blib/arch
    /home/cpansand/.cpan/build/2023123118/Cache-Cache-1.08-0/blib/lib
    /home/cpansand/.cpan/build/2023123118/Error-0.17029-0/blib/arch
    /home/cpansand/.cpan/build/2023123118/Error-0.17029-0/blib/lib
    /home/cpansand/.cpan/build/2023123118/Catalyst-Authentication-Store-DBIx-Class-0.1506-0/blib/arch
    /home/cpansand/.cpan/build/2023123118/Catalyst-Authentication-Store-DBIx-Class-0.1506-0/blib/lib
    /home/cpansand/.cpan/build/2023123118/Catalyst-Plugin-Authentication-0.10023-0/blib/arch
    /home/cpansand/.cpan/build/2023123118/Catalyst-Plugin-Authentication-0.10023-0/blib/lib
    /home/cpansand/.cpan/build/2023123118/Catalyst-Action-RenderView-0.16-0/blib/arch
    /home/cpansand/.cpan/build/2023123118/Catalyst-Action-RenderView-0.16-0/blib/lib
    /home/cpansand/.cpan/build/2023123118/HTTP-Request-AsCGI-1.2-0/blib/arch
    /home/cpansand/.cpan/build/2023123118/HTTP-Request-AsCGI-1.2-0/blib/lib
    /opt/perl-5.36.3/lib/site_perl/5.36.3/x86_64-linux
    /opt/perl-5.36.3/lib/site_perl/5.36.3
    /opt/perl-5.36.3/lib/5.36.3/x86_64-linux
    /opt/perl-5.36.3/lib/5.36.3
    .