Promise-ES6 v0.28 Perl 5 v5.41.8 x86_64-linux
- Status
- Pass
- From
- James E Keenan
- Dist
-
Promise-ES6 v0.28
- Platform
- Perl 5 v5.41.8 x86_64-linux
- Date
- 2025-01-21 00:04:19
- ID
- 42b3d332-d78b-11ef-ac2b-d106959ba9da
This distribution has been tested as part of the CPAN Testers
project, supporting the Perl programming language. See
http://wiki.cpantesters.org/ for more information or email
questions to cpan-testers-discuss@perl.org
--
Dear Felipe Gasper,
This is a computer-generated report for Promise-ES6-0.28
on perl 5.41.8, created by CPAN-Reporter-1.2020.
Thank you for uploading your work to CPAN. Congratulations!
All tests were successful.
Sections of this report:
* Tester comments
* Program output
* Prerequisites
* Environment and other context
------------------------------
TESTER COMMENTS
------------------------------
Additional comments from tester:
none provided
------------------------------
PROGRAM OUTPUT
------------------------------
Output from '/usr/bin/make test':
PERL_DL_NONLAZY=1 "/home/jkeenan/testing/perl-5.41.8/bin/perl" "-MExtUtils::Command::MM" "-MTest::Harness" "-e" "undef *Test::Harness::Switches; test_harness(0, 'blib/lib', 'blib/arch')" t/*.t
# Devel::GlobalDestruction is available and loaded.
t/all.t ........................... ok
# Devel::GlobalDestruction is available and loaded.
t/all_async.t ..................... ok
# Devel::GlobalDestruction is available and loaded.
t/allsettled.t .................... ok
t/anyevent.t ...................... ok
t/async_await.t ................... skipped: CanâÂÂt run test: Can't locate Test/Future/AsyncAwait/Awaitable.pm in @INC (you may need to install the Test::Future::AsyncAwait::Awaitable module) (@INC entries checked: /home/jkeenan/.cpan/build/Promise-ES6-0.28-0/blib/lib /home/jkeenan/.cpan/build/Promise-ES6-0.28-0/blib/arch /home/jkeenan/testing/perl-5.41.8/lib/site_perl/5.41.8/x86_64-linux /home/jkeenan/testing/perl-5.41.8/lib/site_perl/5.41.8 /home/jkeenan/testing/perl-5.41.8/lib/5.41.8/x86_64-linux /home/jkeenan/testing/perl-5.41.8/lib/5.41.8 .) at (eval 8) line 1.
t/async_await_additional.t ........ skipped: No Future::AsyncAwait
t/async_await_sync.t .............. skipped: CanâÂÂt run test: Can't locate Test/Future/AsyncAwait/Awaitable.pm in @INC (you may need to install the Test::Future::AsyncAwait::Awaitable module) (@INC entries checked: /home/jkeenan/.cpan/build/Promise-ES6-0.28-0/blib/lib /home/jkeenan/.cpan/build/Promise-ES6-0.28-0/blib/arch /home/jkeenan/testing/perl-5.41.8/lib/site_perl/5.41.8/x86_64-linux /home/jkeenan/testing/perl-5.41.8/lib/site_perl/5.41.8 /home/jkeenan/testing/perl-5.41.8/lib/5.41.8/x86_64-linux /home/jkeenan/testing/perl-5.41.8/lib/5.41.8 .) at (eval 8) line 1.
# Devel::GlobalDestruction is available and loaded.
t/await.t ......................... ok
# Devel::GlobalDestruction is available and loaded.
# MASTER PID: 108780
t/await_then_with_async.t ......... ok
# Devel::GlobalDestruction is available and loaded.
t/await_with_async.t .............. ok
# Devel::GlobalDestruction is available and loaded.
t/catch.t ......................... ok
# Devel::GlobalDestruction is available and loaded.
t/catch_asyncreject.t ............. ok
# Devel::GlobalDestruction is available and loaded.
t/finally.t ....................... ok
t/future.t ........................ ok
Promise::ES6=ARRAY(0x559eeb63ea50): Unhandled rejection: abc at -e line 1.
# [
# ''
# ]
t/global_destruction.t ............ ok
t/ioasync.t ....................... ok
# Devel::GlobalDestruction is available and loaded.
t/memory_leaks.t .................. ok
t/mojo.t .......................... ok
# Devel::GlobalDestruction is available and loaded.
t/multi_then.t .................... ok
t/no_leak_stashed_ref.t ........... ok
# Devel::GlobalDestruction is available and loaded.
t/race.t .......................... ok
# Devel::GlobalDestruction is available and loaded.
t/race_async.t .................... ok
# Devel::GlobalDestruction is available and loaded.
t/race_fail.t ..................... ok
# Devel::GlobalDestruction is available and loaded.
t/race_success.t .................. ok
# Devel::GlobalDestruction is available and loaded.
t/reject.t ........................ ok
# Devel::GlobalDestruction is available and loaded.
t/resolve.t ....................... ok
# Devel::GlobalDestruction is available and loaded.
t/then.t .......................... ok
# Devel::GlobalDestruction is available and loaded.
t/then_catch.t .................... ok
# Devel::GlobalDestruction is available and loaded.
t/then_promise.t .................. ok
# Devel::GlobalDestruction is available and loaded.
t/then_success.t .................. ok
# Devel::GlobalDestruction is available and loaded.
t/then_success_with_no_handler.t .. ok
# Devel::GlobalDestruction is available and loaded.
t/unhandled_rejection.t ........... ok
t/use_event_anyevent.t ............ ok
t/use_event_ioasync.t ............. ok
t/use_event_mojolicious.t ......... ok
All tests successful.
Files=35, Tests=143, 4 wallclock secs ( 0.07 usr 0.02 sys + 2.35 cusr 0.32 csys = 2.76 CPU)
Result: PASS
------------------------------
PREREQUISITES
------------------------------
Prerequisite modules loaded:
build_requires:
Module Need Have
----------------------------- -------- --------
autodie 0 2.37
ExtUtils::MakeMaker 0 7.70
FindBin 0 1.54
Test::Class 0 0.52
Test::Deep 0 1.204
Test::FailWarnings 0 0.008
Test::Fatal 0 0.017
Test::More 1.302103 1.302207
configure_requires:
Module Need Have
----------------------------- -------- --------
ExtUtils::MakeMaker::CPANfile 0.09 0.09
opt_requires:
Module Need Have
----------------------------- -------- --------
! Future::AsyncAwait 0.47 n/a
------------------------------
ENVIRONMENT AND OTHER CONTEXT
------------------------------
Environment variables:
LANG = en_US.UTF-8
LC_ADDRESS = en_US.UTF-8
LC_IDENTIFICATION = en_US.UTF-8
LC_MEASUREMENT = en_US.UTF-8
LC_MONETARY = en_US.UTF-8
LC_NAME = en_US.UTF-8
LC_NUMERIC = en_US.UTF-8
LC_PAPER = en_US.UTF-8
LC_TELEPHONE = en_US.UTF-8
LC_TIME = en_US.UTF-8
NONINTERACTIVE_TESTING = 1
PATH = /home/jkeenan/perl5/perlbrew/bin:/home/jkeenan/perl5/perlbrew/perls/perl-5.40.0/bin:/usr/lib/ccache:/usr/local/bin:/usr/bin:/bin:/usr/local/games:/usr/games:/home/jkeenan/bin:/home/jkeenan/bin/perl:/home/jkeenan/bin/shell
PERL5LIB =
PERL5OPT =
PERL5_CPANPLUS_IS_RUNNING = 8614
PERL5_CPAN_IS_RUNNING = 8614
PERLBREW_HOME = /home/jkeenan/.perlbrew
PERLBREW_MANPATH = /home/jkeenan/perl5/perlbrew/perls/perl-5.40.0/man
PERLBREW_PATH = /home/jkeenan/perl5/perlbrew/bin:/home/jkeenan/perl5/perlbrew/perls/perl-5.40.0/bin
PERLBREW_PERL = perl-5.40.0
PERLBREW_ROOT = /home/jkeenan/perl5/perlbrew
PERLBREW_SHELLRC_VERSION = 0.91
PERLBREW_VERSION = 0.96
PERL_MM_USE_DEFAULT = 1
PERL_USE_UNSAFE_INC = 1
PERL_WORKDIR = /home/jkeenan/gitwork/perl
SHELL = /bin/bash
TERM = screen.xterm-256color
Perl special variables (and OS-specific diagnostics, for MSWin32):
$^X = /home/jkeenan/testing/perl-5.41.8/bin/perl
$UID/$EUID = 1000 / 1000
$GID = 1000 27 1000
$EGID = 1000 27 1000
Perl module toolchain versions installed:
Module Have
------------------- --------
CPAN 2.38
CPAN::Meta 2.150010
Cwd 3.92
ExtUtils::CBuilder 0.280240
ExtUtils::Command 7.70
ExtUtils::Install 2.22
ExtUtils::MakeMaker 7.70
ExtUtils::Manifest 1.75
ExtUtils::ParseXS 3.57
File::Spec 3.93
JSON 4.10
JSON::PP 4.16
Module::Build 0.4234
Module::Signature n/a
Parse::CPAN::Meta 2.150010
Test2 1.302207
Test::Harness 3.50
Test::More 1.302207
YAML 1.31
YAML::Syck 1.34
version 0.9933
--
Summary of my perl5 (revision 5 version 41 subversion 8) configuration:
Platform:
osname=linux
osvers=6.1.0-23-amd64
archname=x86_64-linux
uname='linux jk-bookworm 6.1.0-23-amd64 #1 smp preempt_dynamic debian 6.1.99-1 (2024-07-15) x86_64 gnulinux '
config_args='-des -Dusedevel -Dprefix=/home/jkeenan/testing/perl-5.41.8 -Uversiononly -Dman1dir=none -Dman3dir=none'
hint=recommended
useposix=true
d_sigaction=define
useithreads=undef
usemultiplicity=undef
use64bitint=define
use64bitall=define
uselongdouble=undef
usemymalloc=n
default_inc_excludes_dot=define
Compiler:
cc='cc'
ccflags ='-fwrapv -fno-strict-aliasing -pipe -fstack-protector-strong -I/usr/local/include -D_LARGEFILE_SOURCE -D_FILE_OFFSET_BITS=64 -D_FORTIFY_SOURCE=2'
optimize='-O2'
cppflags='-fwrapv -fno-strict-aliasing -pipe -fstack-protector-strong -I/usr/local/include'
ccversion=''
gccversion='12.2.0'
gccosandvers=''
intsize=4
longsize=8
ptrsize=8
doublesize=8
byteorder=12345678
doublekind=3
d_longlong=define
longlongsize=8
d_longdbl=define
longdblsize=16
longdblkind=3
ivtype='long'
ivsize=8
nvtype='double'
nvsize=8
Off_t='off_t'
lseeksize=8
alignbytes=8
prototype=define
Linker and Libraries:
ld='cc'
ldflags =' -fstack-protector-strong -L/usr/local/lib'
libpth=/usr/local/lib /usr/lib/x86_64-linux-gnu /usr/lib /usr/lib64
libs=-lpthread -ldl -lm -lcrypt -lutil -lc
perllibs=-lpthread -ldl -lm -lcrypt -lutil -lc
libc=/lib/x86_64-linux-gnu/libc.so.6
so=so
useshrplib=false
libperl=libperl.a
gnulibc_version='2.36'
Dynamic Linking:
dlsrc=dl_dlopen.xs
dlext=so
d_dlsymun=undef
ccdlflags='-Wl,-E'
cccdlflags='-fPIC'
lddlflags='-shared -O2 -L/usr/local/lib -fstack-protector-strong'
Characteristics of this binary (from libperl):
Compile-time options:
HAS_LONG_DOUBLE
HAS_STRTOLD
HAS_TIMES
PERLIO_LAYERS
PERL_COPY_ON_WRITE
PERL_DONT_CREATE_GVSV
PERL_HASH_FUNC_SIPHASH13
PERL_HASH_USE_SBOX32
PERL_MALLOC_WRAP
PERL_OP_PARENT
PERL_PRESERVE_IVUV
PERL_USE_DEVEL
PERL_USE_SAFE_PUTENV
USE_64_BIT_ALL
USE_64_BIT_INT
USE_LARGE_FILES
USE_LOCALE
USE_LOCALE_COLLATE
USE_LOCALE_CTYPE
USE_LOCALE_NUMERIC
USE_LOCALE_TIME
USE_PERLIO
USE_PERL_ATOF
Built under linux
Compiled at Jan 20 2025 21:52:03
%ENV:
PERL5LIB=""
PERL5OPT=""
PERL5_CPANPLUS_IS_RUNNING="8614"
PERL5_CPAN_IS_RUNNING="8614"
PERLBREW_HOME="/home/jkeenan/.perlbrew"
PERLBREW_MANPATH="/home/jkeenan/perl5/perlbrew/perls/perl-5.40.0/man"
PERLBREW_PATH="/home/jkeenan/perl5/perlbrew/bin:/home/jkeenan/perl5/perlbrew/perls/perl-5.40.0/bin"
PERLBREW_PERL="perl-5.40.0"
PERLBREW_ROOT="/home/jkeenan/perl5/perlbrew"
PERLBREW_SHELLRC_VERSION="0.91"
PERLBREW_VERSION="0.96"
PERL_MM_USE_DEFAULT="1"
PERL_USE_UNSAFE_INC="1"
PERL_WORKDIR="/home/jkeenan/gitwork/perl"
@INC:
/home/jkeenan/testing/perl-5.41.8/lib/site_perl/5.41.8/x86_64-linux
/home/jkeenan/testing/perl-5.41.8/lib/site_perl/5.41.8
/home/jkeenan/testing/perl-5.41.8/lib/5.41.8/x86_64-linux
/home/jkeenan/testing/perl-5.41.8/lib/5.41.8
.