Back
From: metabase:user:c3c0e594-9be7-11e0-ab6b-65b017dc0771
Subject: PASS Number-Phone-Normalize-0.220 v5.12.4 Mac OS X
Date: 2011-07-03T13:13:36Z
This distribution has been tested as part of the CPAN Testers
project, supporting the Perl programming language. See
http://wiki.cpantesters.org/ for more information or email
questions to cpan-testers-discuss@perl.org
--
Dear Claus Faerber,
This is a computer-generated report for Number-Phone-Normalize-0.220
on perl 5.12.4, created by CPAN-Reporter-1.1902.
Thank you for uploading your work to CPAN. Congratulations!
All tests were successful.
Sections of this report:
* Tester comments
* Program output
* Prerequisites
* Environment and other context
------------------------------
TESTER COMMENTS
------------------------------
Additional comments from tester:
this report is from an automated smoke testing program
and was not reviewed by a human for accuracy
------------------------------
PROGRAM OUTPUT
------------------------------
Output from './Build test':
t/00base-use.t ....... ok
t/05pod_check.t ...... ok
t/06pod_coverage.t ... ok
t/10obj__intl.t ...... ok
t/15obj__local.t ..... ok
t/16obj__l_ld.t ...... ok
t/17obj__l_nocc.t .... ok
t/18obj__l_noac.t .... ok
t/20phone_intl.t ..... ok
t/25phone_local.t .... ok
t/26phone_l_ld.t ..... ok
t/27phone_l_nocc.t ... ok
t/28phone_l_noac.t ... ok
t/30intl_cc_ac.t ..... ok
t/31local_cc.t ....... ok
t/32local_ac.t ....... ok
t/33local_ac_ld.t .... ok
t/34local_ac_nocc.t .. ok
t/40vanity_cvrt.t .... ok
t/41vanity_ok.t ...... ok
t/42vanity_ac.t ...... ok
All tests successful.
Files=21, Tests=126, 1 wallclock secs ( 0.10 usr 0.09 sys + 0.72 cusr 0.14 csys = 1.05 CPU)
Result: PASS
------------------------------
PREREQUISITES
------------------------------
Prerequisite modules loaded:
build_requires:
Module Need Have
------------- ---- ------
Test::More 0 0.98
configure_requires:
Module Need Have
------------- ---- ------
Module::Build 0.35 0.3603
------------------------------
ENVIRONMENT AND OTHER CONTEXT
------------------------------
Environment variables:
AUTOMATED_TESTING = 1
LANG = de_AT.UTF-8
PATH = /Users/fh/perl5/perlbrew/bin:/Users/fh/perl5/perlbrew/perls/current/bin:/opt/local/bin:/opt/local/sbin:/usr/bin:/bin:/usr/sbin:/sbin:/usr/local/bin:/usr/X11/bin
PATH_WITHOUT_PERLBREW = /opt/local/bin:/opt/local/sbin:/usr/bin:/bin:/usr/sbin:/sbin:/usr/local/bin:/usr/X11/bin
PERL5LIB =
PERL5OPT =
PERL5_CPANPLUS_IS_RUNNING = 18230
PERL5_CPAN_IS_RUNNING = 18230
PERL5_CPAN_IS_RUNNING_IN_RECURSION = 11305,18230
PERLBREW_PATH = /Users/fh/perl5/perlbrew/bin:/Users/fh/perl5/perlbrew/perls/current/bin
PERLBREW_PERL = perl-5.12.4
PERLBREW_ROOT = /Users/fh/perl5/perlbrew
PERLBREW_VERSION = 0.19
PERL_CR_SMOKER_CURRENT = Number-Phone-Normalize-0.220
PERL_EXTUTILS_AUTOINSTALL = --defaultdeps
PERL_MM_USE_DEFAULT = 1
SHELL = /bin/bash
TERM = screen.linux
TMPDIR = /var/folders/zk/zkvqmgtoEAWHIV1swpIMnk+++TI/-Tmp-/
Perl special variables (and OS-specific diagnostics, for MSWin32):
$^X = /Users/fh/perl5/perlbrew/perls/perl-5.12.4/bin/perl
$UID/$EUID = 501 / 501
$GID = 20 20 402 204 100 98 81 80 79 61 12 401
$EGID = 20 20 402 204 100 98 81 80 79 61 12 401
Perl module toolchain versions installed:
Module Have
------------------- ------
CPAN 1.9600
Cwd 3.33
ExtUtils::CBuilder 0.27
ExtUtils::Command 1.16
ExtUtils::Install 1.55
ExtUtils::MakeMaker 6.56
ExtUtils::Manifest 1.57
ExtUtils::ParseXS 2.21
File::Spec 3.33
Module::Build 0.3603
Module::Signature n/a
Test::Harness 3.17
Test::More 0.98
YAML 0.73
YAML::Syck 1.17
version 0.82
--
Summary of my perl5 (revision 5 version 12 subversion 4) configuration:
Platform:
osname=darwin, osvers=10.7.0, archname=darwin-2level
uname='darwin lerchenferse.local 10.7.0 darwin kernel version 10.7.0: sat jan 29 15:17:16 pst 2011; root:xnu-1504.9.37~1release_i386 i386 '
config_args='-de -Dprefix=/Users/fh/perl5/perlbrew/perls/perl-5.12.4'
hint=recommended, useposix=true, d_sigaction=define
useithreads=undef, usemultiplicity=undef
useperlio=define, d_sfio=undef, uselargefiles=define, usesocks=undef
use64bitint=define, use64bitall=define, uselongdouble=undef
usemymalloc=n, bincompat5005=undef
Compiler:
cc='cc', ccflags ='-fno-common -DPERL_DARWIN -no-cpp-precomp -fno-strict-aliasing -pipe -fstack-protector -I/opt/local/include',
optimize='-O3',
cppflags='-no-cpp-precomp -fno-common -DPERL_DARWIN -no-cpp-precomp -fno-strict-aliasing -pipe -fstack-protector -I/opt/local/include'
ccversion='', gccversion='4.2.1 (Based on Apple Inc. build 5658) (LLVM build 2335.9)', gccosandvers=''
intsize=4, longsize=8, ptrsize=8, doublesize=8, byteorder=12345678
d_longlong=define, longlongsize=8, d_longdbl=define, longdblsize=16
ivtype='long', ivsize=8, nvtype='double', nvsize=8, Off_t='off_t', lseeksize=8
alignbytes=8, prototype=define
Linker and Libraries:
ld='env MACOSX_DEPLOYMENT_TARGET=10.3 cc', ldflags =' -fstack-protector -L/opt/local/lib'
libpth=/opt/local/lib /usr/lib
libs=-lgdbm -ldbm -ldl -lm -lutil -lc
perllibs=-ldl -lm -lutil -lc
libc=/usr/lib/libc.dylib, so=dylib, useshrplib=false, libperl=libperl.a
gnulibc_version=''
Dynamic Linking:
dlsrc=dl_dlopen.xs, dlext=bundle, d_dlsymun=undef, ccdlflags=' '
cccdlflags=' ', lddlflags=' -bundle -undefined dynamic_lookup -L/opt/local/lib -fstack-protector'
Characteristics of this binary (from libperl):
Compile-time options: PERL_DONT_CREATE_GVSV PERL_MALLOC_WRAP USE_64_BIT_ALL
USE_64_BIT_INT USE_LARGE_FILES USE_PERLIO
USE_PERL_ATOF
Built under darwin
Compiled at Jun 20 2011 14:51:14
%ENV:
PERL5LIB=""
PERL5OPT=""
PERL5_CPANPLUS_IS_RUNNING="18230"
PERL5_CPAN_IS_RUNNING="18230"
PERL5_CPAN_IS_RUNNING_IN_RECURSION="11305,18230"
PERLBREW_PATH="/Users/fh/perl5/perlbrew/bin:/Users/fh/perl5/perlbrew/perls/current/bin"
PERLBREW_PERL="perl-5.12.4"
PERLBREW_ROOT="/Users/fh/perl5/perlbrew"
PERLBREW_VERSION="0.19"
PERL_CR_SMOKER_CURRENT="Number-Phone-Normalize-0.220"
PERL_EXTUTILS_AUTOINSTALL="--defaultdeps"
PERL_MM_USE_DEFAULT="1"
@INC:
/Users/fh/perl5/perlbrew/perls/perl-5.12.4/lib/site_perl/5.12.4/darwin-2level
/Users/fh/perl5/perlbrew/perls/perl-5.12.4/lib/site_perl/5.12.4
/Users/fh/perl5/perlbrew/perls/perl-5.12.4/lib/5.12.4/darwin-2level
/Users/fh/perl5/perlbrew/perls/perl-5.12.4/lib/5.12.4
.