Back
From: metabase:user:320bfe00-2aae-11df-837a-5e0a49663a4f
Subject: PASS XML-CompileX-Schema-Loader-0.006 v5.25.11 GNU/Linux
Date: 2017-05-19T00:22:37Z
This distribution has been tested as part of the CPAN Testers
project, supporting the Perl programming language. See
http://wiki.cpantesters.org/ for more information or email
questions to cpan-testers-discuss@perl.org
--
Dear Mark Gardner,
This is a computer-generated report for XML-CompileX-Schema-Loader-0.006
on perl 5.25.11, created by CPAN-Reporter-1.2018.
Thank you for uploading your work to CPAN. Congratulations!
All tests were successful.
Sections of this report:
* Tester comments
* Program output
* Prerequisites
* Environment and other context
------------------------------
TESTER COMMENTS
------------------------------
Additional comments from tester:
this report is from an automated smoke testing program
and was not reviewed by a human for accuracy
------------------------------
PROGRAM OUTPUT
------------------------------
Output from '/usr/bin/make test':
PERL_DL_NONLAZY=1 "/home/sand/src/perl/repoperls/installed-perls/host/k93msid/v5.25.11/5ea4/bin/perl" "-MExtUtils::Command::MM" "-MTest::Harness" "-e" "undef *Test::Harness::Switches; test_harness(0, 'blib/lib', 'blib/arch')" t/*.t
t/00-compile.t ............... ok
# Testing with Perl 5.025011, /home/sand/src/perl/repoperls/installed-perls/host/k93msid/v5.25.11/5ea4/bin/perl
# Carp version is 1.42
# Const::Fast version is 0.014
# ExtUtils::MakeMaker version is 7.24
# File::Spec version is 3.67
# HTTP::Exception version is 0.04006
# HTTP::Response version is 6.11
# HTTP::Status version is 6.11
# IO::Handle version is 1.36
# IPC::Open3 version is 1.20
# LWP::UserAgent version is 6.26
# List::MoreUtils version is 0.419
# Modern::Perl version is 1.20170117
# Moo version is 2.003002
# MooX::Types::MooseLike::Base version is 0.29
# Path::Tiny version is 0.104
# Scalar::Util version is 1.47
# Test::LWP::UserAgent version is 0.031
# Test::More version is 1.302085
# Test::Most version is 0.35
# URI version is 1.71
# URI::file version is 4.21
# XML::Compile::SOAP11 version is 3.21
# XML::Compile::SOAP::Util version is 3.21
# XML::Compile::Transport::SOAPHTTP version is 3.21
# XML::Compile::Util version is 1.56
# XML::Compile::WSDL11 version is 3.06
# XML::LibXML version is 2.0129
# strict version is 1.11
# utf8 version is 1.19
# warnings version is 1.37
t/000-report-versions.t ...... ok
t/author-critic.t ............ skipped: these tests are for testing by the author
t/author-eol.t ............... skipped: these tests are for testing by the author
t/author-no-tabs.t ........... skipped: these tests are for testing by the author
t/release-cpan-changes.t ..... skipped: these tests are for release candidate testing
t/release-dist-manifest.t .... skipped: these tests are for release candidate testing
t/release-distmeta.t ......... skipped: these tests are for release candidate testing
t/release-kwalitee.t ......... skipped: these tests are for release candidate testing
t/release-meta-json.t ........ skipped: these tests are for release candidate testing
t/release-minimum-version.t .. skipped: these tests are for release candidate testing
t/release-mojibake.t ......... skipped: these tests are for release candidate testing
t/release-pod-coverage.t ..... skipped: these tests are for release candidate testing
t/release-pod-linkcheck.t .... skipped: these tests are for release candidate testing
t/release-pod-syntax.t ....... skipped: these tests are for release candidate testing
t/release-portability.t ...... skipped: these tests are for release candidate testing
t/release-synopsis.t ......... skipped: these tests are for release candidate testing
t/release-test-version.t ..... skipped: these tests are for release candidate testing
t/release-unused-vars.t ...... skipped: these tests are for release candidate testing
Argument "HTTP_OK" isn't numeric in numeric ge (>=) at /home/sand/src/perl/repoperls/installed-perls/host/k93msid/v5.25.11/5ea4/lib/site_perl/5.25.11/HTTP/Status.pm line 110.
Argument "HTTP_OK" isn't numeric in numeric ge (>=) at /home/sand/src/perl/repoperls/installed-perls/host/k93msid/v5.25.11/5ea4/lib/site_perl/5.25.11/HTTP/Status.pm line 110.
t/stockquote.t ............... ok
All tests successful.
Files=20, Tests=36, 8 wallclock secs ( 0.06 usr 0.11 sys + 1.80 cusr 0.41 csys = 2.38 CPU)
Result: PASS
------------------------------
PREREQUISITES
------------------------------
Prerequisite modules loaded:
requires:
Module Need Have
--------------------------------- ----- ----------
HTTP::Exception 0 0.04006
List::MoreUtils 0 0.419
LWP::UserAgent 0 6.26
Modern::Perl 0 1.20170117
Moo 0 2.003002
MooX::Types::MooseLike::Base 0 0.29
perl 5.010 5.025011
URI 0 1.71
utf8 0 1.19
XML::Compile::SOAP::Util 0 3.21
XML::Compile::Util 0 1.56
XML::Compile::WSDL11 0 3.06
XML::LibXML 0 2.0129
build_requires:
Module Need Have
--------------------------------- ----- ----------
Carp 0 1.42
Const::Fast 0 0.014
ExtUtils::MakeMaker 0 7.24
File::Spec 0 3.67
HTTP::Response 0 6.11
HTTP::Status 0 6.11
IO::Handle 0 1.36
IPC::Open3 0 1.20
Path::Tiny 0 0.104
Scalar::Util 0 1.47
strict 0 1.11
Test::LWP::UserAgent 0 0.031
Test::More 0.94 1.302085
Test::Most 0 0.35
URI::file 0 4.21
warnings 0 1.37
XML::Compile::SOAP11 0 3.21
XML::Compile::Transport::SOAPHTTP 0 3.21
configure_requires:
Module Need Have
--------------------------------- ----- ----------
ExtUtils::MakeMaker 0 7.24
------------------------------
ENVIRONMENT AND OTHER CONTEXT
------------------------------
Environment variables:
AUTOMATED_TESTING = 1
LANG = en_US.UTF-8
PATH = /home/sand/bin:/usr/local/bin:/usr/bin:/bin:/usr/games:/usr/local/perl/bin:/usr/X11/bin:/sbin:/usr/sbin
PERL5LIB =
PERL5OPT =
PERL5_CPANPLUS_IS_RUNNING = 22444
PERL5_CPAN_IS_RUNNING = 22444
PERL_CANARY_STABILITY_NOPROMPT = 1
PERL_MM_USE_DEFAULT = 1
PERL_USE_UNSAFE_INC = 1
SHELL = /usr/bin/zsh
TERM = screen
Perl special variables (and OS-specific diagnostics, for MSWin32):
$^X = /home/sand/src/perl/repoperls/installed-perls/host/k93msid/v5.25.11/5ea4/bin/perl
$UID/$EUID = 1005 / 1005
$GID = 1005 1005
$EGID = 1005 1005
Perl module toolchain versions installed:
Module Have
------------------- --------
CPAN 2.18
CPAN::Meta 2.150010
Cwd 3.67
ExtUtils::CBuilder 0.280225
ExtUtils::Command 7.24
ExtUtils::Install 2.10
ExtUtils::MakeMaker 7.24
ExtUtils::Manifest 1.70
ExtUtils::ParseXS 3.34
File::Spec 3.67
JSON 2.93
JSON::PP 2.93
Module::Build 0.4222
Module::Signature 0.81
Parse::CPAN::Meta 1.4422
Test::Harness 3.39
Test::More 1.302085
YAML 1.23
YAML::Syck 1.29
version 0.9917
--
Summary of my perl5 (revision 5 version 25 subversion 11) configuration:
Commit id: 295d6d042a7c8bac9b1d5d201a473c7723b50d3f
Platform:
osname=linux
osvers=4.9.0-2-amd64
archname=x86_64-linux-thread-multi-ld
uname='linux k93msid 4.9.0-2-amd64 #1 smp debian 4.9.18-1 (2017-03-30) x86_64 gnulinux '
config_args='-Dprefix=/home/sand/src/perl/repoperls/installed-perls/host/k93msid/v5.25.11/5ea4 -Dmyhostname=k93msid -Dinstallusrbinperl=n -Uversiononly -Dusedevel -des -Ui_db -Dlibswanted=cl pthread socket inet nsl gdbm dbm malloc dl ld sun m crypt sec util c cposix posix ucb BSD gdbm_compat -Duseithreads -Duselongdouble -DDEBUGGING=-g'
hint=recommended
useposix=true
d_sigaction=define
useithreads=define
usemultiplicity=define
use64bitint=define
use64bitall=define
uselongdouble=define
usemymalloc=n
default_inc_excludes_dot=define
bincompat5005=undef
Compiler:
cc='cc'
ccflags ='-D_REENTRANT -D_GNU_SOURCE -fwrapv -fno-strict-aliasing -pipe -fstack-protector-strong -I/usr/local/include -D_LARGEFILE_SOURCE -D_FILE_OFFSET_BITS=64'
optimize='-O2 -g'
cppflags='-D_REENTRANT -D_GNU_SOURCE -fwrapv -fno-strict-aliasing -pipe -fstack-protector-strong -I/usr/local/include'
ccversion=''
gccversion='6.3.0 20170406'
gccosandvers=''
intsize=4
longsize=8
ptrsize=8
doublesize=8
byteorder=12345678
doublekind=3
d_longlong=define
longlongsize=8
d_longdbl=define
longdblsize=16
longdblkind=3
ivtype='long'
ivsize=8
nvtype='long double'
nvsize=16
Off_t='off_t'
lseeksize=8
alignbytes=16
prototype=define
Linker and Libraries:
ld='cc'
ldflags =' -fstack-protector-strong -L/usr/local/lib'
libpth=/usr/local/lib /usr/lib/gcc/x86_64-linux-gnu/6/include-fixed /usr/include/x86_64-linux-gnu /usr/lib /lib/x86_64-linux-gnu /lib/../lib /usr/lib/x86_64-linux-gnu /usr/lib/../lib /lib
libs=-lpthread -lnsl -ldl -lm -lcrypt -lutil -lc
perllibs=-lpthread -lnsl -ldl -lm -lcrypt -lutil -lc
libc=libc-2.24.so
so=so
useshrplib=false
libperl=libperl.a
gnulibc_version='2.24'
Dynamic Linking:
dlsrc=dl_dlopen.xs
dlext=so
d_dlsymun=undef
ccdlflags='-Wl,-E'
cccdlflags='-fPIC'
lddlflags='-shared -O2 -g -L/usr/local/lib -fstack-protector-strong'
Characteristics of this binary (from libperl):
Compile-time options:
HAS_TIMES
MULTIPLICITY
PERLIO_LAYERS
PERL_COPY_ON_WRITE
PERL_DONT_CREATE_GVSV
PERL_IMPLICIT_CONTEXT
PERL_MALLOC_WRAP
PERL_OP_PARENT
PERL_PRESERVE_IVUV
PERL_USE_DEVEL
USE_64_BIT_ALL
USE_64_BIT_INT
USE_ITHREADS
USE_LARGE_FILES
USE_LOCALE
USE_LOCALE_COLLATE
USE_LOCALE_CTYPE
USE_LOCALE_NUMERIC
USE_LOCALE_TIME
USE_LONG_DOUBLE
USE_PERLIO
USE_PERL_ATOF
USE_REENTRANT_API
Built under linux
Compiled at Apr 14 2017 15:21:21
%ENV:
PERL5LIB=""
PERL5OPT=""
PERL5_CPANPLUS_IS_RUNNING="22444"
PERL5_CPAN_IS_RUNNING="22444"
PERL_CANARY_STABILITY_NOPROMPT="1"
PERL_MM_USE_DEFAULT="1"
PERL_USE_UNSAFE_INC="1"
@INC:
/home/sand/src/perl/repoperls/installed-perls/host/k93msid/v5.25.11/5ea4/lib/site_perl/5.25.11/x86_64-linux-thread-multi-ld
/home/sand/src/perl/repoperls/installed-perls/host/k93msid/v5.25.11/5ea4/lib/site_perl/5.25.11
/home/sand/src/perl/repoperls/installed-perls/host/k93msid/v5.25.11/5ea4/lib/5.25.11/x86_64-linux-thread-multi-ld
/home/sand/src/perl/repoperls/installed-perls/host/k93msid/v5.25.11/5ea4/lib/5.25.11
.