Text-Sprintf-Named v0.0301 Perl 5 v5.10.1 i486-linux-gnu-thread-multi

Status
Pass
From
Christian Sturm
Dist
Text-Sprintf-Named v0.0301
Platform
Perl 5 v5.10.1 i486-linux-gnu-thread-multi
Date
2010-08-24 17:08:49
ID
434932d6-afa2-11df-9290-b91d33431e2b
This distribution has been tested as part of the CPAN Testers
project, supporting the Perl programming language.  See
http://wiki.cpantesters.org/ for more information or email
questions to cpan-testers-discuss@perl.org


--
Dear Shlomi Fish,

This is a computer-generated report for Text-Sprintf-Named-0.0301
on perl 5.10.1, created by CPAN-Reporter-1.18.

Thank you for uploading your work to CPAN.  Congratulations!
All tests were successful.

Sections of this report:

    * Tester comments
    * Program output
    * Prerequisites
    * Environment and other context

------------------------------
TESTER COMMENTS
------------------------------

Additional comments from tester:

this report is from an automated smoke testing program
and was not reviewed by a human for accuracy

------------------------------
PROGRAM OUTPUT
------------------------------

Output from './Build test':

# Testing Text::Sprintf::Named 0.0301, Perl 5.010001, /usr/bin/perl
t/00-load.t ...................... ok
t/01-use.t ....................... ok
t/02-override-param-retrieval.t .. ok
t/03-incomplete.t ................ ok
t/boilerplate.t .................. ok
t/pod-coverage.t ................. skipped: Test::Pod::Coverage 1.04 required for testing POD coverage
t/pod.t .......................... skipped: Test::Pod 1.14 required for testing POD
All tests successful.
Files=7, Tests=27,  1 wallclock secs ( 0.07 usr  0.02 sys +  0.31 cusr  0.09 csys =  0.49 CPU)
Result: PASS

------------------------------
PREREQUISITES
------------------------------

Prerequisite modules loaded:

build_requires:

    Module        Need Have  
    ------------- ---- ------
    Test::More    0    0.96  
    Test::Warn    0.21 0.21  

configure_requires:

    Module        Need Have  
    ------------- ---- ------
    Module::Build 0.35 0.3607


------------------------------
ENVIRONMENT AND OTHER CONTEXT
------------------------------

Environment variables:

    AUTOMATED_TESTING = 1
    PATH = /usr/local/sbin:/usr/local/bin:/usr/sbin:/usr/bin:/sbin:/bin:/usr/X11R6/bin
    PERL5LIB = /home/reezer/.cpan/build/Test-Warn-0.21-EQMlBv/blib/arch:/home/reezer/.cpan/build/Test-Warn-0.21-EQMlBv/blib/lib:/home/reezer/.cpan/build/Tree-DAG_Node-1.06-yPyndi/blib/arch:/home/reezer/.cpan/build/Tree-DAG_Node-1.06-yPyndi/blib/lib:/home/reezer/.cpan/build/BSD-Resource-1.2904-wKAyUF/blib/arch:/home/reezer/.cpan/build/BSD-Resource-1.2904-wKAyUF/blib/lib:/home/reezer/.cpan/build/File-MimeInfo-0.15-cZJui1/blib/arch:/home/reezer/.cpan/build/File-MimeInfo-0.15-cZJui1/blib/lib:/home/reezer/.cpan/build/File-DesktopEntry-0.04-hFSqJS/blib/arch:/home/reezer/.cpan/build/File-DesktopEntry-0.04-hFSqJS/blib/lib:/home/reezer/.cpan/build/File-BaseDir-0.03-9moowJ/blib/arch:/home/reezer/.cpan/build/File-BaseDir-0.03-9moowJ/blib/lib
    PERL5OPT = 
    PERL5_CPANPLUS_IS_RUNNING = 7186
    PERL5_CPAN_IS_RUNNING = 7186
    PERL5_CPAN_IS_RUNNING_IN_RECURSION = 15479,7186
    PERL_CR_SMOKER_CURRENT = File-Unpack-0.18
    PERL_EXTUTILS_AUTOINSTALL = --defaultdeps
    PERL_MM_USE_DEFAULT = 1
    SHELL = /bin/zsh
    TERM = screen

Perl special variables (and OS-specific diagnostics, for MSWin32):

    $^X = /usr/bin/perl
    $UID/$EUID = 0 / 0
    $GID = 0 0
    $EGID = 0 0

Perl module toolchain versions installed:

    Module              Have  
    ------------------- ------
    CPAN                1.9402
    Cwd                 3.31  
    ExtUtils::CBuilder  0.2703
    ExtUtils::Command   1.16  
    ExtUtils::Install   1.54  
    ExtUtils::MakeMaker 6.56  
    ExtUtils::Manifest  1.56  
    ExtUtils::ParseXS   2.2206
    File::Spec          3.31  
    Module::Build       0.3607
    Module::Signature   n/a   
    Test::Harness       3.17  
    Test::More          0.96  
    YAML                0.71  
    YAML::Syck          1.07  
    version             0.77  


--

Summary of my perl5 (revision 5 version 10 subversion 1) configuration:
   
  Platform:
    osname=linux, osvers=2.6.24-27-server, archname=i486-linux-gnu-thread-multi
    uname='linux vernadsky 2.6.24-27-server #1 smp fri mar 12 01:45:06 utc 2010 i686 gnulinux '
    config_args='-Dusethreads -Duselargefiles -Dccflags=-DDEBIAN -Dcccdlflags=-fPIC -Darchname=i486-linux-gnu -Dprefix=/usr -Dprivlib=/usr/share/perl/5.10 -Darchlib=/usr/lib/perl/5.10 -Dvendorprefix=/usr -Dvendorlib=/usr/share/perl5 -Dvendorarch=/usr/lib/perl5 -Dsiteprefix=/usr/local -Dsitelib=/usr/local/share/perl/5.10.1 -Dsitearch=/usr/local/lib/perl/5.10.1 -Dman1dir=/usr/share/man/man1 -Dman3dir=/usr/share/man/man3 -Dsiteman1dir=/usr/local/man/man1 -Dsiteman3dir=/usr/local/man/man3 -Dman1ext=1 -Dman3ext=3perl -Dpager=/usr/bin/sensible-pager -Uafs -Ud_csh -Ud_ualarm -Uusesfio -Uusenm -DDEBUGGING=-g -Doptimize=-O2 -Duseshrplib -Dlibperl=libperl.so.5.10.1 -Dd_dosuid -des'
    hint=recommended, useposix=true, d_sigaction=define
    useithreads=define, usemultiplicity=define
    useperlio=define, d_sfio=undef, uselargefiles=define, usesocks=undef
    use64bitint=undef, use64bitall=undef, uselongdouble=undef
    usemymalloc=n, bincompat5005=undef
  Compiler:
    cc='cc', ccflags ='-D_REENTRANT -D_GNU_SOURCE -DDEBIAN -fno-strict-aliasing -pipe -fstack-protector -I/usr/local/include -D_LARGEFILE_SOURCE -D_FILE_OFFSET_BITS=64',
    optimize='-O2 -g',
    cppflags='-D_REENTRANT -D_GNU_SOURCE -DDEBIAN -fno-strict-aliasing -pipe -fstack-protector -I/usr/local/include'
    ccversion='', gccversion='4.4.3', gccosandvers=''
    intsize=4, longsize=4, ptrsize=4, doublesize=8, byteorder=1234
    d_longlong=define, longlongsize=8, d_longdbl=define, longdblsize=12
    ivtype='long', ivsize=4, nvtype='double', nvsize=8, Off_t='off_t', lseeksize=8
    alignbytes=4, prototype=define
  Linker and Libraries:
    ld='cc', ldflags =' -fstack-protector -L/usr/local/lib'
    libpth=/usr/local/lib /lib /usr/lib /usr/lib64
    libs=-lgdbm -lgdbm_compat -ldb -ldl -lm -lpthread -lc -lcrypt
    perllibs=-ldl -lm -lpthread -lc -lcrypt
    libc=/lib/libc-2.11.1.so, so=so, useshrplib=true, libperl=libperl.so.5.10.1
    gnulibc_version='2.11.1'
  Dynamic Linking:
    dlsrc=dl_dlopen.xs, dlext=so, d_dlsymun=undef, ccdlflags='-Wl,-E'
    cccdlflags='-fPIC', lddlflags='-shared -O2 -g -L/usr/local/lib -fstack-protector'


Characteristics of this binary (from libperl): 
  Compile-time options: MULTIPLICITY PERL_DONT_CREATE_GVSV
                        PERL_IMPLICIT_CONTEXT PERL_MALLOC_WRAP USE_ITHREADS
                        USE_LARGE_FILES USE_PERLIO USE_REENTRANT_API
  Built under linux
  Compiled at Apr 23 2010 07:36:53
  %ENV:
    PERL5LIB="/home/reezer/.cpan/build/Test-Warn-0.21-EQMlBv/blib/arch:/home/reezer/.cpan/build/Test-Warn-0.21-EQMlBv/blib/lib:/home/reezer/.cpan/build/Tree-DAG_Node-1.06-yPyndi/blib/arch:/home/reezer/.cpan/build/Tree-DAG_Node-1.06-yPyndi/blib/lib:/home/reezer/.cpan/build/BSD-Resource-1.2904-wKAyUF/blib/arch:/home/reezer/.cpan/build/BSD-Resource-1.2904-wKAyUF/blib/lib:/home/reezer/.cpan/build/File-MimeInfo-0.15-cZJui1/blib/arch:/home/reezer/.cpan/build/File-MimeInfo-0.15-cZJui1/blib/lib:/home/reezer/.cpan/build/File-DesktopEntry-0.04-hFSqJS/blib/arch:/home/reezer/.cpan/build/File-DesktopEntry-0.04-hFSqJS/blib/lib:/home/reezer/.cpan/build/File-BaseDir-0.03-9moowJ/blib/arch:/home/reezer/.cpan/build/File-BaseDir-0.03-9moowJ/blib/lib"
    PERL5OPT=""
    PERL5_CPANPLUS_IS_RUNNING="7186"
    PERL5_CPAN_IS_RUNNING="7186"
    PERL5_CPAN_IS_RUNNING_IN_RECURSION="15479,7186"
    PERL_CR_SMOKER_CURRENT="File-Unpack-0.18"
    PERL_EXTUTILS_AUTOINSTALL="--defaultdeps"
    PERL_MM_USE_DEFAULT="1"
  @INC:
    /home/reezer/.cpan/build/Test-Warn-0.21-EQMlBv/blib/arch
    /home/reezer/.cpan/build/Test-Warn-0.21-EQMlBv/blib/lib
    /home/reezer/.cpan/build/Tree-DAG_Node-1.06-yPyndi/blib/arch
    /home/reezer/.cpan/build/Tree-DAG_Node-1.06-yPyndi/blib/lib
    /home/reezer/.cpan/build/BSD-Resource-1.2904-wKAyUF/blib/arch
    /home/reezer/.cpan/build/BSD-Resource-1.2904-wKAyUF/blib/lib
    /home/reezer/.cpan/build/File-MimeInfo-0.15-cZJui1/blib/arch
    /home/reezer/.cpan/build/File-MimeInfo-0.15-cZJui1/blib/lib
    /home/reezer/.cpan/build/File-DesktopEntry-0.04-hFSqJS/blib/arch
    /home/reezer/.cpan/build/File-DesktopEntry-0.04-hFSqJS/blib/lib
    /home/reezer/.cpan/build/File-BaseDir-0.03-9moowJ/blib/arch
    /home/reezer/.cpan/build/File-BaseDir-0.03-9moowJ/blib/lib
    /etc/perl
    /usr/local/lib/perl/5.10.1
    /usr/local/share/perl/5.10.1
    /usr/lib/perl5
    /usr/share/perl5
    /usr/lib/perl/5.10
    /usr/share/perl/5.10
    /usr/local/lib/site_perl
    .