Starman v0.4017 Perl 5 v5.38.2 x86_64-linux

Status
Pass
From
Dist
Starman v0.4017
Platform
Perl 5 v5.38.2 x86_64-linux
Date
2024-04-10 15:37:39
ID
4351e728-f750-11ee-850d-8326dc08f3f8
This distribution has been tested as part of the CPAN Testers
project, supporting the Perl programming language.  See
http://wiki.cpantesters.org/ for more information or email
questions to cpan-testers-discuss@perl.org


--
Dear Tatsuhiko Miyagawa,

This is a computer-generated report for Starman-0.4017
on perl 5.38.2, created by CPAN-Reporter-1.2019.

Thank you for uploading your work to CPAN.  Congratulations!
All tests were successful.

Sections of this report:

    * Tester comments
    * Program output
    * Prerequisites
    * Environment and other context

------------------------------
TESTER COMMENTS
------------------------------

Additional comments from tester:

none provided

------------------------------
PROGRAM OUTPUT
------------------------------

Output from './Build test':

t/00_compile.t ........... ok
t/author-pod-syntax.t .... skipped: these tests are for testing by the author
2024/04/10-15:37:05 Starman::Server (type Net::Server::PreFork) starting! pid(15071)
Binding to TCP port 41379 on host 127.0.0.1 with IPv4
Setting gid to "0 0 0 1 2 3 4 6 10 11 26 27"
2024/04/10-15:37:05 Server closing!
t/chunked_req.t .......... ok
t/chunked_termination.t .. ok
2024/04/10-15:37:05 Starman::Server (type Net::Server::PreFork) starting! pid(15079)
Binding to TCP port 41607 on host 127.0.0.1 with IPv4
Setting gid to "0 0 0 1 2 3 4 6 10 11 26 27"
2024/04/10-15:37:05 Server closing!
t/chunked_zero_length.t .. ok
2024/04/10-15:37:05 Starman::Server (type Net::Server::PreFork) starting! pid(15086)
Binding to TCP port 44481 on host 127.0.0.1 with IPv4
Setting gid to "0 0 0 1 2 3 4 6 10 11 26 27"
2024/04/10-15:37:05 Server closing!
t/early-hints.t .......... ok
2024/04/10-15:37:05 Starman::Server (type Net::Server::PreFork) starting! pid(15093)
Binding to TCP port 35555 on host 127.0.0.1 with IPv4
Setting gid to "0 0 0 1 2 3 4 6 10 11 26 27"
2024/04/10-15:37:06 Server closing!
t/eintr.t ................ ok
2024/04/10-15:37:06 Starman::Server (type Net::Server::PreFork) starting! pid(15100)
Binding to TCP port 36189 on host 127.0.0.1 with IPv4
Setting gid to "0 0 0 1 2 3 4 6 10 11 26 27"
2024/04/10-15:37:06 Server closing!
t/expect.t ............... ok
2024/04/10-15:37:06 Starman::Server (type Net::Server::PreFork) starting! pid(15107)
Binding to TCP port 46079 on host 127.0.0.1 with IPv4
Setting gid to "0 0 0 1 2 3 4 6 10 11 26 27"
2024/04/10-15:37:07 Server closing!
2024/04/10-15:37:07 Starman::Server (type Net::Server::PreFork) starting! pid(15113)
Binding to TCP port 34995 on host 127.0.0.1 with IPv4
Setting gid to "0 0 0 1 2 3 4 6 10 11 26 27"
2024/04/10-15:37:07 Server closing!
Accept failed with 29 tries left: Invalid argument
Accept failed with 28 tries left: Invalid argument
Accept failed with 27 tries left: Invalid argument
Accept failed with 26 tries left: Invalid argument
Accept failed with 25 tries left: Invalid argument
Accept failed with 24 tries left: Invalid argument
Accept failed with 23 tries left: Invalid argument
Accept failed with 22 tries left: Invalid argument
Accept failed with 21 tries left: Invalid argument
Accept failed with 20 tries left: Invalid argument
Accept failed with 19 tries left: Invalid argument
Accept failed with 18 tries left: Invalid argument
Accept failed with 17 tries left: Invalid argument
Accept failed with 16 tries left: Invalid argument
Accept failed with 15 tries left: Invalid argument
Accept failed with 14 tries left: Invalid argument
Accept failed with 13 tries left: Invalid argument
Accept failed with 12 tries left: Invalid argument
Accept failed with 11 tries left: Invalid argument
Accept failed with 10 tries left: Invalid argument
Accept failed with 9 tries left: Invalid argument
Accept failed with 8 tries left: Invalid argument
Accept failed with 7 tries left: Invalid argument
Accept failed with 6 tries left: Invalid argument
Accept failed with 5 tries left: Invalid argument
Accept failed with 4 tries left: Invalid argument
Accept failed with 3 tries left: Invalid argument
Accept failed with 2 tries left: Invalid argument
Accept failed with 1 tries left: Invalid argument
Accept failed with 0 tries left: Invalid argument
Ran out of accept retries!
t/harakiri.t ............. ok
2024/04/10-15:37:37 Starman::Server (type Net::Server::PreFork) starting! pid(15149)
Binding to TCP port 35415 on host 127.0.0.1 with IPv4
Setting gid to "0 0 0 1 2 3 4 6 10 11 26 27"
2024/04/10-15:37:37 Server closing!
t/lf_only_request.t ...... ok
2024/04/10-15:37:37 Starman::Server (type Net::Server::PreFork) starting! pid(15156)
Binding to TCP port 46749 on host 127.0.0.1 with IPv4
Setting gid to "0 0 0 1 2 3 4 6 10 11 26 27"
2024/04/10-15:37:37 Server closing!
t/no_chunked_head.t ...... ok
t/release-findbin.t ...... skipped: these tests are for release candidate testing
t/release-rand.t ......... skipped: these tests are for release candidate testing
2024/04/10-15:37:37 Starman::Server (type Net::Server::PreFork) starting! pid(15165)
Binding to TCP port 33077 on host 127.0.0.1 with IPv4
Setting gid to "0 0 0 1 2 3 4 6 10 11 26 27"
2024/04/10-15:37:37 Server closing!
t/single_zero.t .......... ok
2024/04/10-15:37:37 Starman::Server (type Net::Server::PreFork) starting! pid(15172)
Resolved [localhost]:44721 to [127.0.0.1]:44721, IPv4
Resolved [localhost]:44721 to [127.0.0.1]:44721, IPv4
Duplicate configuration (SSL) on [127.0.0.1]:44721 with IPv4) - skipping
Binding to SSL port 44721 on host 127.0.0.1 with IPv4
Setting gid to "0 0 0 1 2 3 4 6 10 11 26 27"
Could not finalize SSL connection with client handle (SSL accept attempt failed error:0A000126:SSL routines::unexpected eof while reading)
Child process 15173 exited with status 255
2024/04/10-15:37:37 Server closing!
t/ssl.t .................. ok
2024/04/10-15:37:38 Starman::Server (type Net::Server::PreFork) starting! pid(15180)
Resolved [localhost]:41597 to [127.0.0.1]:41597, IPv4
Resolved [localhost]:41597 to [127.0.0.1]:41597, IPv4
Duplicate configuration (SSL) on [127.0.0.1]:41597 with IPv4) - skipping
Binding to SSL port 41597 on host 127.0.0.1 with IPv4
Setting gid to "0 0 0 1 2 3 4 6 10 11 26 27"
Could not finalize SSL connection with client handle (SSL accept attempt failed error:0A000126:SSL routines::unexpected eof while reading)
2024/04/10-15:37:38 Server closing!
t/ssl_largebody.t ........ ok
2024/04/10-15:37:38 Starman::Server (type Net::Server::PreFork) starting! pid(15188)
Binding to TCP port 36179 on host 127.0.0.1 with IPv4
Setting gid to "0 0 0 1 2 3 4 6 10 11 26 27"
2024/04/10-15:37:38 Server closing!
t/suite.t ................ ok
All tests successful.
Files=17, Tests=125, 34 wallclock secs ( 0.05 usr  0.04 sys +  1.68 cusr  0.64 csys =  2.41 CPU)
Result: PASS

------------------------------
PREREQUISITES
------------------------------

Prerequisite modules loaded:

requires:

    Module              Need     Have    
    ------------------- -------- --------
    Data::Dump          0        1.25    
    HTTP::Date          0        6.06    
    HTTP::Parser::XS    0        0.17    
    HTTP::Status        0        6.45    
    Net::Server         2.007    2.014   
    parent              0        0.241   
    perl                5.008001 5.038002
    Plack               0.9971   1.0051  
    Test::TCP           2.00     2.22    

build_requires:

    Module              Need     Have    
    ------------------- -------- --------
    LWP::UserAgent      0        6.77    
    Test::More          0        1.302194
    Test::Requires      0        0.11    

configure_requires:

    Module              Need     Have    
    ------------------- -------- --------
    Module::Build::Tiny 0.034    0.047   


------------------------------
ENVIRONMENT AND OTHER CONTEXT
------------------------------

Environment variables:

    LANG = it_IT.UTF-8
    LC_ADDRESS = it_IT.UTF-8
    LC_IDENTIFICATION = it_IT.UTF-8
    LC_MEASUREMENT = it_IT.UTF-8
    LC_MONETARY = it_IT.UTF-8
    LC_NAME = it_IT.UTF-8
    LC_NUMERIC = it_IT.UTF-8
    LC_PAPER = it_IT.UTF-8
    LC_TELEPHONE = it_IT.UTF-8
    LC_TIME = it_IT.UTF-8
    NONINTERACTIVE_TESTING = 1
    PATH = /usr/local/perlbrew/bin:/usr/local/perlbrew/perls/perl-5.38.2/bin:/usr/local/sbin:/usr/local/bin:/usr/bin:/opt/bin
    PERL5LIB = 
    PERL5OPT = 
    PERL5_CPANPLUS_IS_RUNNING = 23289
    PERL5_CPAN_IS_RUNNING = 23289
    PERLBREW_HOME = /root/.perlbrew
    PERLBREW_MANPATH = /usr/local/perlbrew/perls/perl-5.38.2/man
    PERLBREW_PATH = /usr/local/perlbrew/bin:/usr/local/perlbrew/perls/perl-5.38.2/bin
    PERLBREW_PERL = perl-5.38.2
    PERLBREW_ROOT = /usr/local/perlbrew
    PERLBREW_SHELLRC_VERSION = 0.98
    PERLBREW_VERSION = 0.98
    PERL_MM_USE_DEFAULT = 1
    PERL_USE_UNSAFE_INC = 1
    SHELL = /bin/bash
    TERM = xterm-256color

Perl special variables (and OS-specific diagnostics, for MSWin32):

    $^X = /usr/local/perlbrew/perls/perl-5.38.2/bin/perl
    $UID/$EUID = 0 / 0
    $GID = 0 0 1 2 3 4 6 10 11 26 27
    $EGID = 0 0 1 2 3 4 6 10 11 26 27

Perl module toolchain versions installed:

    Module              Have    
    ------------------- --------
    CPAN                2.36    
    CPAN::Meta          2.150010
    Cwd                 3.89    
    ExtUtils::CBuilder  0.280238
    ExtUtils::Command   7.70    
    ExtUtils::Install   2.22    
    ExtUtils::MakeMaker 7.70    
    ExtUtils::Manifest  1.73    
    ExtUtils::ParseXS   3.51    
    File::Spec          3.88    
    JSON                4.10    
    JSON::PP            4.16    
    Module::Build       0.4234  
    Module::Signature   0.88    
    Parse::CPAN::Meta   2.150010
    Test2               1.302194
    Test::Harness       3.44    
    Test::More          1.302194
    YAML                1.31    
    YAML::Syck          n/a     
    version             0.9929  


--

Summary of my perl5 (revision 5 version 38 subversion 2) configuration:
   
  Platform:
    osname=linux
    osvers=6.1.67-gentoo-x86_64
    archname=x86_64-linux
    uname='linux cjavac 6.1.67-gentoo-x86_64 #1 smp preempt_dynamic tue dec 19 15:51:37 utc 2023 x86_64 amd epyc 7713 64-core processor authenticamd gnulinux '
    config_args='-de -Dprefix=/usr/local/perlbrew/perls/perl-5.38.2 -Aeval:scriptdir=/usr/local/perlbrew/perls/perl-5.38.2/bin'
    hint=recommended
    useposix=true
    d_sigaction=define
    useithreads=undef
    usemultiplicity=undef
    use64bitint=define
    use64bitall=define
    uselongdouble=undef
    usemymalloc=n
    default_inc_excludes_dot=define
  Compiler:
    cc='cc'
    ccflags ='-fwrapv -fno-strict-aliasing -pipe -fstack-protector-strong -D_LARGEFILE_SOURCE -D_FILE_OFFSET_BITS=64'
    optimize='-O2'
    cppflags='-fwrapv -fno-strict-aliasing -pipe -fstack-protector-strong'
    ccversion=''
    gccversion='13.2.1 20240210'
    gccosandvers=''
    intsize=4
    longsize=8
    ptrsize=8
    doublesize=8
    byteorder=12345678
    doublekind=3
    d_longlong=define
    longlongsize=8
    d_longdbl=define
    longdblsize=16
    longdblkind=3
    ivtype='long'
    ivsize=8
    nvtype='double'
    nvsize=8
    Off_t='off_t'
    lseeksize=8
    alignbytes=8
    prototype=define
  Linker and Libraries:
    ld='cc'
    ldflags =' -fstack-protector-strong -L/usr/local/lib'
    libpth=/usr/lib /usr/local/lib /usr/lib64 /usr/local/lib64
    libs=-lpthread -lgdbm -ldl -lm -lcrypt -lutil -lc -lgdbm_compat
    perllibs=-lpthread -ldl -lm -lcrypt -lutil -lc
    libc=/lib/../lib64/libc.so.6
    so=so
    useshrplib=false
    libperl=libperl.a
    gnulibc_version='2.38'
  Dynamic Linking:
    dlsrc=dl_dlopen.xs
    dlext=so
    d_dlsymun=undef
    ccdlflags='-Wl,-E'
    cccdlflags='-fPIC'
    lddlflags='-shared -O2 -L/usr/local/lib -fstack-protector-strong'


Characteristics of this binary (from libperl): 
  Compile-time options:
    HAS_LONG_DOUBLE
    HAS_STRTOLD
    HAS_TIMES
    PERLIO_LAYERS
    PERL_COPY_ON_WRITE
    PERL_DONT_CREATE_GVSV
    PERL_HASH_FUNC_SIPHASH13
    PERL_HASH_USE_SBOX32
    PERL_MALLOC_WRAP
    PERL_OP_PARENT
    PERL_PRESERVE_IVUV
    PERL_USE_SAFE_PUTENV
    USE_64_BIT_ALL
    USE_64_BIT_INT
    USE_LARGE_FILES
    USE_LOCALE
    USE_LOCALE_COLLATE
    USE_LOCALE_CTYPE
    USE_LOCALE_NUMERIC
    USE_LOCALE_TIME
    USE_PERLIO
    USE_PERL_ATOF
  Built under linux
  Compiled at Apr  9 2024 06:50:24
  %ENV:
    PERL5LIB=""
    PERL5OPT=""
    PERL5_CPANPLUS_IS_RUNNING="23289"
    PERL5_CPAN_IS_RUNNING="23289"
    PERLBREW_HOME="/root/.perlbrew"
    PERLBREW_MANPATH="/usr/local/perlbrew/perls/perl-5.38.2/man"
    PERLBREW_PATH="/usr/local/perlbrew/bin:/usr/local/perlbrew/perls/perl-5.38.2/bin"
    PERLBREW_PERL="perl-5.38.2"
    PERLBREW_ROOT="/usr/local/perlbrew"
    PERLBREW_SHELLRC_VERSION="0.98"
    PERLBREW_VERSION="0.98"
    PERL_MM_USE_DEFAULT="1"
    PERL_USE_UNSAFE_INC="1"
  @INC:
    /usr/local/perlbrew/perls/perl-5.38.2/lib/site_perl/5.38.2/x86_64-linux
    /usr/local/perlbrew/perls/perl-5.38.2/lib/site_perl/5.38.2
    /usr/local/perlbrew/perls/perl-5.38.2/lib/5.38.2/x86_64-linux
    /usr/local/perlbrew/perls/perl-5.38.2/lib/5.38.2
    .