Report for DBIx-Skinny-0.0742

Back
From: metabase:user:a0e96bed-6ce1-1014-b5e6-5ebc903388cd
Subject: PASS DBIx-Skinny-0.0742 v5.14.2 Windows (Cygwin)
Date: 2012-11-23T00:49:40Z

This distribution has been tested as part of the CPAN Testers
project, supporting the Perl programming language.  See
http://wiki.cpantesters.org/ for more information or email
questions to cpan-testers-discuss@perl.org


--
Dear Atsushi Kobayashi,

This is a computer-generated report for DBIx-Skinny-0.0742
on perl 5.14.2, created by CPAN-Reporter-1.2006.

Thank you for uploading your work to CPAN.  Congratulations!
All tests were successful.

Sections of this report:

    * Tester comments
    * Program output
    * Prerequisites
    * Environment and other context

------------------------------
TESTER COMMENTS
------------------------------

Additional comments from tester:

none provided

------------------------------
PROGRAM OUTPUT
------------------------------

Output from '/usr/bin/make test':

PERL_DL_NONLAZY=1 /usr/bin/perl.exe "-MExtUtils::Command::MM" "-e" "test_harness(0, 'inc', 'blib/lib', 'blib/arch')" t/*.t t/*/*.t t/*/*/*.t
t/001_basic/001_compile.t ............................................... skipped: needs DBD::SQLite for testing
t/001_basic/002_schema_info.t ........................................... skipped: needs DBD::SQLite for testing
t/001_basic/003_explicit_schema.t ....................................... skipped: needs DBD::SQLite for testing
t/001_basic/004_sql.t ................................................... ok
t/001_basic/005_set_columns.t ........................................... skipped: needs DBD::SQLite for testing
t/001_basic/006_all_in_one_file.t ....................................... skipped: needs DBD::SQLite for testing
t/001_basic/007_connect_info.t .......................................... skipped: needs DBD::SQLite for testing
t/001_basic/008_mixin.t ................................................. skipped: needs DBD::SQLite for testing
t/001_basic/009_no_check_schema.t ....................................... skipped: needs DBD::SQLite for testing
t/001_basic/010_dbh.t ................................................... skipped: needs DBD::SQLite for testing
t/001_basic/011_inflate.t ............................................... skipped: needs DBD::SQLite for testing
t/001_basic/012_trigger.t ............................................... skipped: needs DBD::SQLite for testing
t/001_basic/013_common_trigger.t ........................................ skipped: needs DBD::SQLite for testing
t/001_basic/014_utf8.t .................................................. skipped: needs DBD::SQLite for testing
t/001_basic/015_row_class.t ............................................. skipped: needs DBD::SQLite for testing
t/001_basic/016_row_exception.t ......................................... skipped: needs DBD::SQLite for testing
t/001_basic/017_profile.t ............................................... skipped: needs DBD::SQLite for testing
t/001_basic/018_custom_profiler.t ....................................... skipped: needs DBD::SQLite for testing
t/001_basic/019_profiler_trace.t ........................................ skipped: needs DBD::SQLite for testing
t/001_basic/020_on_connect_do.t ......................................... skipped: needs DBD::SQLite for testing
t/001_basic/021_reconnect.t ............................................. skipped: needs DBD::SQLite for testing
t/001_basic/022_transaction.t ........................................... skipped: needs DBD::SQLite for testing
t/001_basic/023_bulk_insert.t ........................................... skipped: needs DBD::SQLite for testing
t/001_basic/024_bind_column.t ........................................... skipped: needs DBD::SQLite for testing
t/002_common/000_new.t .................................................. skipped: needs DBD::SQLite for testing
t/002_common/001_insert.t ............................................... skipped: needs DBD::SQLite for testing
t/002_common/002_update.t ............................................... skipped: needs DBD::SQLite for testing
t/002_common/003_delete.t ............................................... skipped: needs DBD::SQLite for testing
t/002_common/004_find_or_create.t ....................................... skipped: needs DBD::SQLite for testing
t/002_common/005_count.t ................................................ skipped: needs DBD::SQLite for testing
t/002_common/006_single.t ............................................... skipped: needs DBD::SQLite for testing
t/002_common/007_search.t ............................................... skipped: needs DBD::SQLite for testing
t/002_common/008_search_named.t ......................................... skipped: needs DBD::SQLite for testing
t/002_common/009_search_by_sql.t ........................................ skipped: needs DBD::SQLite for testing
t/002_common/010_resultset.t ............................................ skipped: needs DBD::SQLite for testing
t/002_common/011_do.t ................................................... skipped: needs DBD::SQLite for testing
t/002_common/012_replace.t .............................................. skipped: needs DBD::SQLite for testing
t/002_common/014_find_or_new.t .......................................... skipped: needs DBD::SQLite for testing
t/002_common/015_data2row.t ............................................. skipped: needs DBD::SQLite for testing
t/002_common/016_hash_to_row.t .......................................... skipped: needs DBD::SQLite for testing
t/002_common/017_iterator.t ............................................. skipped: needs DBD::SQLite for testing
t/002_common/018_refetch.t .............................................. skipped: needs DBD::SQLite for testing
t/002_common/019_get_columns.t .......................................... skipped: needs DBD::SQLite for testing
t/002_common/020_get_column.t ........................................... skipped: needs DBD::SQLite for testing
t/002_common/021_quote.t ................................................ skipped: needs DBD::SQLite for testing
t/002_common/022_disconnect.t ........................................... skipped: needs DBD::SQLite for testing
t/002_common/023_multi_pk.t ............................................. skipped: needs DBD::SQLite for testing
t/002_common/024_txn_scope.t ............................................ skipped: needs DBD::SQLite for testing
t/002_common/999_delete_by_sql.t ........................................ skipped: needs DBD::SQLite for testing
t/002_common/999_update_by_sql.t ........................................ skipped: needs DBD::SQLite for testing
t/500_deprecated/001_deprecated_setup.t ................................. skipped: needs DBD::SQLite for testing
t/500_deprecated/002_deprecated_profiler.t .............................. skipped: needs DBD::SQLite for testing
t/999_regression/bind_param.t ........................................... skipped: needs DBD::SQLite for testing
t/999_regression/data2itr_objectarray.t ................................. skipped: needs DBD::SQLite for testing
t/999_regression/dbh_and_txn_manager.t .................................. skipped: needs DBD::SQLite for testing
t/999_regression/deflate_bug.t .......................................... skipped: needs DBD::SQLite for testing
t/999_regression/deflate_scalarref.t .................................... skipped: needs DBD::SQLite for testing
t/999_regression/duplicate_update.t ..................................... skipped: needs DBD::SQLite for testing
t/999_regression/empty_update.t ......................................... skipped: needs DBD::SQLite for testing
t/999_regression/get_row_class.t ........................................ skipped: needs DBD::SQLite for testing
t/999_regression/guess_table_name.t ..................................... skipped: needs DBD::SQLite for testing
t/999_regression/loose_connect_options_after_new.t ...................... skipped: needs DBD::SQLite for testing
t/999_regression/new_attr.t ............................................. skipped: needs DBD::SQLite for testing
t/999_regression/no_schema.t ............................................ skipped: needs DBD::SQLite for testing
t/999_regression/prepare_error_handling.t ............................... skipped: needs DBD::SQLite for testing
t/999_regression/row_update_by_scalarref.t .............................. skipped: needs DBD::SQLite for testing
t/999_regression/transaction/call_txn_scope_after_fork.t ................ skipped: needs DBD::SQLite for testing
t/999_regression/transaction/call_txn_scope_after_missing_connect.t ..... skipped: needs DBD::SQLite for testing
t/999_regression/transaction/call_txn_scope_and_fork.t .................. skipped: needs DBD::SQLite for testing
t/999_regression/transaction/call_txn_scope_before_fork.t ............... skipped: needs DBD::SQLite for testing
t/999_regression/transaction/call_txn_scope_before_fork_and_rollback.t .. skipped: needs DBD::SQLite for testing
t/999_regression/where_condition_in.t ................................... skipped: needs DBD::SQLite for testing
All tests successful.
Files=72, Tests=82,  5 wallclock secs ( 0.17 usr  0.20 sys +  2.05 cusr  1.90 csys =  4.33 CPU)
Result: PASS

------------------------------
PREREQUISITES
------------------------------

Prerequisite modules loaded:

requires:

    Module                   Need Have 
    ------------------------ ---- -----
    Carp                     0    1.26 
    Class::Accessor::Lite    0    0.05 
    Class::Load              0    0.20 
    DBI                      0    1.622
    DBIx::TransactionManager 1.07 1.11 
    IO::Handle               0    1.31 
    Scalar::Util             0    1.25 
    Try::Tiny                0    0.11 
    UNIVERSAL::require       0    0.13 

build_requires:

    Module                   Need Have 
    ------------------------ ---- -----
    ExtUtils::MakeMaker      6.42 6.62 
    Test::More               0.96 0.98 
  ! Test::SharedFork         0.15 n/a  

configure_requires:

    Module                   Need Have 
    ------------------------ ---- -----
    ExtUtils::MakeMaker      6.42 6.62 


------------------------------
ENVIRONMENT AND OTHER CONTEXT
------------------------------

Environment variables:

    COMSPEC = C:\Windows\system32\cmd.exe
    LC_CTYPE = ja_JP.UTF-8
    NUMBER_OF_PROCESSORS = 4
    PATH = /usr/local/bin:/usr/bin:/usr/bin:/cygdrive/c/Program Files/Common Files/Microsoft Shared/Windows Live:/cygdrive/c/Program Files (x86)/Common Files/Microsoft Shared/Windows Live:/cygdrive/c/Windows/system32:/cygdrive/c/Windows:/cygdrive/c/Windows/System32/Wbem:/cygdrive/c/Windows/System32/WindowsPowerShell/v1.0:/cygdrive/c/Program Files/Intel/WiFi/bin:/cygdrive/c/Program Files/Common Files/Intel/WirelessCommon:/cygdrive/c/Program Files (x86)/Intel/Services/IPT:/cygdrive/c/Program Files (x86)/Common Files/Lenovo:/cygdrive/c/Program Files (x86)/Common Files/Ulead Systems/MPEG:/cygdrive/c/Program Files (x86)/Windows Live/Shared:/cygdrive/c/Program Files (x86)/Lenovo/Access Connections:/cygdrive/c/SWTOOLS/ReadyApps
    PERL5LIB = 
    PERL5OPT = 
    PERL5_CPANPLUS_IS_RUNNING = 4536
    PERL5_CPAN_IS_RUNNING = 4536
    PROCESSOR_IDENTIFIER = Intel64 Family 6 Model 42 Stepping 7, GenuineIntel
    SHELL = /bin/bash
    TEMP = /tmp
    TERM = screen

Perl special variables (and OS-specific diagnostics, for MSWin32):

    $^X = /usr/bin/perl
    $UID/$EUID = 1001 / 1001
    $GID = 513 545 1000 513
    $EGID = 513 545 1000 513

Perl module toolchain versions installed:

    Module              Have    
    ------------------- --------
    CPAN                1.9800  
    CPAN::Meta          2.120921
    Cwd                 3.36    
    ExtUtils::CBuilder  0.280205
    ExtUtils::Command   1.17    
    ExtUtils::Install   1.56    
    ExtUtils::MakeMaker 6.62    
    ExtUtils::Manifest  1.61    
    ExtUtils::ParseXS   3.18    
    File::Spec          3.33    
    JSON                2.53    
    JSON::PP            2.27200 
    Module::Build       0.4003  
    Module::Signature   0.69    
    Parse::CPAN::Meta   1.4404  
    Test::Harness       3.25    
    Test::More          0.98    
    YAML                0.84    
    YAML::Syck          n/a     
    version             0.9901  


--

Summary of my perl5 (revision 5 version 14 subversion 2) configuration:
   
  Platform:
    osname=cygwin, osvers=1.7.15(0.26053), archname=cygwin-thread-multi-64int
    uname='cygwin_nt-5.1 winxp 1.7.15(0.26053) 2012-05-09 10:25 i686 cygwin '
    config_args='-de -Dlibperl=cygperl5_14.dll -Dcc=gcc-4 -Dld=g++-4 -Darchname=i686-cygwin-threads-64int -Dmksymlinks -Dusethreads -Accflags=-g'
    hint=recommended, useposix=true, d_sigaction=define
    useithreads=define, usemultiplicity=define
    useperlio=define, d_sfio=undef, uselargefiles=define, usesocks=undef
    use64bitint=define, use64bitall=undef, uselongdouble=undef
    usemymalloc=n, bincompat5005=undef
  Compiler:
    cc='gcc-4', ccflags ='-DPERL_USE_SAFE_PUTENV -U__STRICT_ANSI__ -g -fno-strict-aliasing -pipe -fstack-protector',
    optimize='-O3',
    cppflags='-DPERL_USE_SAFE_PUTENV -U__STRICT_ANSI__ -g -fno-strict-aliasing -pipe -fstack-protector'
    ccversion='', gccversion='4.5.3', gccosandvers=''
    intsize=4, longsize=4, ptrsize=4, doublesize=8, byteorder=12345678
    d_longlong=define, longlongsize=8, d_longdbl=define, longdblsize=12
    ivtype='long long', ivsize=8, nvtype='double', nvsize=8, Off_t='off_t', lseeksize=8
    alignbytes=8, prototype=define
  Linker and Libraries:
    ld='g++-4', ldflags =' -Wl,--enable-auto-import -Wl,--export-all-symbols -Wl,--enable-auto-image-base -fstack-protector -L/usr/local/lib'
    libpth=/usr/local/lib /usr/lib /lib
    libs=-lgdbm -ldb -ldl -lcrypt -lgdbm_compat
    perllibs=-ldl -lcrypt
    libc=/usr/lib/libc.a, so=dll, useshrplib=true, libperl=cygperl5_14.dll
    gnulibc_version=''
  Dynamic Linking:
    dlsrc=dl_dlopen.xs, dlext=dll, d_dlsymun=undef, ccdlflags=' '
    cccdlflags=' ', lddlflags=' --shared  -Wl,--enable-auto-import -Wl,--export-all-symbols -Wl,--enable-auto-image-base -L/usr/local/lib -fstack-protector'


Characteristics of this binary (from libperl): 
  Compile-time options: MULTIPLICITY PERL_DONT_CREATE_GVSV
                        PERL_IMPLICIT_CONTEXT PERL_PRESERVE_IVUV
                        PERL_USE_SAFE_PUTENV USE_64_BIT_INT USE_ITHREADS
                        USE_LARGE_FILES USE_PERLIO USE_PERL_ATOF
                        USE_REENTRANT_API
  Locally applied patches:
	Bug#55162 File::Spec::case_tolerant performance
	CYG07 $vendorarch/auto/.rebase
	CYG15 static Win32CORE
	CYG17 cyg-1.7 paths-utf8
	0c612ce82 Fix building static extensions on cygwin, -UUSEIMPORTLIB
	1bac5ecc1 Fix 64-bit threading sv.c: S_anonymise_cv_maybe
	Cygwin::sync_winenv added
  Built under cygwin
  Compiled at Jul 12 2012 14:17:21
  %ENV:
    PERL5LIB=""
    PERL5OPT=""
    PERL5_CPANPLUS_IS_RUNNING="4536"
    PERL5_CPAN_IS_RUNNING="4536"
    CYGWIN="winsymlinks"
  @INC:
    /usr/lib/perl5/site_perl/5.14/i686-cygwin-threads-64int
    /usr/lib/perl5/site_perl/5.14
    /usr/lib/perl5/vendor_perl/5.14/i686-cygwin-threads-64int
    /usr/lib/perl5/vendor_perl/5.14
    /usr/lib/perl5/5.14/i686-cygwin-threads-64int
    /usr/lib/perl5/5.14
    /usr/lib/perl5/site_perl/5.10
    /usr/lib/perl5/vendor_perl/5.10
    /usr/lib/perl5/site_perl/5.8
    .