Net-SockAddr v1.1.4 Perl 5 v5.34.1 x86_64-linux-thread-multi-quadmath
- Status
- Pass
- From
- Andreas J. König (ANDK)
- Dist
-
Net-SockAddr v1.1.4
- Platform
- Perl 5 v5.34.1 x86_64-linux-thread-multi-quadmath
- Date
- 2025-03-30 02:11:17
- ID
- 43c8c488-0d0c-11f0-b9a2-dfa7b551d88f
This distribution has been tested as part of the CPAN Testers
project, supporting the Perl programming language. See
http://wiki.cpantesters.org/ for more information or email
questions to cpan-testers-discuss@perl.org
--
Dear Oleg Pronin,
This is a computer-generated report for Net-SockAddr-1.1.4
on perl 5.34.1, created by CPAN-Reporter-1.2019.
Thank you for uploading your work to CPAN. Congratulations!
All tests were successful.
Sections of this report:
* Tester comments
* Program output
* Prerequisites
* Environment and other context
------------------------------
TESTER COMMENTS
------------------------------
Additional comments from tester:
this report is from an automated smoke testing program
and was not reviewed by a human for accuracy
------------------------------
PROGRAM OUTPUT
------------------------------
Output from '/usr/bin/make test':
"/home/sand/src/perl/repoperls/installed-perls/host/k93msid/v5.34.1/db45/bin/perl" -MExtUtils::Command::MM -e 'cp_nonempty' -- SockAddr.bs blib/arch/auto/Net/SockAddr/SockAddr.bs 644
cd clib/build && cd ../cmake_props && make panda-net-sockaddr
make[1]: Entering directory '/tmp/loop_over_bdir-2639088-59Eel1/Net-SockAddr-1.1.4-0/clib/cmake_props'
make[2]: Entering directory '/tmp/loop_over_bdir-2639088-59Eel1/Net-SockAddr-1.1.4-0/clib/cmake_props'
make[3]: Entering directory '/tmp/loop_over_bdir-2639088-59Eel1/Net-SockAddr-1.1.4-0/clib/cmake_props'
make[4]: Entering directory '/tmp/loop_over_bdir-2639088-59Eel1/Net-SockAddr-1.1.4-0/clib/cmake_props'
make[4]: Leaving directory '/tmp/loop_over_bdir-2639088-59Eel1/Net-SockAddr-1.1.4-0/clib/cmake_props'
[100%] Built target panda-net-sockaddr
make[3]: Leaving directory '/tmp/loop_over_bdir-2639088-59Eel1/Net-SockAddr-1.1.4-0/clib/cmake_props'
make[2]: Leaving directory '/tmp/loop_over_bdir-2639088-59Eel1/Net-SockAddr-1.1.4-0/clib/cmake_props'
make[1]: Leaving directory '/tmp/loop_over_bdir-2639088-59Eel1/Net-SockAddr-1.1.4-0/clib/cmake_props'
cd clib/build && make install > /dev/null 2>&1
/usr/bin/cmake -E copy_directory clib/build/cmake_prefix/include blib/arch/Net/SockAddr.x/i/
Skip blib/arch/Net/SockAddr/Inet4.pm (unchanged)
Skip blib/arch/Net/SockAddr.pod (unchanged)
Skip blib/arch/Net/SockAddr/Inet6.pod (unchanged)
Skip blib/arch/Net/SockAddr.x/info (unchanged)
Skip blib/arch/Net/SockAddr/Inet4.pod (unchanged)
Skip blib/arch/Net/SockAddr/Inet6.pm (unchanged)
Skip blib/arch/Net/SockAddr/Unix.pm (unchanged)
Skip blib/arch/Net/SockAddr/Unix.pod (unchanged)
Skip blib/arch/Net/SockAddr.x/i/xs/net/sockaddr.h (unchanged)
Skip blib/arch/Net/SockAddr.pm (unchanged)
make[1]: Nothing to be done for 'object'.
Running Mkbootstrap for MyTest ()
chmod 644 "MyTest.bs"
"/home/sand/src/perl/repoperls/installed-perls/host/k93msid/v5.34.1/db45/bin/perl" -MExtUtils::Command::MM -e 'cp_nonempty' -- MyTest.bs blib/arch/auto/MyTest/MyTest.bs 644
cd clib/build && cd ../cmake_props && make tests
[ 22%] Built target panda-net-sockaddr
[ 33%] Building CXX object /tmp/loop_over_bdir-2639088-59Eel1/Net-SockAddr-1.1.4-0/clib/build/CMakeFiles/tests.dir/tests/base.cc.o
[ 44%] Building CXX object /tmp/loop_over_bdir-2639088-59Eel1/Net-SockAddr-1.1.4-0/clib/build/CMakeFiles/tests.dir/tests/inet4.cc.o
[ 55%] Building CXX object /tmp/loop_over_bdir-2639088-59Eel1/Net-SockAddr-1.1.4-0/clib/build/CMakeFiles/tests.dir/tests/inet6.cc.o
[ 66%] Building CXX object /tmp/loop_over_bdir-2639088-59Eel1/Net-SockAddr-1.1.4-0/clib/build/CMakeFiles/tests.dir/tests/lib/test.cc.o
[ 77%] Building CXX object /tmp/loop_over_bdir-2639088-59Eel1/Net-SockAddr-1.1.4-0/clib/build/CMakeFiles/tests.dir/tests/main.cc.o
[ 88%] Building CXX object /tmp/loop_over_bdir-2639088-59Eel1/Net-SockAddr-1.1.4-0/clib/build/CMakeFiles/tests.dir/tests/unix.cc.o
[100%] Linking CXX static library libtests.a
[100%] Built target tests
rm -f blib/arch/auto/MyTest/MyTest.so
c++ -shared -O2 -g -L/usr/local/lib -fstack-protector-strong blib/arch/auto/Net/SockAddr/SockAddr.so -Wl,--whole-archive clib/build/libtests.a -Wl,--no-whole-archive -lunwind -o blib/arch/auto/MyTest/MyTest.so \
\
chmod 755 blib/arch/auto/MyTest/MyTest.so
cd clib/build && make install > /dev/null 2>&1
Skip blib/arch/Net/SockAddr.pod (unchanged)
Skip blib/arch/Net/SockAddr/Inet6.pm (unchanged)
Skip blib/arch/Net/SockAddr.pm (unchanged)
Skip blib/arch/Net/SockAddr/Unix.pod (unchanged)
Skip blib/arch/Net/SockAddr/Inet4.pod (unchanged)
Skip blib/arch/Net/SockAddr/Unix.pm (unchanged)
Skip blib/arch/Net/SockAddr/Inet6.pod (unchanged)
Skip blib/arch/Net/SockAddr/Inet4.pm (unchanged)
Manifying 4 pod documents
PERL_DL_NONLAZY=1 "/home/sand/src/perl/repoperls/installed-perls/host/k93msid/v5.34.1/db45/bin/perl" "-MExtUtils::Command::MM" "-MTest::Harness" "-e" "undef *Test::Harness::Switches; test_harness(0, 'blib/lib', 'blib/arch')" t/*.t
t/base.t ....... ok
t/constants.t .. ok
t/inet4.t ...... ok
t/inet6.t ...... ok
t/unix.t ....... ok
All tests successful.
Files=5, Tests=31, 1 wallclock secs ( 0.04 usr 0.01 sys + 0.53 cusr 0.13 csys = 0.71 CPU)
Result: PASS
------------------------------
PREREQUISITES
------------------------------
Prerequisite modules loaded:
requires:
Module Need Have
--------------- -------- --------
Export::XS v3.0.8 3.0.8
next::XS v1.0.8 1.0.8
XS::Framework v1.6.0 1.6.0
XS::Install v1.4.0 1.4.0
XS::libpanda v1.5.11 1.5.11
build_requires:
Module Need Have
--------------- -------- --------
Export::XS v3.0.8 3.0.8
next::XS v1.0.8 1.0.8
Test::Catch v2.0.2 2.0.2
Test::Deep 0 1.204
Test::Exception 0 0.43
Test::More 0 1.302206
Test::Simple 0.96 1.302206
XS::Framework v1.6.0 1.6.0
XS::libcatch v3.7.1.1 3.7.1.1
XS::libpanda v1.5.11 1.5.11
configure_requires:
Module Need Have
--------------- -------- --------
Alien::cmake3 0 0.08
Export::XS v3.0.8 3.0.8
next::XS v1.0.8 1.0.8
Test::Catch v2.0.2 2.0.2
XS::Framework v1.6.0 1.6.0
XS::Install v1.4.0 1.4.0
XS::libcatch v3.7.1 3.7.1.1
XS::libpanda v1.5.11 1.5.11
------------------------------
ENVIRONMENT AND OTHER CONTEXT
------------------------------
Environment variables:
AUTOMATED_TESTING = 1
LANG = en_US.UTF-8
LANGUAGE = en_US:en
PATH = /home/sand/bin:/usr/local/bin:/usr/bin:/bin:/usr/games:/usr/local/perl/bin:/usr/X11/bin:/sbin:/usr/sbin
PERL5LIB =
PERL5OPT =
PERL5_CPANPLUS_IS_RUNNING = 1140041
PERL5_CPAN_IS_RUNNING = 1140041
PERL_CANARY_STABILITY_NOPROMPT = 1
PERL_MM_USE_DEFAULT = 1
PERL_USE_UNSAFE_INC = 1
SHELL = /usr/bin/zsh
TERM = screen
Perl special variables (and OS-specific diagnostics, for MSWin32):
$^X = /home/sand/src/perl/repoperls/installed-perls/host/k93msid/v5.34.1/db45/bin/perl
$UID/$EUID = 1005 / 1005
$GID = 1005 1005
$EGID = 1005 1005
Perl module toolchain versions installed:
Module Have
------------------- --------
CPAN 2.36
CPAN::Meta 2.150010
Cwd 3.80
ExtUtils::CBuilder 0.280236
ExtUtils::Command 7.70
ExtUtils::Install 2.20
ExtUtils::MakeMaker 7.70
ExtUtils::Manifest 1.75
ExtUtils::ParseXS 3.43
File::Spec 3.80
JSON 4.10
JSON::PP 4.16
Module::Build 0.4234
Module::Signature 0.89
Parse::CPAN::Meta 2.150010
Test2 1.302206
Test::Harness 3.48
Test::More 1.302206
YAML 1.31
YAML::Syck 1.34
version 0.9930
--
Summary of my perl5 (revision 5 version 34 subversion 1) configuration:
Commit id: 1181cf72936404b890ef41362f533fe2c2626f9b
Platform:
osname=linux
osvers=6.7.9-amd64
archname=x86_64-linux-thread-multi-quadmath
uname='linux k93msid 6.7.9-amd64 #1 smp preempt_dynamic debian 6.7.9-2 (2024-03-13) x86_64 gnulinux '
config_args='-Dprefix=/home/sand/src/perl/repoperls/installed-perls/host/k93msid/v5.34.1/db45 -Dmyhostname=k93msid -Dinstallusrbinperl=n -Uversiononly -Dusedevel -des -Ui_db -Dlibswanted=cl pthread socket inet nsl gdbm dbm malloc dl ld sun m crypt sec util c cposix posix ucb BSD gdbm_compat -Duseithreads -Uuselongdouble -DEBUGGING=both -Dusequadmath'
hint=recommended
useposix=true
d_sigaction=define
useithreads=define
usemultiplicity=define
use64bitint=define
use64bitall=define
uselongdouble=undef
usemymalloc=n
default_inc_excludes_dot=define
Compiler:
cc='cc'
ccflags ='-D_REENTRANT -D_GNU_SOURCE -fwrapv -DDEBUGGING -fno-strict-aliasing -pipe -fstack-protector-strong -I/usr/local/include -D_LARGEFILE_SOURCE -D_FILE_OFFSET_BITS=64 -D_FORTIFY_SOURCE=2'
optimize='-O2 -g'
cppflags='-D_REENTRANT -D_GNU_SOURCE -fwrapv -DDEBUGGING -fno-strict-aliasing -pipe -fstack-protector-strong -I/usr/local/include'
ccversion=''
gccversion='13.2.0'
gccosandvers=''
intsize=4
longsize=8
ptrsize=8
doublesize=8
byteorder=12345678
doublekind=3
d_longlong=define
longlongsize=8
d_longdbl=define
longdblsize=16
longdblkind=3
ivtype='long'
ivsize=8
nvtype='__float128'
nvsize=16
Off_t='off_t'
lseeksize=8
alignbytes=16
prototype=define
Linker and Libraries:
ld='cc'
ldflags =' -fstack-protector-strong -L/usr/local/lib'
libpth=/usr/local/lib /usr/lib/x86_64-linux-gnu /usr/lib /usr/lib64
libs=-lpthread -ldl -lm -lcrypt -lutil -lc -lquadmath
perllibs=-lpthread -ldl -lm -lcrypt -lutil -lc -lquadmath
libc=/lib/x86_64-linux-gnu/libc.so.6
so=so
useshrplib=false
libperl=libperl.a
gnulibc_version='2.37'
Dynamic Linking:
dlsrc=dl_dlopen.xs
dlext=so
d_dlsymun=undef
ccdlflags='-Wl,-E'
cccdlflags='-fPIC'
lddlflags='-shared -O2 -g -L/usr/local/lib -fstack-protector-strong'
Characteristics of this binary (from libperl):
Compile-time options:
DEBUGGING
HAS_TIMES
MULTIPLICITY
PERLIO_LAYERS
PERL_COPY_ON_WRITE
PERL_DONT_CREATE_GVSV
PERL_IMPLICIT_CONTEXT
PERL_MALLOC_WRAP
PERL_OP_PARENT
PERL_PRESERVE_IVUV
PERL_TRACK_MEMPOOL
PERL_USE_DEVEL
USE_64_BIT_ALL
USE_64_BIT_INT
USE_ITHREADS
USE_LARGE_FILES
USE_LOCALE
USE_LOCALE_COLLATE
USE_LOCALE_CTYPE
USE_LOCALE_NUMERIC
USE_LOCALE_TIME
USE_PERLIO
USE_PERL_ATOF
USE_QUADMATH
USE_REENTRANT_API
USE_THREAD_SAFE_LOCALE
Built under linux
Compiled at Apr 14 2024 06:10:37
%ENV:
PERL5LIB=""
PERL5OPT=""
PERL5_CPANPLUS_IS_RUNNING="1140041"
PERL5_CPAN_IS_RUNNING="1140041"
PERL_CANARY_STABILITY_NOPROMPT="1"
PERL_MM_USE_DEFAULT="1"
PERL_USE_UNSAFE_INC="1"
@INC:
/home/sand/src/perl/repoperls/installed-perls/host/k93msid/v5.34.1/db45/lib/site_perl/5.34.1/x86_64-linux-thread-multi-quadmath
/home/sand/src/perl/repoperls/installed-perls/host/k93msid/v5.34.1/db45/lib/site_perl/5.34.1
/home/sand/src/perl/repoperls/installed-perls/host/k93msid/v5.34.1/db45/lib/5.34.1/x86_64-linux-thread-multi-quadmath
/home/sand/src/perl/repoperls/installed-perls/host/k93msid/v5.34.1/db45/lib/5.34.1
.