Report for MooseX-UndefTolerant-0.21

Back
From: metabase:user:30977d10-2aae-11df-837a-5e0a49663a4f
Subject: PASS MooseX-UndefTolerant-0.21 v5.22.3 SunOS/Solaris
Date: 2017-03-17T09:36:57Z

This distribution has been tested as part of the CPAN Testers
project, supporting the Perl programming language.  See
http://wiki.cpantesters.org/ for more information or email
questions to cpan-testers-discuss@perl.org


--
Dear Karen Etheridge,

This is a computer-generated report for MooseX-UndefTolerant-0.21
on perl 5.22.3, created by CPAN-Reporter-1.2018.

Thank you for uploading your work to CPAN.  Congratulations!
All tests were successful.

Sections of this report:

    * Tester comments
    * Program output
    * Prerequisites
    * Environment and other context

------------------------------
TESTER COMMENTS
------------------------------

Additional comments from tester:

this report is from an automated smoke testing program
and was not reviewed by a human for accuracy

------------------------------
PROGRAM OUTPUT
------------------------------

Output from '/usr/bin/make test':

PERL_DL_NONLAZY=1 "/home/stro/perl/5.22.3/bin/perl" "-MExtUtils::Command::MM" "-MTest::Harness" "-e" "undef *Test::Harness::Switches; test_harness(0, 'blib/lib', 'blib/arch')" t/*.t
# Testing MooseX::UndefTolerant 0.21, Perl 5.022003, /home/stro/perl/5.22.3/bin/perl
t/00-load.t ............ ok
# 
# Versions for all modules listed in MYMETA.json (including optional ones):
# 
# === Configure Requires ===
# 
#     Module               Want  Have
#     ------------------- ----- -----
#     Module::Build::Tiny 0.034 0.039
# 
# === Build Requires ===
# 
#     Module              Want Have
#     ------------------- ---- ----
#     ExtUtils::MakeMaker  any 7.24
# 
# === Test Requires ===
# 
#     Module           Want     Have
#     ---------------- ---- --------
#     File::Spec        any     3.62
#     Module::Metadata  any 1.000026
#     Test::Fatal       any    0.014
#     Test::Moose       any   2.2004
#     Test::More       0.88 1.302075
#     if                any   0.0604
#     lib               any     0.63
# 
# === Test Recommends ===
# 
#     Module         Want     Have
#     ---------- -------- --------
#     CPAN::Meta 2.120900 2.150001
# 
# === Runtime Requires ===
# 
#     Module               Want   Have
#     -------------------- ---- ------
#     Moose                0.89 2.2004
#     Moose::Exporter       any 2.2004
#     Moose::Role           any 2.2004
#     namespace::autoclean  any   0.28
#     strict                any   1.09
#     warnings              any   1.34
# 
# === Other Modules ===
# 
#     Module          Have
#     --------- ----------
#     JSON::PP  2.27300_01
#     Sub::Name       0.21
#     YAML            1.22
#     autodie         2.26
# 
t/00-report-prereqs.t .. ok
t/basic.t .............. ok
t/constructor.t ........ ok
t/defaults.t ........... ok
t/roles.t .............. ok
t/undef_init_arg.t ..... ok
t/zzz-check-breaks.t ... ok
All tests successful.
Files=8, Tests=158,  3 wallclock secs ( 0.04 usr  0.01 sys +  2.37 cusr  0.25 csys =  2.67 CPU)
Result: PASS

------------------------------
PREREQUISITES
------------------------------

Prerequisite modules loaded:

requires:

    Module               Need     Have    
    -------------------- -------- --------
    Moose                0.89     2.2004  
    Moose::Exporter      0        2.2004  
    Moose::Role          0        2.2004  
    namespace::autoclean 0        0.28    
    perl                 5.006    5.022003
    strict               0        1.09    
    warnings             0        1.34    

build_requires:

    Module               Need     Have    
    -------------------- -------- --------
    ExtUtils::MakeMaker  0        7.24    
    File::Spec           0        3.62    
    if                   0        0.0604  
    lib                  0        0.63    
    Module::Metadata     0        1.000026
    Test::Fatal          0        0.014   
    Test::Moose          0        2.2004  
    Test::More           0.88     1.302075

configure_requires:

    Module               Need     Have    
    -------------------- -------- --------
    Module::Build::Tiny  0.034    0.039   
    perl                 5.006    5.022003

opt_build_requires:

    Module               Need     Have    
    -------------------- -------- --------
    CPAN::Meta           2.120900 2.150001


------------------------------
ENVIRONMENT AND OTHER CONTEXT
------------------------------

Environment variables:

    AUTOMATED_TESTING = 1
    LANG = en_US.UTF-8
    PATH = /usr/gnu/bin:/usr/bin:/usr/sbin:/sbin:/usr/sfw/bin:
    PERL5LIB = 
    PERL5OPT = 
    PERL5_CPANPLUS_IS_RUNNING = 20681
    PERL5_CPAN_IS_RUNNING = 20681
    PERL5_CPAN_IS_RUNNING_IN_RECURSION = 29413,20681
    PERL_CR_SMOKER_CURRENT = Business-CyberSource-0.010008
    PERL_EXTUTILS_AUTOINSTALL = --defaultdeps
    PERL_MM_USE_DEFAULT = 1
    SHELL = /bin/bash
    TERM = xterm

Perl special variables (and OS-specific diagnostics, for MSWin32):

    $^X = /home/stro/perl/5.22.3/bin/perl
    $UID/$EUID = 101 / 101
    $GID = 10 10
    $EGID = 10 10

Perl module toolchain versions installed:

    Module              Have      
    ------------------- ----------
    CPAN                2.16      
    CPAN::Meta          2.150001  
    Cwd                 3.62      
    ExtUtils::CBuilder  0.280221  
    ExtUtils::Command   7.24      
    ExtUtils::Install   2.04      
    ExtUtils::MakeMaker 7.24      
    ExtUtils::Manifest  1.70      
    ExtUtils::ParseXS   3.28      
    File::Spec          3.62      
    JSON                2.90      
    JSON::PP            2.27300_01
    Module::Build       0.4220    
    Module::Signature   n/a       
    Parse::CPAN::Meta   1.4414_001
    Test::Harness       3.35_01   
    Test::More          1.302075  
    YAML                1.22      
    YAML::Syck          1.29      
    version             0.9909    


--

Summary of my perl5 (revision 5 version 22 subversion 3) configuration:
   
  Platform:
    osname=solaris, osvers=2.11, archname=i86pc-solaris
    uname='sunos vm-openindiana-001 5.11 illumos-2816291 i86pc i386 i86pc '
    config_args='-Dcc=gcc'
    hint=recommended, useposix=true, d_sigaction=define
    useithreads=undef, usemultiplicity=undef
    use64bitint=undef, use64bitall=undef, uselongdouble=undef
    usemymalloc=n, bincompat5005=undef
  Compiler:
    cc='gcc', ccflags ='-fno-strict-aliasing -pipe -I/usr/gnu/include -D_LARGEFILE_SOURCE -D_FILE_OFFSET_BITS=64 -DPERL_USE_SAFE_PUTENV',
    optimize='-O',
    cppflags='-fno-strict-aliasing -pipe -I/usr/gnu/include'
    ccversion='', gccversion='3.4.3 (csl-sol210-3_4-20050802)', gccosandvers='solaris2.11'
    intsize=4, longsize=4, ptrsize=4, doublesize=8, byteorder=1234, doublekind=3
    d_longlong=define, longlongsize=8, d_longdbl=define, longdblsize=12, longdblkind=3
    ivtype='long', ivsize=4, nvtype='double', nvsize=8, Off_t='off_t', lseeksize=8
    alignbytes=4, prototype=define
  Linker and Libraries:
    ld='gcc', ldflags =' -L/usr/gnu/lib '
    libpth=/usr/gcc/3.4/lib /usr/lib /usr/gnu/lib /usr/ccs/lib
    libs=-lpthread -lsocket -lnsl -lgdbm -ldb -ldl -lm -lc
    perllibs=-lpthread -lsocket -lnsl -ldl -lm -lc
    libc=/lib/libc.so, so=so, useshrplib=false, libperl=libperl.a
    gnulibc_version=''
  Dynamic Linking:
    dlsrc=dl_dlopen.xs, dlext=so, d_dlsymun=undef, ccdlflags=' '
    cccdlflags='-fPIC', lddlflags='-shared -L/usr/gnu/lib'


Characteristics of this binary (from libperl): 
  Compile-time options: HAS_TIMES PERLIO_LAYERS PERL_DONT_CREATE_GVSV
                        PERL_HASH_FUNC_ONE_AT_A_TIME_HARD PERL_MALLOC_WRAP
                        PERL_NEW_COPY_ON_WRITE PERL_PRESERVE_IVUV
                        PERL_USE_SAFE_PUTENV USE_LARGE_FILES USE_LOCALE
                        USE_LOCALE_COLLATE USE_LOCALE_CTYPE
                        USE_LOCALE_NUMERIC USE_LOCALE_TIME USE_PERLIO
                        USE_PERL_ATOF
  Built under solaris
  Compiled at Feb  5 2017 19:58:13
  %ENV:
    PERL5LIB=""
    PERL5OPT=""
    PERL5_CPANPLUS_IS_RUNNING="20681"
    PERL5_CPAN_IS_RUNNING="20681"
    PERL5_CPAN_IS_RUNNING_IN_RECURSION="29413,20681"
    PERL_CR_SMOKER_CURRENT="Business-CyberSource-0.010008"
    PERL_EXTUTILS_AUTOINSTALL="--defaultdeps"
    PERL_MM_USE_DEFAULT="1"
  @INC:
    /home/stro/perl/5.22.3/lib/site_perl/5.22.3/i86pc-solaris
    /home/stro/perl/5.22.3/lib/site_perl/5.22.3
    /home/stro/perl/5.22.3/lib/5.22.3/i86pc-solaris
    /home/stro/perl/5.22.3/lib/5.22.3
    .