Report for Module-PrintUsed-0.06

Back
From: metabase:user:320bfe00-2aae-11df-837a-5e0a49663a4f
Subject: PASS Module-PrintUsed-0.06 v5.21.9 GNU/Linux
Date: 2015-03-09T21:57:22Z

This distribution has been tested as part of the CPAN Testers
project, supporting the Perl programming language.  See
http://wiki.cpantesters.org/ for more information or email
questions to cpan-testers-discuss@perl.org


--
Dear Christian Renz,

This is a computer-generated report for Module-PrintUsed-0.06
on perl 5.21.9, created by CPAN-Reporter-1.2011.

Thank you for uploading your work to CPAN.  Congratulations!
All tests were successful.

Sections of this report:

    * Tester comments
    * Program output
    * Prerequisites
    * Environment and other context

------------------------------
TESTER COMMENTS
------------------------------

Additional comments from tester:

this report is from an automated smoke testing program
and was not reviewed by a human for accuracy

------------------------------
PROGRAM OUTPUT
------------------------------

Output from '/usr/bin/make test':

PERL_DL_NONLAZY=1 "/home/sand/src/perl/repoperls/installed-perls/perl/v5.21.9/a2da/bin/perl" "-MExtUtils::Command::MM" "-MTest::Harness" "-e" "undef *Test::Harness::Switches; test_harness(0, 'blib/lib', 'blib/arch')" t/*.t

Modules used by t/1-use.t:
 - Carp                      1.35     /home/sand/src/perl/repoperls/installed-perls/perl/v5.21.9/a2da/lib/5.21.9/Carp.pm
 - Exporter                  5.72     /home/sand/src/perl/repoperls/installed-perls/perl/v5.21.9/a2da/lib/5.21.9/Exporter.pm
 - Exporter::Heavy           5.72     /home/sand/src/perl/repoperls/installed-perls/perl/v5.21.9/a2da/lib/5.21.9/Exporter/Heavy.pm
 - Module::PrintUsed         0.06     /tmp/loop_over_bdir-29564-52ONOW/Module-PrintUsed-0.06-0IbEGv/blib/lib/Module/PrintUsed.pm
 - Test                      1.26     /home/sand/src/perl/repoperls/installed-perls/perl/v5.21.9/a2da/lib/5.21.9/Test.pm
 - strict                    1.09     /home/sand/src/perl/repoperls/installed-perls/perl/v5.21.9/a2da/lib/5.21.9/strict.pm
 - vars                      1.03     /home/sand/src/perl/repoperls/installed-perls/perl/v5.21.9/a2da/lib/5.21.9/vars.pm
 - warnings                  1.31     /home/sand/src/perl/repoperls/installed-perls/perl/v5.21.9/a2da/lib/5.21.9/warnings.pm
 - warnings::register        1.04     /home/sand/src/perl/repoperls/installed-perls/perl/v5.21.9/a2da/lib/5.21.9/warnings/register.pm

t/1-use.t ......... ok

Modules used by t/2-modules.t:
 - Carp                      1.35     /home/sand/src/perl/repoperls/installed-perls/perl/v5.21.9/a2da/lib/5.21.9/Carp.pm
 - Exporter                  5.72     /home/sand/src/perl/repoperls/installed-perls/perl/v5.21.9/a2da/lib/5.21.9/Exporter.pm
 - Exporter::Heavy           5.72     /home/sand/src/perl/repoperls/installed-perls/perl/v5.21.9/a2da/lib/5.21.9/Exporter/Heavy.pm
 - Module::PrintUsed         0.06     /tmp/loop_over_bdir-29564-52ONOW/Module-PrintUsed-0.06-0IbEGv/blib/lib/Module/PrintUsed.pm
 - Test                      1.26     /home/sand/src/perl/repoperls/installed-perls/perl/v5.21.9/a2da/lib/5.21.9/Test.pm
 - strict                    1.09     /home/sand/src/perl/repoperls/installed-perls/perl/v5.21.9/a2da/lib/5.21.9/strict.pm
 - vars                      1.03     /home/sand/src/perl/repoperls/installed-perls/perl/v5.21.9/a2da/lib/5.21.9/vars.pm
 - warnings                  1.31     /home/sand/src/perl/repoperls/installed-perls/perl/v5.21.9/a2da/lib/5.21.9/warnings.pm
 - warnings::register        1.04     /home/sand/src/perl/repoperls/installed-perls/perl/v5.21.9/a2da/lib/5.21.9/warnings/register.pm

t/2-modules.t ..... ok
t/meta.t .......... skipped: Test::CPAN::Meta required for testing META.yml

Modules used by t/pod-coverage.t:
 - B                         1.56     /home/sand/src/perl/repoperls/installed-perls/perl/v5.21.9/a2da/lib/5.21.9/x86_64-linux-thread-multi-ld/B.pm
 - Carp                      1.35     /home/sand/src/perl/repoperls/installed-perls/perl/v5.21.9/a2da/lib/5.21.9/Carp.pm
 - Config                    5.021009 /home/sand/src/perl/repoperls/installed-perls/perl/v5.21.9/a2da/lib/5.21.9/x86_64-linux-thread-multi-ld/Config.pm
 - Config_git.pl                      /home/sand/src/perl/repoperls/installed-perls/perl/v5.21.9/a2da/lib/5.21.9/x86_64-linux-thread-multi-ld/Config_git.pl
 - Config_heavy.pl                    /home/sand/src/perl/repoperls/installed-perls/perl/v5.21.9/a2da/lib/5.21.9/x86_64-linux-thread-multi-ld/Config_heavy.pl
 - Cwd                       3.54     /home/sand/src/perl/repoperls/installed-perls/perl/v5.21.9/a2da/lib/5.21.9/x86_64-linux-thread-multi-ld/Cwd.pm
 - Devel::Symdump            2.14     /home/sand/src/perl/repoperls/installed-perls/perl/v5.21.9/a2da/lib/site_perl/5.21.9/Devel/Symdump.pm
 - Exporter                  5.72     /home/sand/src/perl/repoperls/installed-perls/perl/v5.21.9/a2da/lib/5.21.9/Exporter.pm
 - File::Basename            2.85     /home/sand/src/perl/repoperls/installed-perls/perl/v5.21.9/a2da/lib/5.21.9/File/Basename.pm
 - File::Find                1.29     /home/sand/src/perl/repoperls/installed-perls/perl/v5.21.9/a2da/lib/5.21.9/File/Find.pm
 - File::Spec                3.53     /home/sand/src/perl/repoperls/installed-perls/perl/v5.21.9/a2da/lib/5.21.9/x86_64-linux-thread-multi-ld/File/Spec.pm
 - File::Spec::Unix          3.54     /home/sand/src/perl/repoperls/installed-perls/perl/v5.21.9/a2da/lib/5.21.9/x86_64-linux-thread-multi-ld/File/Spec/Unix.pm
 - List::Util                1.41     /home/sand/src/perl/repoperls/installed-perls/perl/v5.21.9/a2da/lib/5.21.9/x86_64-linux-thread-multi-ld/List/Util.pm
 - Module::PrintUsed         0.06     /tmp/loop_over_bdir-29564-52ONOW/Module-PrintUsed-0.06-0IbEGv/blib/lib/Module/PrintUsed.pm
 - PerlIO                    1.09     /home/sand/src/perl/repoperls/installed-perls/perl/v5.21.9/a2da/lib/5.21.9/PerlIO.pm
 - Pod::Coverage             0.23     /home/sand/src/perl/repoperls/installed-perls/perl/v5.21.9/a2da/lib/site_perl/5.21.9/Pod/Coverage.pm
 - Pod::Find                 1.63     /home/sand/src/perl/repoperls/installed-perls/perl/v5.21.9/a2da/lib/5.21.9/Pod/Find.pm
 - Pod::InputObjects         1.63     /home/sand/src/perl/repoperls/installed-perls/perl/v5.21.9/a2da/lib/5.21.9/Pod/InputObjects.pm
 - Pod::Parser               1.63     /home/sand/src/perl/repoperls/installed-perls/perl/v5.21.9/a2da/lib/5.21.9/Pod/Parser.pm
 - Scalar::Util              1.41     /home/sand/src/perl/repoperls/installed-perls/perl/v5.21.9/a2da/lib/5.21.9/x86_64-linux-thread-multi-ld/Scalar/Util.pm
 - Test::Builder             1.301001099 /home/sand/src/perl/repoperls/installed-perls/perl/v5.21.9/a2da/lib/site_perl/5.21.9/Test/Builder.pm
 - Test::More                1.301001099 /home/sand/src/perl/repoperls/installed-perls/perl/v5.21.9/a2da/lib/site_perl/5.21.9/Test/More.pm
 - Test::More::DeepCheck              /home/sand/src/perl/repoperls/installed-perls/perl/v5.21.9/a2da/lib/site_perl/5.21.9/Test/More/DeepCheck.pm
 - Test::More::DeepCheck::Strict          /home/sand/src/perl/repoperls/installed-perls/perl/v5.21.9/a2da/lib/site_perl/5.21.9/Test/More/DeepCheck/Strict.pm
 - Test::More::Tools                  /home/sand/src/perl/repoperls/installed-perls/perl/v5.21.9/a2da/lib/site_perl/5.21.9/Test/More/Tools.pm
 - Test::Pod::Coverage       1.10     /home/sand/src/perl/repoperls/installed-perls/perl/v5.21.9/a2da/lib/site_perl/5.21.9/Test/Pod/Coverage.pm
 - Test::Stream              1.301001099 /home/sand/src/perl/repoperls/installed-perls/perl/v5.21.9/a2da/lib/site_perl/5.21.9/Test/Stream.pm
 - Test::Stream::Block                /home/sand/src/perl/repoperls/installed-perls/perl/v5.21.9/a2da/lib/site_perl/5.21.9/Test/Stream/Block.pm
 - Test::Stream::Carp                 /home/sand/src/perl/repoperls/installed-perls/perl/v5.21.9/a2da/lib/site_perl/5.21.9/Test/Stream/Carp.pm
 - Test::Stream::Context              /home/sand/src/perl/repoperls/installed-perls/perl/v5.21.9/a2da/lib/site_perl/5.21.9/Test/Stream/Context.pm
 - Test::Stream::Event                /home/sand/src/perl/repoperls/installed-perls/perl/v5.21.9/a2da/lib/site_perl/5.21.9/Test/Stream/Event.pm
 - Test::Stream::Event::Bail          /home/sand/src/perl/repoperls/installed-perls/perl/v5.21.9/a2da/lib/site_perl/5.21.9/Test/Stream/Event/Bail.pm
 - Test::Stream::Event::Diag          /home/sand/src/perl/repoperls/installed-perls/perl/v5.21.9/a2da/lib/site_perl/5.21.9/Test/Stream/Event/Diag.pm
 - Test::Stream::Event::Finish          /home/sand/src/perl/repoperls/installed-perls/perl/v5.21.9/a2da/lib/site_perl/5.21.9/Test/Stream/Event/Finish.pm
 - Test::Stream::Event::Note          /home/sand/src/perl/repoperls/installed-perls/perl/v5.21.9/a2da/lib/site_perl/5.21.9/Test/Stream/Event/Note.pm
 - Test::Stream::Event::Ok            /home/sand/src/perl/repoperls/installed-perls/perl/v5.21.9/a2da/lib/site_perl/5.21.9/Test/Stream/Event/Ok.pm
 - Test::Stream::Event::Plan          /home/sand/src/perl/repoperls/installed-perls/perl/v5.21.9/a2da/lib/site_perl/5.21.9/Test/Stream/Event/Plan.pm
 - Test::Stream::Event::Subtest          /home/sand/src/perl/repoperls/installed-perls/perl/v5.21.9/a2da/lib/site_perl/5.21.9/Test/Stream/Event/Subtest.pm
 - Test::Stream::ExitMagic            /home/sand/src/perl/repoperls/installed-perls/perl/v5.21.9/a2da/lib/site_perl/5.21.9/Test/Stream/ExitMagic.pm
 - Test::Stream::ExitMagic::Context          /home/sand/src/perl/repoperls/installed-perls/perl/v5.21.9/a2da/lib/site_perl/5.21.9/Test/Stream/ExitMagic/Context.pm
 - Test::Stream::Exporter             /home/sand/src/perl/repoperls/installed-perls/perl/v5.21.9/a2da/lib/site_perl/5.21.9/Test/Stream/Exporter.pm
 - Test::Stream::Exporter::Meta          /home/sand/src/perl/repoperls/installed-perls/perl/v5.21.9/a2da/lib/site_perl/5.21.9/Test/Stream/Exporter/Meta.pm
 - Test::Stream::HashBase             /home/sand/src/perl/repoperls/installed-perls/perl/v5.21.9/a2da/lib/site_perl/5.21.9/Test/Stream/HashBase.pm
 - Test::Stream::HashBase::Meta          /home/sand/src/perl/repoperls/installed-perls/perl/v5.21.9/a2da/lib/site_perl/5.21.9/Test/Stream/HashBase/Meta.pm
 - Test::Stream::IOSets               /home/sand/src/perl/repoperls/installed-perls/perl/v5.21.9/a2da/lib/site_perl/5.21.9/Test/Stream/IOSets.pm
 - Test::Stream::Meta                 /home/sand/src/perl/repoperls/installed-perls/perl/v5.21.9/a2da/lib/site_perl/5.21.9/Test/Stream/Meta.pm
 - Test::Stream::PackageUtil          /home/sand/src/perl/repoperls/installed-perls/perl/v5.21.9/a2da/lib/site_perl/5.21.9/Test/Stream/PackageUtil.pm
 - Test::Stream::Subtest              /home/sand/src/perl/repoperls/installed-perls/perl/v5.21.9/a2da/lib/site_perl/5.21.9/Test/Stream/Subtest.pm
 - Test::Stream::Threads              /home/sand/src/perl/repoperls/installed-perls/perl/v5.21.9/a2da/lib/site_perl/5.21.9/Test/Stream/Threads.pm
 - Test::Stream::Toolset              /home/sand/src/perl/repoperls/installed-perls/perl/v5.21.9/a2da/lib/site_perl/5.21.9/Test/Stream/Toolset.pm
 - Test::Stream::Util                 /home/sand/src/perl/repoperls/installed-perls/perl/v5.21.9/a2da/lib/site_perl/5.21.9/Test/Stream/Util.pm
 - XSLoader                  0.20     /home/sand/src/perl/repoperls/installed-perls/perl/v5.21.9/a2da/lib/5.21.9/XSLoader.pm
 - base                      2.22     /home/sand/src/perl/repoperls/installed-perls/perl/v5.21.9/a2da/lib/5.21.9/base.pm
 - constant                  1.33     /home/sand/src/perl/repoperls/installed-perls/perl/v5.21.9/a2da/lib/5.21.9/constant.pm
 - overload                  1.25     /home/sand/src/perl/repoperls/installed-perls/perl/v5.21.9/a2da/lib/5.21.9/overload.pm
 - overloading               0.02     /home/sand/src/perl/repoperls/installed-perls/perl/v5.21.9/a2da/lib/5.21.9/overloading.pm
 - re                        0.31     /home/sand/src/perl/repoperls/installed-perls/perl/v5.21.9/a2da/lib/5.21.9/x86_64-linux-thread-multi-ld/re.pm
 - strict                    1.09     /home/sand/src/perl/repoperls/installed-perls/perl/v5.21.9/a2da/lib/5.21.9/strict.pm
 - vars                      1.03     /home/sand/src/perl/repoperls/installed-perls/perl/v5.21.9/a2da/lib/5.21.9/vars.pm
 - warnings                  1.31     /home/sand/src/perl/repoperls/installed-perls/perl/v5.21.9/a2da/lib/5.21.9/warnings.pm
 - warnings::register        1.04     /home/sand/src/perl/repoperls/installed-perls/perl/v5.21.9/a2da/lib/5.21.9/warnings/register.pm

t/pod-coverage.t .. ok
t/pod.t ........... ok
All tests successful.
Files=5, Tests=6,  0 wallclock secs ( 0.03 usr  0.01 sys +  0.23 cusr  0.02 csys =  0.29 CPU)
Result: PASS

------------------------------
PREREQUISITES
------------------------------

Prerequisite modules loaded:

requires:

    Module              Need  Have    
    ------------------- ----- --------
    perl                5.006 5.021009

build_requires:

    Module              Need  Have    
    ------------------- ----- --------
    ExtUtils::MakeMaker 0     7.04    

configure_requires:

    Module              Need  Have    
    ------------------- ----- --------
    ExtUtils::MakeMaker 0     7.04    


------------------------------
ENVIRONMENT AND OTHER CONTEXT
------------------------------

Environment variables:

    AUTOMATED_TESTING = 1
    LANG = en_US.UTF-8
    LANGUAGE = en_US:en
    PATH = /home/sand/bin:/usr/local/bin:/usr/bin:/bin:/usr/games:/usr/local/perl/bin:/usr/X11/bin:/sbin:/usr/sbin
    PERL5LIB = 
    PERL5OPT = 
    PERL5_CPANPLUS_IS_RUNNING = 29565
    PERL5_CPAN_IS_RUNNING = 29565
    PERL_MM_USE_DEFAULT = 1
    SHELL = /usr/bin/zsh
    TERM = screen

Perl special variables (and OS-specific diagnostics, for MSWin32):

    $^X = /home/sand/src/perl/repoperls/installed-perls/perl/v5.21.9/a2da/bin/perl
    $UID/$EUID = 1005 / 1005
    $GID = 1005 1005
    $EGID = 1005 1005

Perl module toolchain versions installed:

    Module              Have        
    ------------------- ------------
    CPAN                2.05        
    CPAN::Meta          2.150001    
    Cwd                 3.54        
    ExtUtils::CBuilder  0.280221    
    ExtUtils::Command   1.20        
    ExtUtils::Install   2.04        
    ExtUtils::MakeMaker 7.04        
    ExtUtils::Manifest  1.70        
    ExtUtils::ParseXS   3.27        
    File::Spec          3.53        
    JSON                2.90        
    JSON::PP            2.27300     
    Module::Build       0.4211      
    Module::Signature   0.73        
    Parse::CPAN::Meta   1.4414      
    Test::Harness       3.35        
    Test::More          1.301001_099
    YAML                1.14        
    YAML::Syck          1.29        
    version             0.9909      


--

Summary of my perl5 (revision 5 version 21 subversion 9) configuration:
  Commit id: 9200eb3463082f416cc7f441ae6ec39829d1e46a
  Platform:
    osname=linux, osvers=3.16.0-4-amd64, archname=x86_64-linux-thread-multi-ld
    uname='linux k83 3.16.0-4-amd64 #1 smp debian 3.16.7-ckt7-1 (2015-03-01) x86_64 gnulinux '
    config_args='-Dprefix=/home/sand/src/perl/repoperls/installed-perls/perl/v5.21.9/a2da -Dmyhostname=k83 -Dinstallusrbinperl=n -Uversiononly -Dusedevel -des -Ui_db -Duseithreads -Duselongdouble -DDEBUGGING=-g'
    hint=recommended, useposix=true, d_sigaction=define
    useithreads=define, usemultiplicity=define
    use64bitint=define, use64bitall=define, uselongdouble=define
    usemymalloc=n, bincompat5005=undef
  Compiler:
    cc='cc', ccflags ='-D_REENTRANT -D_GNU_SOURCE -fwrapv -fno-strict-aliasing -pipe -fstack-protector-strong -I/usr/local/include -D_LARGEFILE_SOURCE -D_FILE_OFFSET_BITS=64 -D_FORTIFY_SOURCE=2',
    optimize='-O2 -g',
    cppflags='-D_REENTRANT -D_GNU_SOURCE -fwrapv -fno-strict-aliasing -pipe -fstack-protector-strong -I/usr/local/include'
    ccversion='', gccversion='4.9.2', gccosandvers=''
    intsize=4, longsize=8, ptrsize=8, doublesize=8, byteorder=12345678, doublekind=3
    d_longlong=define, longlongsize=8, d_longdbl=define, longdblsize=16, longdblkind=3
    ivtype='long', ivsize=8, nvtype='long double', nvsize=16, Off_t='off_t', lseeksize=8
    alignbytes=16, prototype=define
  Linker and Libraries:
    ld='cc', ldflags =' -fstack-protector-strong -L/usr/local/lib'
    libpth=/usr/local/lib /usr/lib/gcc/x86_64-linux-gnu/4.9/include-fixed /usr/include/x86_64-linux-gnu /usr/lib /lib/x86_64-linux-gnu /lib/../lib /usr/lib/x86_64-linux-gnu /usr/lib/../lib /lib
    libs=-lpthread -lnsl -lgdbm -ldb -ldl -lm -lcrypt -lutil -lc -lgdbm_compat
    perllibs=-lpthread -lnsl -ldl -lm -lcrypt -lutil -lc
    libc=libc-2.19.so, so=so, useshrplib=false, libperl=libperl.a
    gnulibc_version='2.19'
  Dynamic Linking:
    dlsrc=dl_dlopen.xs, dlext=so, d_dlsymun=undef, ccdlflags='-Wl,-E'
    cccdlflags='-fPIC', lddlflags='-shared -O2 -g -L/usr/local/lib -fstack-protector-strong'


Characteristics of this binary (from libperl): 
  Compile-time options: HAS_TIMES MULTIPLICITY PERLIO_LAYERS
                        PERL_DONT_CREATE_GVSV
                        PERL_HASH_FUNC_ONE_AT_A_TIME_HARD
                        PERL_IMPLICIT_CONTEXT PERL_MALLOC_WRAP
                        PERL_NEW_COPY_ON_WRITE PERL_PRESERVE_IVUV
                        PERL_USE_DEVEL USE_64_BIT_ALL USE_64_BIT_INT
                        USE_ITHREADS USE_LARGE_FILES USE_LOCALE
                        USE_LOCALE_COLLATE USE_LOCALE_CTYPE
                        USE_LOCALE_NUMERIC USE_LOCALE_TIME USE_LONG_DOUBLE
                        USE_PERLIO USE_PERL_ATOF USE_REENTRANT_API
  Built under linux
  Compiled at Mar  7 2015 08:22:24
  %ENV:
    PERL5LIB=""
    PERL5OPT=""
    PERL5_CPANPLUS_IS_RUNNING="29565"
    PERL5_CPAN_IS_RUNNING="29565"
    PERL_MM_USE_DEFAULT="1"
  @INC:
    /home/sand/src/perl/repoperls/installed-perls/perl/v5.21.9/a2da/lib/site_perl/5.21.9/x86_64-linux-thread-multi-ld
    /home/sand/src/perl/repoperls/installed-perls/perl/v5.21.9/a2da/lib/site_perl/5.21.9
    /home/sand/src/perl/repoperls/installed-perls/perl/v5.21.9/a2da/lib/5.21.9/x86_64-linux-thread-multi-ld
    /home/sand/src/perl/repoperls/installed-perls/perl/v5.21.9/a2da/lib/5.21.9
    .