Back
From: metabase:user:30f4dfbe-2aae-11df-837a-5e0a49663a4f
Subject: PASS CPU-Z80-Disassembler-0.05 v5.14.2 GNU/Linux
Date: 2015-12-29T03:07:16Z
This distribution has been tested as part of the CPAN Testers
project, supporting the Perl programming language. See
http://wiki.cpantesters.org/ for more information or email
questions to cpan-testers-discuss@perl.org
--
Dear Paulo Custodio,
This is a computer-generated report for CPU-Z80-Disassembler-0.05
on perl 5.14.2, created by CPAN-Reporter-1.2015.
Thank you for uploading your work to CPAN. Congratulations!
All tests were successful.
Sections of this report:
* Tester comments
* Program output
* Prerequisites
* Environment and other context
------------------------------
TESTER COMMENTS
------------------------------
Additional comments from tester:
this report is from an automated smoke testing program
and was not reviewed by a human for accuracy
------------------------------
PROGRAM OUTPUT
------------------------------
Output from '/usr/bin/make test':
PERL_DL_NONLAZY=1 "/home/njh/perl5/perlbrew/perls/perl-5.14.2/bin/perl" "-MExtUtils::Command::MM" "-MTest::Harness" "-e" "undef *Test::Harness::Switches; test_harness(0, 'blib/lib', 'blib/arch')" t/*.t
# Testing CPU::Z80::Disassembler 0.05, Perl 5.014002, /home/njh/perl5/perlbrew/perls/perl-5.14.2/bin/perl
t/00-load.t ....... ok
t/dis_zx48.t ...... ok
t/Disassembler.t .. ok
t/Format.t ........ ok
t/Instruction.t ... ok
t/Label.t ......... ok
t/Labels.t ........ ok
t/manifest.t ...... skipped: Author tests not required for installation
t/Memory.t ........ ok
t/pod-coverage.t .. ok
t/pod.t ........... ok
All tests successful.
Files=11, Tests=1253, 8 wallclock secs ( 0.12 usr 0.01 sys + 8.35 cusr 0.11 csys = 8.59 CPU)
Result: PASS
------------------------------
PREREQUISITES
------------------------------
Prerequisite modules loaded:
requires:
Module Need Have
------------------- ------- --------
Asm::Z80::Table 0.02 0.02
Bit::Vector 7.1 7.4
Carp 0 1.32
Class::XSAccessor 1.08 1.19
CPU::Z80::Assembler 2.13 2.14
File::Basename 0 2.82
File::Slurp 9999.12 9999.19
Getopt::Std 0 1.06
perl 5.01 5.014002
Test::More 0.96 1.001014
Test::Output 0.16 1.03
Tie::File 0.96 0.98
build_requires:
Module Need Have
------------------- ------- --------
ExtUtils::MakeMaker 0 7.10
------------------------------
ENVIRONMENT AND OTHER CONTEXT
------------------------------
Environment variables:
AUTOMATED_TESTING = 1
LANG = en_GB.UTF-8
LANGUAGE = en_GB:en
LD_LIBRARY_PATH = /usr/local/lib::
PATH = /home/njh/perl5/perlbrew/bin:/home/njh/perl5/perlbrew/perls/perl-5.14.2/bin:/home/njh/perl5/perlbrew/bin:/usr/local/bin:/usr/bin:/bin:/usr/local/games:/usr/games:/home/njh/bin:/sbin
PERL5LIB = /home/njh/.cpan/build/CPU-Z80-Assembler-2.14-14hldN/blib/arch:/home/njh/.cpan/build/CPU-Z80-Assembler-2.14-14hldN/blib/lib:/home/njh/.cpan/build/Asm-Preproc-1.01-WcqIc1/blib/arch:/home/njh/.cpan/build/Asm-Preproc-1.01-WcqIc1/blib/lib:/home/njh/.cpan/build/Iterator-Simple-Lookahead-0.07-l17huO/blib/arch:/home/njh/.cpan/build/Iterator-Simple-Lookahead-0.07-l17huO/blib/lib:/home/njh/.cpan/build/Iterator-Simple-0.06-0Ts_z8/blib/arch:/home/njh/.cpan/build/Iterator-Simple-0.06-0Ts_z8/blib/lib:/home/njh/.cpan/build/Class-XSAccessor-1.19-oKKgMC/blib/arch:/home/njh/.cpan/build/Class-XSAccessor-1.19-oKKgMC/blib/lib:/home/njh/.cpan/build/Regexp-Trie-0.02-3oDn5r/blib/arch:/home/njh/.cpan/build/Regexp-Trie-0.02-3oDn5r/blib/lib:/home/njh/.cpan/build/Asm-Z80-Table-0.02-urAMga/blib/arch:/home/njh/.cpan/build/Asm-Z80-Table-0.02-urAMga/blib/lib:/home/njh/.cpan/build/Iterator-Array-Jagged-0.05-F770IS/blib/arch:/home/njh/.cpan/build/Iterator-Array-Jagged-0.05-F770IS/blib/lib
PERL5OPT =
PERL5_CPANPLUS_IS_RUNNING = 10882
PERL5_CPAN_IS_RUNNING = 10882
PERL5_MINISMOKEBOX = 0.58
PERLBREW_BASHRC_VERSION = 0.73
PERLBREW_HOME = /home/njh/.perlbrew
PERLBREW_LIB =
PERLBREW_MANPATH = /home/njh/perl5/perlbrew/perls/perl-5.14.2/man
PERLBREW_PATH = /home/njh/perl5/perlbrew/bin:/home/njh/perl5/perlbrew/perls/perl-5.14.2/bin
PERLBREW_PERL = perl-5.14.2
PERLBREW_ROOT = /home/njh/perl5/perlbrew
PERLBREW_VERSION = 0.73
PERL_EXTUTILS_AUTOINSTALL = --defaultdeps
PERL_LOCAL_LIB_ROOT =
PERL_MM_USE_DEFAULT = 1
SHELL = /bin/bash
TMPDIR = /home/njh/tmp
Perl special variables (and OS-specific diagnostics, for MSWin32):
$^X = /home/njh/perl5/perlbrew/perls/perl-5.14.2/bin/perl
$UID/$EUID = 1000 / 1000
$GID = 1000 4 24 25 29 30 44 46 108 112 1000
$EGID = 1000 4 24 25 29 30 44 46 108 112 1000
Perl module toolchain versions installed:
Module Have
------------------- --------
CPAN 1.9800
CPAN::Meta 2.150005
Cwd 3.47
ExtUtils::CBuilder 0.280223
ExtUtils::Command 7.10
ExtUtils::Install 1.56
ExtUtils::MakeMaker 7.10
ExtUtils::Manifest 1.70
ExtUtils::ParseXS 3.22
File::Spec 3.47
JSON 2.61
JSON::PP 2.27203
Module::Build 0.4214
Module::Signature 0.73
Parse::CPAN::Meta 1.4417
Test::Harness 3.35
Test::More 1.001014
YAML 1.15
YAML::Syck 1.29
version 0.9904
--
Summary of my perl5 (revision 5 version 14 subversion 2) configuration:
Platform:
osname=linux, osvers=3.2.0-4-amd64, archname=x86_64-linux-thread-multi
uname='linux nigelhorne.force9.co.uk 3.2.0-4-amd64 #1 smp debian 3.2.32-1 x86_64 gnulinux '
config_args='-de -Dprefix=/home/njh/perl5/perlbrew/perls/perl-5.14.2 -Duseithreads -Dusemultiplicity -Accflags=-O2 -W -Wformat=2 -Wswitch -Wshadow -Wwrite-strings -Wuninitialized -Wall -pipe -mtune=native -march=native -fomit-frame-pointer -msse2 -msse -mmmx -mfpmath=sse -pedantic -D_FORTIFY_SOURCE=2 -Wpointer-arith -Wstrict-prototypes -fstack-protector -Wstack-protector -Wextra -Wbad-function-cast -Wcast-align -Wcast-qual -Wdisabled-optimization -Wendif-labels -Wfloat-equal -Wformat-nonliteral -Winline -Wmissing-declarations -Wmissing-prototypes -Wnested-externs -Wpointer-arith -Wundef -Wformat-security -ftree-vectorize -fassociative-math -ftree-vectorizer-verbose=2 -Aeval:scriptdir=/home/njh/perl5/perlbrew/perls/perl-5.14.2/bin'
hint=recommended, useposix=true, d_sigaction=define
useithreads=define, usemultiplicity=define
useperlio=define, d_sfio=undef, uselargefiles=define, usesocks=undef
use64bitint=define, use64bitall=define, uselongdouble=undef
usemymalloc=n, bincompat5005=undef
Compiler:
cc='cc', ccflags ='-D_REENTRANT -D_GNU_SOURCE -O2 -W -Wformat=2 -Wswitch -Wshadow -Wwrite-strings -Wuninitialized -Wall -pipe -mtune=native -march=native -fomit-frame-pointer -msse2 -msse -mmmx -mfpmath=sse -pedantic -D_FORTIFY_SOURCE=2 -Wpointer-arith -Wstrict-prototypes -fstack-protector -Wstack-protector -Wextra -Wbad-function-cast -Wcast-align -Wcast-qual -Wdisabled-optimization -Wendif-labels -Wfloat-equal -Wformat-nonliteral -Winline -Wmissing-declarations -Wmissing-prototypes -Wnested-externs -Wpointer-arith -Wundef -Wformat-security -ftree-vectorize -fassociative-math -ftree-vectorizer-verbose=2 -fno-strict-aliasing -I/usr/local/include -D_LARGEFILE_SOURCE -D_FILE_OFFSET_BITS=64',
optimize='-O2',
cppflags='-D_REENTRANT -D_GNU_SOURCE -O2 -W -Wformat=2 -Wswitch -Wshadow -Wwrite-strings -Wuninitialized -Wall -pipe -mtune=native -march=native -fomit-frame-pointer -msse2 -msse -mmmx -mfpmath=sse -pedantic -D_FORTIFY_SOURCE=2 -Wpointer-arith -Wstrict-prototypes -fstack-protector -Wstack-protector -Wextra -Wbad-function-cast -Wcast-align -Wcast-qual -Wdisabled-optimization -Wendif-labels -Wfloat-equal -Wformat-nonliteral -Winline -Wmissing-declarations -Wmissing-prototypes -Wnested-externs -Wpointer-arith -Wundef -Wformat-security -ftree-vectorize -fassociative-math -ftree-vectorizer-verbose=2 -fno-strict-aliasing -I/usr/local/include'
ccversion='', gccversion='4.7.2', gccosandvers=''
intsize=4, longsize=8, ptrsize=8, doublesize=8, byteorder=12345678
d_longlong=define, longlongsize=8, d_longdbl=define, longdblsize=16
ivtype='long', ivsize=8, nvtype='double', nvsize=8, Off_t='off_t', lseeksize=8
alignbytes=8, prototype=define
Linker and Libraries:
ld='cc', ldflags =' -fstack-protector -L/usr/local/lib'
libpth=/usr/local/lib /lib/x86_64-linux-gnu /lib/../lib /usr/lib/x86_64-linux-gnu /usr/lib/../lib /lib /usr/lib
libs=-lnsl -lgdbm -ldb -ldl -lm -lcrypt -lutil -lpthread -lc -lgdbm_compat
perllibs=-lnsl -ldl -lm -lcrypt -lutil -lpthread -lc
libc=, so=so, useshrplib=false, libperl=libperl.a
gnulibc_version='2.13'
Dynamic Linking:
dlsrc=dl_dlopen.xs, dlext=so, d_dlsymun=undef, ccdlflags='-Wl,-E'
cccdlflags='-fPIC', lddlflags='-shared -O2 -L/usr/local/lib -fstack-protector'
Characteristics of this binary (from libperl):
Compile-time options: MULTIPLICITY PERL_DONT_CREATE_GVSV
PERL_IMPLICIT_CONTEXT PERL_MALLOC_WRAP
PERL_PRESERVE_IVUV USE_64_BIT_ALL USE_64_BIT_INT
USE_ITHREADS USE_LARGE_FILES USE_PERLIO USE_PERL_ATOF
USE_REENTRANT_API
Built under linux
Compiled at Mar 14 2013 13:54:53
%ENV:
PERL5LIB="/home/njh/.cpan/build/CPU-Z80-Assembler-2.14-14hldN/blib/arch:/home/njh/.cpan/build/CPU-Z80-Assembler-2.14-14hldN/blib/lib:/home/njh/.cpan/build/Asm-Preproc-1.01-WcqIc1/blib/arch:/home/njh/.cpan/build/Asm-Preproc-1.01-WcqIc1/blib/lib:/home/njh/.cpan/build/Iterator-Simple-Lookahead-0.07-l17huO/blib/arch:/home/njh/.cpan/build/Iterator-Simple-Lookahead-0.07-l17huO/blib/lib:/home/njh/.cpan/build/Iterator-Simple-0.06-0Ts_z8/blib/arch:/home/njh/.cpan/build/Iterator-Simple-0.06-0Ts_z8/blib/lib:/home/njh/.cpan/build/Class-XSAccessor-1.19-oKKgMC/blib/arch:/home/njh/.cpan/build/Class-XSAccessor-1.19-oKKgMC/blib/lib:/home/njh/.cpan/build/Regexp-Trie-0.02-3oDn5r/blib/arch:/home/njh/.cpan/build/Regexp-Trie-0.02-3oDn5r/blib/lib:/home/njh/.cpan/build/Asm-Z80-Table-0.02-urAMga/blib/arch:/home/njh/.cpan/build/Asm-Z80-Table-0.02-urAMga/blib/lib:/home/njh/.cpan/build/Iterator-Array-Jagged-0.05-F770IS/blib/arch:/home/njh/.cpan/build/Iterator-Array-Jagged-0.05-F770IS/blib/lib"
PERL5OPT=""
PERL5_CPANPLUS_IS_RUNNING="10882"
PERL5_CPAN_IS_RUNNING="10882"
PERL5_MINISMOKEBOX="0.58"
PERLBREW_BASHRC_VERSION="0.73"
PERLBREW_HOME="/home/njh/.perlbrew"
PERLBREW_LIB=""
PERLBREW_MANPATH="/home/njh/perl5/perlbrew/perls/perl-5.14.2/man"
PERLBREW_PATH="/home/njh/perl5/perlbrew/bin:/home/njh/perl5/perlbrew/perls/perl-5.14.2/bin"
PERLBREW_PERL="perl-5.14.2"
PERLBREW_ROOT="/home/njh/perl5/perlbrew"
PERLBREW_VERSION="0.73"
PERL_EXTUTILS_AUTOINSTALL="--defaultdeps"
PERL_LOCAL_LIB_ROOT=""
PERL_MM_USE_DEFAULT="1"
@INC:
/home/njh/.cpan/build/CPU-Z80-Assembler-2.14-14hldN/blib/arch
/home/njh/.cpan/build/CPU-Z80-Assembler-2.14-14hldN/blib/lib
/home/njh/.cpan/build/Asm-Preproc-1.01-WcqIc1/blib/arch
/home/njh/.cpan/build/Asm-Preproc-1.01-WcqIc1/blib/lib
/home/njh/.cpan/build/Iterator-Simple-Lookahead-0.07-l17huO/blib/arch
/home/njh/.cpan/build/Iterator-Simple-Lookahead-0.07-l17huO/blib/lib
/home/njh/.cpan/build/Iterator-Simple-0.06-0Ts_z8/blib/arch
/home/njh/.cpan/build/Iterator-Simple-0.06-0Ts_z8/blib/lib
/home/njh/.cpan/build/Class-XSAccessor-1.19-oKKgMC/blib/arch
/home/njh/.cpan/build/Class-XSAccessor-1.19-oKKgMC/blib/lib
/home/njh/.cpan/build/Regexp-Trie-0.02-3oDn5r/blib/arch
/home/njh/.cpan/build/Regexp-Trie-0.02-3oDn5r/blib/lib
/home/njh/.cpan/build/Asm-Z80-Table-0.02-urAMga/blib/arch
/home/njh/.cpan/build/Asm-Z80-Table-0.02-urAMga/blib/lib
/home/njh/.cpan/build/Iterator-Array-Jagged-0.05-F770IS/blib/arch
/home/njh/.cpan/build/Iterator-Array-Jagged-0.05-F770IS/blib/lib
/home/njh/perl5/perlbrew/perls/perl-5.14.2/lib/site_perl/5.14.2/x86_64-linux-thread-multi
/home/njh/perl5/perlbrew/perls/perl-5.14.2/lib/site_perl/5.14.2
/home/njh/perl5/perlbrew/perls/perl-5.14.2/lib/5.14.2/x86_64-linux-thread-multi
/home/njh/perl5/perlbrew/perls/perl-5.14.2/lib/5.14.2
.