Report for String-Unescape-v0.0.3

Back
From: metabase:user:838e5b0a-2bb6-1016-a696-43a2537fa0c6
Subject: PASS String-Unescape-v0.0.3 v5.20.1 OpenBSD
Date: 2015-01-03T03:11:52Z

This distribution has been tested as part of the CPAN Testers
project, supporting the Perl programming language.  See
http://wiki.cpantesters.org/ for more information or email
questions to cpan-testers-discuss@perl.org


--
Dear Yasutaka ATARASHI,

This is a computer-generated report for String-Unescape-v0.0.3
on perl 5.20.1, created by CPAN-Reporter-1.2011.

Thank you for uploading your work to CPAN.  Congratulations!
All tests were successful.

Sections of this report:

    * Tester comments
    * Program output
    * Prerequisites
    * Environment and other context

------------------------------
TESTER COMMENTS
------------------------------

Additional comments from tester:

this report is from an automated smoke testing program
and was not reviewed by a human for accuracy

------------------------------
PROGRAM OUTPUT
------------------------------

Output from '/usr/bin/make test':

PERL_DL_NONLAZY=1 /home/perluser/perl5/perlbrew/perls/perl-5.20.1/bin/perl "-MExtUtils::Command::MM" "-MTest::Harness" "-e" "undef *Test::Harness::Switches; test_harness(0, 'blib/lib', 'blib/arch')" t/*.t
t/00-compile.t ............ ok
t/author-critic.t ......... skipped: these tests are for testing by the author
Character following "\c" must be printable ASCII at (eval 11) line 1.
Character following "\c" must be printable ASCII at (eval 11) line 1.
Character following "\c" must be printable ASCII at (eval 11) line 1.
Character following "\c" must be printable ASCII at (eval 11) line 1.
Character following "\c" must be printable ASCII at (eval 11) line 1.
Character following "\c" must be printable ASCII at (eval 11) line 1.
Character following "\c" must be printable ASCII at (eval 11) line 1.
Character following "\c" must be printable ASCII at (eval 11) line 1.
Character following "\c" must be printable ASCII at (eval 11) line 1.
Character following "\c" must be printable ASCII at (eval 11) line 1.
Character following "\c" must be printable ASCII at (eval 11) line 1.
Character following "\c" must be printable ASCII at (eval 11) line 1.
Character following "\c" must be printable ASCII at (eval 11) line 1.
Character following "\c" must be printable ASCII at (eval 11) line 1.
Character following "\c" must be printable ASCII at (eval 11) line 1.
Character following "\c" must be printable ASCII at (eval 11) line 1.
Character following "\c" must be printable ASCII at (eval 11) line 1.
Character following "\c" must be printable ASCII at (eval 11) line 1.
Character following "\c" must be printable ASCII at (eval 11) line 1.
Character following "\c" must be printable ASCII at (eval 11) line 1.
Character following "\c" must be printable ASCII at (eval 11) line 1.
Character following "\c" must be printable ASCII at (eval 11) line 1.
Character following "\c" must be printable ASCII at (eval 11) line 1.
Character following "\c" must be printable ASCII at (eval 11) line 1.
Character following "\c" must be printable ASCII at (eval 11) line 1.
Character following "\c" must be printable ASCII at (eval 11) line 1.
Character following "\c" must be printable ASCII at (eval 11) line 1.
Character following "\c" must be printable ASCII at (eval 11) line 1.
Character following "\c" must be printable ASCII at (eval 11) line 1.
Character following "\c" must be printable ASCII at (eval 11) line 1.
Character following "\c" must be printable ASCII at (eval 11) line 1.
Character following "\c" must be printable ASCII at (eval 11) line 1.
Character following "\c" must be printable ASCII at (eval 11) line 1.
t/basic.t ................. ok
t/case_and_meta.t ......... ok
t/exceptional.t ........... ok
t/limitation.t ............ ok
t/quirks_in_perl.t ........ ok
t/release-kwalitee.t ...... skipped: these tests are for release candidate testing
t/release-pod-coverage.t .. skipped: these tests are for release candidate testing
t/release-pod-syntax.t .... skipped: these tests are for release candidate testing
All tests successful.
Files=10, Tests=50,  1 wallclock secs ( 0.03 usr  0.07 sys +  0.36 cusr  0.15 csys =  0.61 CPU)
Result: PASS

------------------------------
PREREQUISITES
------------------------------

Prerequisite modules loaded:

build_requires:

    Module              Need Have    
    ------------------- ---- --------
    File::Spec          0    3.48    
    IO::Handle          0    1.35    
    IPC::Open3          0    1.16    
    Test::Exception     0    0.35    
    Test::More          0    1.001002

configure_requires:

    Module              Need Have    
    ------------------- ---- --------
    ExtUtils::MakeMaker 6.30 6.98    


------------------------------
ENVIRONMENT AND OTHER CONTEXT
------------------------------

Environment variables:

    AUTOMATED_TESTING = 1
    PATH = /home/perluser/perl5/perlbrew/bin:/home/perluser/perl5/perlbrew/perls/perl-5.20.1/bin:/home/perluser/bin:/bin:/sbin:/usr/bin:/usr/sbin:/usr/X11R6/bin:/usr/local/bin:/usr/local/sbin:/usr/games:.
    PERL5LIB = /home/perluser/.cpan/build/Test-Exception-0.35-9XuX6P/blib/arch:/home/perluser/.cpan/build/Test-Exception-0.35-9XuX6P/blib/lib
    PERL5OPT = 
    PERL5_CPANPLUS_IS_RUNNING = 31585
    PERL5_CPAN_IS_RUNNING = 31585
    PERL5_CPAN_IS_RUNNING_IN_RECURSION = 24978,31585
    PERLBREW_BASHRC_VERSION = 0.71
    PERLBREW_HOME = /home/perluser/.perlbrew
    PERLBREW_MANPATH = /home/perluser/perl5/perlbrew/perls/perl-5.20.1/man
    PERLBREW_PATH = /home/perluser/perl5/perlbrew/bin:/home/perluser/perl5/perlbrew/perls/perl-5.20.1/bin
    PERLBREW_PERL = perl-5.20.1
    PERLBREW_ROOT = /home/perluser/perl5/perlbrew
    PERLBREW_VERSION = 0.71
    PERL_CR_SMOKER_CURRENT = String-Unescape-v0.0.3
    PERL_EXTUTILS_AUTOINSTALL = --defaultdeps
    PERL_MM_USE_DEFAULT = 1
    SHELL = /bin/ksh
    TERM = xterm

Perl special variables (and OS-specific diagnostics, for MSWin32):

    $^X = /home/perluser/perl5/perlbrew/perls/perl-5.20.1/bin/perl
    $UID/$EUID = 1000 / 1000
    $GID = 1000 1000
    $EGID = 1000 1000

Perl module toolchain versions installed:

    Module              Have    
    ------------------- --------
    CPAN                2.05    
    CPAN::Meta          2.142690
    Cwd                 3.48    
    ExtUtils::CBuilder  0.280217
    ExtUtils::Command   1.18    
    ExtUtils::Install   1.67    
    ExtUtils::MakeMaker 6.98    
    ExtUtils::Manifest  1.63    
    ExtUtils::ParseXS   3.24    
    File::Spec          3.48    
    JSON                2.90    
    JSON::PP            2.27203 
    Module::Build       0.4210  
    Module::Signature   n/a     
    Parse::CPAN::Meta   1.4414  
    Test::Harness       3.30    
    Test::More          1.001002
    YAML                1.13    
    YAML::Syck          n/a     
    version             0.9909  


--

Summary of my perl5 (revision 5 version 20 subversion 1) configuration:
   
  Platform:
    osname=openbsd, osvers=5.5, archname=OpenBSD.amd64-openbsd
    uname='openbsd openbsd-test.manor.solimano.org 5.5 generic#271 amd64 '
    config_args='-de -Dprefix=/home/perluser/perl5/perlbrew/perls/perl-5.20.1 -Aeval:scriptdir=/home/perluser/perl5/perlbrew/perls/perl-5.20.1/bin'
    hint=recommended, useposix=true, d_sigaction=define
    useithreads=undef, usemultiplicity=undef
    use64bitint=define, use64bitall=define, uselongdouble=undef
    usemymalloc=n, bincompat5005=undef
  Compiler:
    cc='cc', ccflags ='-fno-strict-aliasing -pipe -fstack-protector -I/usr/local/include',
    optimize='-O2',
    cppflags='-fno-strict-aliasing -pipe -fstack-protector -I/usr/local/include'
    ccversion='', gccversion='4.2.1 20070719 ', gccosandvers='openbsd5.5'
    intsize=4, longsize=8, ptrsize=8, doublesize=8, byteorder=12345678
    d_longlong=define, longlongsize=8, d_longdbl=define, longdblsize=16
    ivtype='long', ivsize=8, nvtype='double', nvsize=8, Off_t='off_t', lseeksize=8
    alignbytes=8, prototype=define
  Linker and Libraries:
    ld='cc', ldflags ='-Wl,-E  -fstack-protector -L/usr/local/lib'
    libpth=/usr/lib /usr/local/lib
    libs=-lm -lutil -lc
    perllibs=-lm -lutil -lc
    libc=/usr/lib/libc.so.73.1, so=so, useshrplib=false, libperl=libperl.a
    gnulibc_version=''
  Dynamic Linking:
    dlsrc=dl_dlopen.xs, dlext=so, d_dlsymun=undef, ccdlflags=' '
    cccdlflags='-DPIC -fPIC ', lddlflags='-shared -fPIC  -L/usr/local/lib -fstack-protector'


Characteristics of this binary (from libperl): 
  Compile-time options: HAS_TIMES PERLIO_LAYERS PERL_DONT_CREATE_GVSV
                        PERL_HASH_FUNC_ONE_AT_A_TIME_HARD PERL_MALLOC_WRAP
                        PERL_NEW_COPY_ON_WRITE PERL_PRESERVE_IVUV
                        USE_64_BIT_ALL USE_64_BIT_INT USE_LARGE_FILES
                        USE_LOCALE USE_LOCALE_COLLATE USE_LOCALE_CTYPE
                        USE_LOCALE_NUMERIC USE_PERLIO USE_PERL_ATOF
  Built under openbsd
  Compiled at Oct 17 2014 18:14:34
  %ENV:
    PERL5LIB="/home/perluser/.cpan/build/Test-Exception-0.35-9XuX6P/blib/arch:/home/perluser/.cpan/build/Test-Exception-0.35-9XuX6P/blib/lib"
    PERL5OPT=""
    PERL5_CPANPLUS_IS_RUNNING="31585"
    PERL5_CPAN_IS_RUNNING="31585"
    PERL5_CPAN_IS_RUNNING_IN_RECURSION="24978,31585"
    PERLBREW_BASHRC_VERSION="0.71"
    PERLBREW_HOME="/home/perluser/.perlbrew"
    PERLBREW_MANPATH="/home/perluser/perl5/perlbrew/perls/perl-5.20.1/man"
    PERLBREW_PATH="/home/perluser/perl5/perlbrew/bin:/home/perluser/perl5/perlbrew/perls/perl-5.20.1/bin"
    PERLBREW_PERL="perl-5.20.1"
    PERLBREW_ROOT="/home/perluser/perl5/perlbrew"
    PERLBREW_VERSION="0.71"
    PERL_CR_SMOKER_CURRENT="String-Unescape-v0.0.3"
    PERL_EXTUTILS_AUTOINSTALL="--defaultdeps"
    PERL_MM_USE_DEFAULT="1"
  @INC:
    /home/perluser/.cpan/build/Test-Exception-0.35-9XuX6P/blib/arch
    /home/perluser/.cpan/build/Test-Exception-0.35-9XuX6P/blib/lib
    /home/perluser/perl5/perlbrew/perls/perl-5.20.1/lib/site_perl/5.20.1/OpenBSD.amd64-openbsd
    /home/perluser/perl5/perlbrew/perls/perl-5.20.1/lib/site_perl/5.20.1
    /home/perluser/perl5/perlbrew/perls/perl-5.20.1/lib/5.20.1/OpenBSD.amd64-openbsd
    /home/perluser/perl5/perlbrew/perls/perl-5.20.1/lib/5.20.1
    .