Text-VimColor v0.28 Perl 5 v5.28.0 RC2 x86_64-linux

Status
Pass
From
Slaven Rezić (SREZIC)
Dist
Text-VimColor v0.28
Platform
Perl 5 v5.28.0 RC2 x86_64-linux
Date
2018-06-07 15:20:09
ID
441436b6-6a66-11e8-877e-9e3d5c114783
This distribution has been tested as part of the CPAN Testers
project, supporting the Perl programming language.  See
http://wiki.cpantesters.org/ for more information or email
questions to cpan-testers-discuss@perl.org


--
Dear Randy Stauner,

This is a computer-generated report for Text-VimColor-0.28
on perl 5.28.0, created by CPAN-Reporter-1.2018.

Thank you for uploading your work to CPAN.  Congratulations!
All tests were successful.

Sections of this report:

    * Tester comments
    * Program output
    * Prerequisites
    * Environment and other context

------------------------------
TESTER COMMENTS
------------------------------

Additional comments from tester:

none provided

------------------------------
PROGRAM OUTPUT
------------------------------

Output from '/usr/bin/make test':

Skip blib/lib/auto/share/dist/Text-VimColor/light.xsl (unchanged)
Skip blib/lib/auto/share/dist/Text-VimColor/define_all.vim (unchanged)
Skip blib/lib/auto/share/dist/Text-VimColor/mark.vim (unchanged)
Skip blib/lib/auto/share/dist/Text-VimColor/light.css (unchanged)
PERL_DL_NONLAZY=1 "/opt/perl-5.28.0-RC2/bin/perl" "-MExtUtils::Command::MM" "-MTest::Harness" "-e" "undef *Test::Harness::Switches; test_harness(0, 'blib/lib', 'blib/arch')" t/*.t
t/00-compile.t ......... ok
# 
# Versions for all modules listed in MYMETA.json (including optional ones):
# 
# === Configure Requires ===
# 
#     Module                  Want   Have
#     ----------------------- ---- ------
#     ExtUtils::MakeMaker      any   7.34
#     File::ShareDir::Install 0.06   0.13
#     File::Temp               any 0.2304
#     IO::File                 any   1.39
#     IPC::Open3               any   1.20
#     strict                   any   1.11
#     warnings                 any   1.42
# 
# === Build Requires ===
# 
#     Module              Want Have
#     ------------------- ---- ----
#     ExtUtils::MakeMaker  any 7.34
# 
# === Test Requires ===
# 
#     Module                     Want     Have
#     -------------------------- ---- --------
#     Exporter                    any     5.73
#     ExtUtils::MakeMaker         any     7.34
#     File::Spec                  any     3.74
#     File::Temp                  any   0.2304
#     IO::Handle                  any     1.39
#     IPC::Open3                  any     1.20
#     Path::Class                0.04     0.37
#     Test::File::ShareDir::Dist  any 1.001002
#     Test::More                 0.88 1.302136
#     blib                       1.01     1.07
#     lib                         any     0.64
# 
# === Test Recommends ===
# 
#     Module         Want     Have
#     ---------- -------- --------
#     CPAN::Meta 2.120900 2.150010
# 
# === Runtime Requires ===
# 
#     Module          Want   Have
#     --------------- ---- ------
#     Carp             any   1.50
#     File::Copy       any   2.33
#     File::ShareDir   any  1.104
#     File::Temp       any 0.2304
#     Getopt::Long     any    2.5
#     IO::File         any   1.39
#     IPC::Open3       any   1.20
#     Path::Class     0.04   0.37
#     Symbol           any   1.08
#     Term::ANSIColor 1.03   4.06
#     constant         any   1.33
#     strict           any   1.11
#     warnings         any   1.42
# 
# === Runtime Recommends ===
# 
#     Module          Want Have
#     --------------- ---- ----
#     Term::ANSIColor    3 4.06
# 
t/00-report-prereqs.t .. ok
# vim --version
# 
# VIM - Vi IMproved 8.0 (2016 Sep 12, compiled Sep 30 2017 18:21:38)
# Inklusive der Korrekturen: 1-197, 322, 377-378, 550, 703, 706-707
# Verändert von pkg-vim-maintainers@lists.alioth.debian.org
# Übersetzt von pkg-vim-maintainers@lists.alioth.debian.org
# Riesige Version ohne GUI. Ein- (+) oder ausschließlich (-) der Eigenschaften:
# +acl             +file_in_path    +mouse_sgr       +tag_old_static
# +arabic          +find_in_path    -mouse_sysmouse  -tag_any_white
# +autocmd         +float           +mouse_urxvt     -tcl
# -balloon_eval    +folding         +mouse_xterm     +termguicolors
# -browse          -footer          +multi_byte      +terminfo
# ++builtin_terms  +fork()          +multi_lang      +termresponse
# +byte_offset     +gettext         -mzscheme        +textobjects
# +channel         -hangul_input    +netbeans_intg   +timers
# +cindent         +iconv           +num64           +title
# -clientserver    +insert_expand   +packages        -toolbar
# -clipboard       +job             +path_extra      +user_commands
# +cmdline_compl   +jumplist        -perl            +vertsplit
# +cmdline_hist    +keymap          +persistent_undo +virtualedit
# +cmdline_info    +lambda          +postscript      +visual
# +comments        +langmap         +printer         +visualextra
# +conceal         +libcall         +profile         +viminfo
# +cryptv          +linebreak       -python          +vreplace
# +cscope          +lispindent      -python3         +wildignore
# +cursorbind      +listcmds        +quickfix        +wildmenu
# +cursorshape     +localmap        +reltime         +windows
# +dialog_con      -lua             +rightleft       +writebackup
# +diff            +menu            -ruby            -X11
# +digraphs        +mksession       +scrollbind      -xfontset
# -dnd             +modify_fname    +signs           -xim
# -ebcdic          +mouse           +smartindent     -xpm
# +emacs_tags      -mouseshape      +startuptime     -xsmp
# +eval            +mouse_dec       +statusline      -xterm_clipboard
# +ex_extra        +mouse_gpm       -sun_workshop    -xterm_save
# +extra_search    -mouse_jsbterm   +syntax          
# +farsi           +mouse_netterm   +tag_binary      
#           System-vimrc-Datei: "$VIM/vimrc"
#         Benutzer-vimrc-Datei: "$HOME/.vimrc"
#  zweite Benutzer-vimrc-Datei: "~/.vim/vimrc"
#          Benutzer-exrc-Datei: "$HOME/.exrc"
#        defaults file: "$VIMRUNTIME/defaults.vim"
#      Voreinstellung für $VIM: "/usr/share/vim"
# Übersetzt: gcc -c -I. -Iproto -DHAVE_CONFIG_H   -Wdate-time  -g -O2 -fdebug-prefix-map=/build/vim-R2d1UQ/vim-8.0.0197=. -fstack-protector-strong -Wformat -Werror=format-security -U_FORTIFY_SOURCE -D_FORTIFY_SOURCE=1       
# Linken: gcc   -Wl,-z,relro -Wl,-z,now -Wl,--as-needed -o vim        -lm -ltinfo -lnsl  -lselinux -lacl -lattr -lgpm -ldl           
# 
t/000-vim-version.t .... ok
t/all-syntax-groups.t .. ok
t/ansi.t ............... ok
t/bin.t ................ ok
t/compare-formats.t .... ok
t/encoding.t ........... ok
t/html.t ............... ok
t/input_filename.t ..... ok
t/new.t ................ ok
t/override-options.t ... ok
t/share-dir.t .......... ok
t/tvctestsyn.t ......... ok
t/untie-std-handles.t .. ok
t/vim_let.t ............ ok
t/vim_options.t ........ ok
t/xml.t ................ ok
All tests successful.

Test Summary Report
-------------------
t/encoding.t         (Wstat: 0 Tests: 8 Failed: 0)
  TODO passed:   5-6
Files=18, Tests=143,  8 wallclock secs ( 0.06 usr  0.14 sys +  4.98 cusr  1.61 csys =  6.79 CPU)
Result: PASS

------------------------------
PREREQUISITES
------------------------------

Prerequisite modules loaded:

requires:

    Module                     Need     Have    
    -------------------------- -------- --------
    Carp                       0        1.50    
    constant                   0        1.33    
    File::Copy                 0        2.33    
    File::ShareDir             0        1.104   
    File::Temp                 0        0.2304  
    Getopt::Long               0        2.5     
    IO::File                   0        1.39    
    IPC::Open3                 0        1.20    
    Path::Class                0.04     0.37    
    perl                       5.006    5.028000
    strict                     0        1.11    
    Symbol                     0        1.08    
    Term::ANSIColor            1.03     4.06    
    warnings                   0        1.42    

build_requires:

    Module                     Need     Have    
    -------------------------- -------- --------
    blib                       1.01     1.07    
    Exporter                   0        5.73    
    ExtUtils::MakeMaker        0        7.34    
    File::Spec                 0        3.74    
    File::Temp                 0        0.2304  
    IO::Handle                 0        1.39    
    IPC::Open3                 0        1.20    
    lib                        0        0.64    
    Path::Class                0.04     0.37    
    Test::File::ShareDir::Dist 0        1.001002
    Test::More                 0.88     1.302136

configure_requires:

    Module                     Need     Have    
    -------------------------- -------- --------
    ExtUtils::MakeMaker        0        7.34    
    File::ShareDir::Install    0.06     0.13    
    File::Temp                 0        0.2304  
    IO::File                   0        1.39    
    IPC::Open3                 0        1.20    
    perl                       5.006    5.028000
    strict                     0        1.11    
    warnings                   0        1.42    

opt_requires:

    Module                     Need     Have    
    -------------------------- -------- --------
    Term::ANSIColor            3        4.06    

opt_build_requires:

    Module                     Need     Have    
    -------------------------- -------- --------
    CPAN::Meta                 2.120900 2.150010


------------------------------
ENVIRONMENT AND OTHER CONTEXT
------------------------------

Environment variables:

    LANG = C
    LC_ALL = de_DE.UTF-8
    PATH = /usr/local/bin:/usr/bin:/bin:/usr/local/sbin:/usr/sbin:/sbin:/home/cpansand/bin/linux-gnu:/home/cpansand/bin/sh:/home/cpansand/bin:/usr/games:/home/cpansand/devel:/home/eserte/src/srezic-misc/scripts
    PERL5LIB = 
    PERL5OPT = 
    PERL5_CPANPLUS_IS_RUNNING = 24744
    PERL5_CPAN_IS_RUNNING = 24744
    PERL5_CPAN_IS_RUNNING_IN_RECURSION = 28329,24744
    PERLDOC = -MPod::Perldoc::ToTextOverstrike
    PERL_BATCH = yes
    PERL_CANARY_STABILITY_NOPROMPT = 1
    PERL_CPAN_REPORTER_CONFIG = /var/tmp/cpansmoker-1023/2018060712/cpanreporter_000_config.ini
    PERL_EXTUTILS_AUTOINSTALL = --defaultdeps
    PERL_PARALLEL_SMOKER = yes
    PERL_USE_UNSAFE_INC = 1
    SHELL = /usr/bin/zsh
    TERM = screen
    TMPDIR = /var/tmp/cpansmoker-1023/2018060712

Perl special variables (and OS-specific diagnostics, for MSWin32):

    $^X = /opt/perl-5.28.0-RC2/bin/perl
    $UID/$EUID = 1023 / 1023
    $GID = 1023 1023
    $EGID = 1023 1023

Perl module toolchain versions installed:

    Module              Have    
    ------------------- --------
    CPAN                2.20    
    CPAN::Meta          2.150010
    Cwd                 3.74    
    ExtUtils::CBuilder  0.280230
    ExtUtils::Command   7.34    
    ExtUtils::Install   2.14    
    ExtUtils::MakeMaker 7.34    
    ExtUtils::Manifest  1.71    
    ExtUtils::ParseXS   3.39    
    File::Spec          3.74    
    JSON                2.97001 
    JSON::PP            2.97001 
    Module::Build       0.4224  
    Module::Signature   0.81    
    Parse::CPAN::Meta   2.150010
    Test::Harness       3.42    
    Test::More          1.302136
    YAML                1.26    
    YAML::Syck          1.30    
    version             0.9924  


--

Summary of my perl5 (revision 5 version 28 subversion 0) configuration:
   
  Platform:
    osname=linux
    osvers=4.9.0-3-amd64
    archname=x86_64-linux
    uname='linux debian9 4.9.0-3-amd64 #1 smp debian 4.9.30-2+deb9u5 (2017-09-19) x86_64 gnulinux '
    config_args='-ds -e -Dprefix=/opt/perl-5.28.0-RC2 -Dcf_email=srezic@cpan.org'
    hint=recommended
    useposix=true
    d_sigaction=define
    useithreads=undef
    usemultiplicity=undef
    use64bitint=define
    use64bitall=define
    uselongdouble=undef
    usemymalloc=n
    default_inc_excludes_dot=define
    bincompat5005=undef
  Compiler:
    cc='cc'
    ccflags ='-fwrapv -fno-strict-aliasing -pipe -fstack-protector-strong -I/usr/local/include -D_LARGEFILE_SOURCE -D_FILE_OFFSET_BITS=64 -D_FORTIFY_SOURCE=2'
    optimize='-O2'
    cppflags='-fwrapv -fno-strict-aliasing -pipe -fstack-protector-strong -I/usr/local/include'
    ccversion=''
    gccversion='6.3.0 20170516'
    gccosandvers=''
    intsize=4
    longsize=8
    ptrsize=8
    doublesize=8
    byteorder=12345678
    doublekind=3
    d_longlong=define
    longlongsize=8
    d_longdbl=define
    longdblsize=16
    longdblkind=3
    ivtype='long'
    ivsize=8
    nvtype='double'
    nvsize=8
    Off_t='off_t'
    lseeksize=8
    alignbytes=8
    prototype=define
  Linker and Libraries:
    ld='cc'
    ldflags =' -fstack-protector-strong -L/usr/local/lib'
    libpth=/usr/local/lib /usr/lib/gcc/x86_64-linux-gnu/6/include-fixed /usr/include/x86_64-linux-gnu /usr/lib /lib/x86_64-linux-gnu /lib/../lib /usr/lib/x86_64-linux-gnu /usr/lib/../lib /lib
    libs=-lpthread -lnsl -lgdbm -ldb -ldl -lm -lcrypt -lutil -lc -lgdbm_compat
    perllibs=-lpthread -lnsl -ldl -lm -lcrypt -lutil -lc
    libc=libc-2.24.so
    so=so
    useshrplib=false
    libperl=libperl.a
    gnulibc_version='2.24'
  Dynamic Linking:
    dlsrc=dl_dlopen.xs
    dlext=so
    d_dlsymun=undef
    ccdlflags='-Wl,-E'
    cccdlflags='-fPIC'
    lddlflags='-shared -O2 -L/usr/local/lib -fstack-protector-strong'


Characteristics of this binary (from libperl): 
  Compile-time options:
    HAS_TIMES
    PERLIO_LAYERS
    PERL_COPY_ON_WRITE
    PERL_DONT_CREATE_GVSV
    PERL_MALLOC_WRAP
    PERL_OP_PARENT
    PERL_PRESERVE_IVUV
    USE_64_BIT_ALL
    USE_64_BIT_INT
    USE_LARGE_FILES
    USE_LOCALE
    USE_LOCALE_COLLATE
    USE_LOCALE_CTYPE
    USE_LOCALE_NUMERIC
    USE_LOCALE_TIME
    USE_PERLIO
    USE_PERL_ATOF
  Locally applied patches:
    RC2
  Built under linux
  Compiled at Jun  6 2018 18:02:51
  %ENV:
    PERL5LIB=""
    PERL5OPT=""
    PERL5_CPANPLUS_IS_RUNNING="24744"
    PERL5_CPAN_IS_RUNNING="24744"
    PERL5_CPAN_IS_RUNNING_IN_RECURSION="28329,24744"
    PERLDOC="-MPod::Perldoc::ToTextOverstrike"
    PERL_BATCH="yes"
    PERL_CANARY_STABILITY_NOPROMPT="1"
    PERL_CPAN_REPORTER_CONFIG="/var/tmp/cpansmoker-1023/2018060712/cpanreporter_000_config.ini"
    PERL_EXTUTILS_AUTOINSTALL="--defaultdeps"
    PERL_PARALLEL_SMOKER="yes"
    PERL_USE_UNSAFE_INC="1"
  @INC:
    /opt/perl-5.28.0-RC2/lib/site_perl/5.28.0/x86_64-linux
    /opt/perl-5.28.0-RC2/lib/site_perl/5.28.0
    /opt/perl-5.28.0-RC2/lib/5.28.0/x86_64-linux
    /opt/perl-5.28.0-RC2/lib/5.28.0
    .