DBIx-Class v0.082840 Perl 5 v5.14.3 x86_64-linux-thread-multi

Status
Pass
From
Nigel Horne
Dist
DBIx-Class v0.082840
Platform
Perl 5 v5.14.3 x86_64-linux-thread-multi
Date
2017-11-16 09:48:15
ID
44342258-cab3-11e7-b8bd-809199b835e7
This distribution has been tested as part of the CPAN Testers
project, supporting the Perl programming language.  See
http://wiki.cpantesters.org/ for more information or email
questions to cpan-testers-discuss@perl.org


--
Dear Peter Rabbitson,

This is a computer-generated report for DBIx-Class-0.082840
on perl 5.14.3, created by CPAN-Reporter-1.2018.

Thank you for uploading your work to CPAN.  Congratulations!
All tests were successful.

Sections of this report:

    * Tester comments
    * Program output
    * Prerequisites
    * Environment and other context

------------------------------
TESTER COMMENTS
------------------------------

Additional comments from tester:

this report is from an automated smoke testing program
and was not reviewed by a human for accuracy

------------------------------
PROGRAM OUTPUT
------------------------------

Output from '/usr/bin/make test':

PERL_DL_NONLAZY=1 "/home/njh/perl5/perlbrew/perls/perl-5.14.3/bin/perl" "-MExtUtils::Command::MM" "-MTest::Harness" "-e" "undef *Test::Harness::Switches; test_harness(0, 'inc', 'blib/lib', 'blib/arch')" t/*.t t/admin/*.t t/cdbi/*.t t/cdbi/DeepAbstractSearch/*.t t/cdbi/abstract/*.t t/cdbi/sweet/*.t t/count/*.t t/delete/*.t t/inflate/*.t t/multi_create/*.t t/ordered/*.t t/prefetch/*.t t/relationship/*.t t/resultset/*.t t/resultsource/*.t t/row/*.t t/schema/*.t t/search/*.t t/sqlmaker/*.t t/sqlmaker/hierarchical/*.t t/sqlmaker/limit_dialects/*.t t/storage/*.t t/update/*.t xt/*.t
t/04_c3_mro.t ....................................... ok
t/05components.t .................................... ok
t/100extra_source.t ................................. ok
# 
# 
# List of loadable modules within both the core and *OPTIONAL* dependency chains
# present on this system (modules sourced from ./blib, ./lib, ./t, and ./xt
# with versions identical to their parent namespace were omitted for brevity)
# 
#     *** Note that *MANY* of these modules will *NEVER* be loaded ***
#             *** during normal operation of DBIx::Class ***
# 
# @INC at startup (does not reflect manipulation at runtime):
#   0: ./inc/
#   1: ./blib/lib/
#   2: ./blib/arch/
#   3: ~/.cpan/build/SQL-Abstract-1.84-3/blib/arch/
#   4: ~/.cpan/build/SQL-Abstract-1.84-3/blib/lib/
#   5: ~/.cpan/build/Module-Find-0.13-3/blib/arch/
#   6: ~/.cpan/build/Module-Find-0.13-3/blib/lib/
#   7: ~/.cpan/build/Hash-Merge-0.298-3/blib/arch/
#   8: ~/.cpan/build/Hash-Merge-0.298-3/blib/lib/
#   9: ~/.cpan/build/Clone-Choose-0.008-3/blib/arch/
#  10: ~/.cpan/build/Clone-Choose-0.008-3/blib/lib/
#  11: ~/.cpan/build/Data-Page-2.02-3/blib/arch/
#  12: ~/.cpan/build/Data-Page-2.02-3/blib/lib/
#  13: ~/.cpan/build/Class-Accessor-Chained-0.01-2/blib/arch/
#  14: ~/.cpan/build/Class-Accessor-Chained-0.01-2/blib/lib/
#  15: ~/.cpan/build/Class-Accessor-0.51-2/blib/arch/
#  16: ~/.cpan/build/Class-Accessor-0.51-2/blib/lib/
#  17: ~/.cpan/build/Data-Dumper-Concise-2.023-3/blib/arch/
#  18: ~/.cpan/build/Data-Dumper-Concise-2.023-3/blib/lib/
#  19: ~/.cpan/build/Context-Preserve-0.03-3/blib/arch/
#  20: ~/.cpan/build/Context-Preserve-0.03-3/blib/lib/
#  21: ~/.cpan/build/Config-Any-0.32-3/blib/arch/
#  22: ~/.cpan/build/Config-Any-0.32-3/blib/lib/
#  23: ~/.cpan/build/Class-C3-Componentised-1.001000-3/blib/arch/
#  24: ~/.cpan/build/Class-C3-Componentised-1.001000-3/blib/lib/
#  25: ~/.cpan/build/Class-C3-0.33-3/blib/arch/
#  26: ~/.cpan/build/Class-C3-0.33-3/blib/lib/
#  27: ~/.cpan/build/Algorithm-C3-0.10-3/blib/arch/
#  28: ~/.cpan/build/Algorithm-C3-0.10-3/blib/lib/
#  29: ~/.cpan/build/Class-Accessor-Grouped-0.10012-3/blib/arch/
#  30: ~/.cpan/build/Class-Accessor-Grouped-0.10012-3/blib/lib/
#  31: ~/.cpan/build/Class-XSAccessor-1.19-2/blib/arch/
#  32: ~/.cpan/build/Class-XSAccessor-1.19-2/blib/lib/
#  33: ~/.cpan/build/GraphQL-0.21-4/blib/arch/
#  34: ~/.cpan/build/GraphQL-0.21-4/blib/lib/
#  35: ~/.cpan/build/Return-Type-0.005-3/blib/arch/
#  36: ~/.cpan/build/Return-Type-0.005-3/blib/lib/
#  37: ~/.cpan/build/Pegex-0.64-3/blib/arch/
#  38: ~/.cpan/build/Pegex-0.64-3/blib/lib/
#  39: ~/.cpan/build/MooX-Thunking-0.07-3/blib/arch/
#  40: ~/.cpan/build/MooX-Thunking-0.07-3/blib/lib/
#  41: ~/.cpan/build/Moo-2.003002-4/blib/arch/
#  42: ~/.cpan/build/Moo-2.003002-4/blib/lib/
#  43: ~/.cpan/build/Class-Method-Modifiers-2.12-3/blib/arch/
#  44: ~/.cpan/build/Class-Method-Modifiers-2.12-3/blib/lib/
#  45: ~/.cpan/build/JSON-PP-2.94-3/blib/arch/
#  46: ~/.cpan/build/JSON-PP-2.94-3/blib/lib/
#  47: ~/.cpan/build/JSON-MaybeXS-1.003009-3/blib/arch/
#  48: ~/.cpan/build/JSON-MaybeXS-1.003009-3/blib/lib/
#  49: ~/.cpan/build/Cpanel-JSON-XS-3.0239-2/blib/arch/
#  50: ~/.cpan/build/Cpanel-JSON-XS-3.0239-2/blib/lib/
#  51: ~/.cpan/build/Function-Parameters-2.001003-3/blib/arch/
#  52: ~/.cpan/build/Function-Parameters-2.001003-3/blib/lib/
#  53: ~/.cpan/build/Dir-Self-0.11-3/blib/arch/
#  54: ~/.cpan/build/Dir-Self-0.11-3/blib/lib/
#  55: ~/.cpan/build/DateTime-Format-ISO8601-0.08-3/blib/arch/
#  56: ~/.cpan/build/DateTime-Format-ISO8601-0.08-3/blib/lib/
#  57: ~/.cpan/build/DateTime-Format-Builder-0.81-3/blib/arch/
#  58: ~/.cpan/build/DateTime-Format-Builder-0.81-3/blib/lib/
#  59: ~/.cpan/build/Params-Validate-1.29-2/blib/arch/
#  60: ~/.cpan/build/Params-Validate-1.29-2/blib/lib/
#  61: ~/.cpan/build/DateTime-Format-Strptime-1.74-2/blib/arch/
#  62: ~/.cpan/build/DateTime-Format-Strptime-1.74-2/blib/lib/
#  63: ~/.cpan/build/Package-DeprecationManager-0.17-4/blib/arch/
#  64: ~/.cpan/build/Package-DeprecationManager-0.17-4/blib/lib/
#  65: ~/.cpan/build/Sub-Name-0.21-5/blib/arch/
#  66: ~/.cpan/build/Sub-Name-0.21-5/blib/lib/
#  67: ~/.cpan/build/Sub-Install-0.928-4/blib/arch/
#  68: ~/.cpan/build/Sub-Install-0.928-4/blib/lib/
#  69: ~/.cpan/build/Params-Util-1.07-4/blib/arch/
#  70: ~/.cpan/build/Params-Util-1.07-4/blib/lib/
#  71: ~/.cpan/build/Class-Factory-Util-1.7-3/blib/arch/
#  72: ~/.cpan/build/Class-Factory-Util-1.7-3/blib/lib/
#  73: ~/.cpan/build/DateTime-1.44-3/blib/arch/
#  74: ~/.cpan/build/DateTime-1.44-3/blib/lib/
#  75: ~/.cpan/build/DateTime-TimeZone-2.15-3/blib/arch/
#  76: ~/.cpan/build/DateTime-TimeZone-2.15-3/blib/lib/
#  77: ~/.cpan/build/DateTime-Locale-1.17-3/blib/arch/
#  78: ~/.cpan/build/DateTime-Locale-1.17-3/blib/lib/
#  79: ~/.cpan/build/namespace-autoclean-0.28-3/blib/arch/
#  80: ~/.cpan/build/namespace-autoclean-0.28-3/blib/lib/
#  81: ~/.cpan/build/namespace-clean-0.27-4/blib/arch/
#  82: ~/.cpan/build/namespace-clean-0.27-4/blib/lib/
#  83: ~/.cpan/build/Package-Stash-0.37-4/blib/arch/
#  84: ~/.cpan/build/Package-Stash-0.37-4/blib/lib/
#  85: ~/.cpan/build/Package-Stash-XS-0.28-4/blib/arch/
#  86: ~/.cpan/build/Package-Stash-XS-0.28-4/blib/lib/
#  87: ~/.cpan/build/Sub-Identify-0.14-3/blib/arch/
#  88: ~/.cpan/build/Sub-Identify-0.14-3/blib/lib/
#  89: ~/.cpan/build/B-Hooks-EndOfScope-0.21-4/blib/arch/
#  90: ~/.cpan/build/B-Hooks-EndOfScope-0.21-4/blib/lib/
#  91: ~/.cpan/build/Variable-Magic-0.62-3/blib/arch/
#  92: ~/.cpan/build/Variable-Magic-0.62-3/blib/lib/
#  93: ~/.cpan/build/Module-Implementation-0.09-4/blib/arch/
#  94: ~/.cpan/build/Module-Implementation-0.09-4/blib/lib/
#  95: ~/.cpan/build/Devel-Hide-0.0009-4/blib/arch/
#  96: ~/.cpan/build/Devel-Hide-0.0009-4/blib/lib/
#  97: ~/.cpan/build/Test-Warnings-0.026-4/blib/arch/
#  98: ~/.cpan/build/Test-Warnings-0.026-4/blib/lib/
#  99: ~/.cpan/build/Test-File-ShareDir-1.001002-3/blib/arch/
# 100: ~/.cpan/build/Test-File-ShareDir-1.001002-3/blib/lib/
# 101: ~/.cpan/build/Scope-Guard-0.21-4/blib/arch/
# 102: ~/.cpan/build/Scope-Guard-0.21-4/blib/lib/
# 103: ~/.cpan/build/Class-Tiny-1.006-3/blib/arch/
# 104: ~/.cpan/build/Class-Tiny-1.006-3/blib/lib/
# 105: ~/.cpan/build/Params-ValidationCompiler-0.24-3/blib/arch/
# 106: ~/.cpan/build/Params-ValidationCompiler-0.24-3/blib/lib/
# 107: ~/.cpan/build/Test-Without-Module-0.20-3/blib/arch/
# 108: ~/.cpan/build/Test-Without-Module-0.20-3/blib/lib/
# 109: ~/.cpan/build/Test2-Plugin-NoWarnings-0.06-3/blib/arch/
# 110: ~/.cpan/build/Test2-Plugin-NoWarnings-0.06-3/blib/lib/
# 111: ~/.cpan/build/Test2-Suite-0.000083-3/blib/arch/
# 112: ~/.cpan/build/Test2-Suite-0.000083-3/blib/lib/
# 113: ~/.cpan/build/Term-Table-0.012-3/blib/arch/
# 114: ~/.cpan/build/Term-Table-0.012-3/blib/lib/
# 115: ~/.cpan/build/Test-Simple-1.302106-3/blib/arch/
# 116: ~/.cpan/build/Test-Simple-1.302106-3/blib/lib/
# 117: ~/.cpan/build/Sub-Info-0.002-3/blib/arch/
# 118: ~/.cpan/build/Sub-Info-0.002-3/blib/lib/
# 119: ~/.cpan/build/Importer-0.024-3/blib/arch/
# 120: ~/.cpan/build/Importer-0.024-3/blib/lib/
# 121: ~/.cpan/build/Specio-0.42-3/blib/arch/
# 122: ~/.cpan/build/Specio-0.42-3/blib/lib/
# 123: ~/.cpan/build/Test-Needs-0.002005-4/blib/arch/
# 124: ~/.cpan/build/Test-Needs-0.002005-4/blib/lib/
# 125: ~/.cpan/build/Sub-Quote-2.004000-4/blib/arch/
# 126: ~/.cpan/build/Sub-Quote-2.004000-4/blib/lib/
# 127: ~/.cpan/build/Role-Tiny-2.000006-4/blib/arch/
# 128: ~/.cpan/build/Role-Tiny-2.000006-4/blib/lib/
# 129: ~/.cpan/build/MRO-Compat-0.13-4/blib/arch/
# 130: ~/.cpan/build/MRO-Compat-0.13-4/blib/lib/
# 131: ~/.cpan/build/Eval-Closure-0.14-4/blib/arch/
# 132: ~/.cpan/build/Eval-Closure-0.14-4/blib/lib/
# 133: ~/.cpan/build/Scalar-List-Utils-1.49-5/blib/arch/
# 134: ~/.cpan/build/Scalar-List-Utils-1.49-5/blib/lib/
# 135: ~/.cpan/build/File-ShareDir-1.104-4/blib/arch/
# 136: ~/.cpan/build/File-ShareDir-1.104-4/blib/lib/
# 137: ~/.cpan/build/Class-Inspector-1.32-4/blib/arch/
# 138: ~/.cpan/build/Class-Inspector-1.32-4/blib/lib/
# 139: ~/.cpan/build/File-ShareDir-Install-0.11-4/blib/arch/
# 140: ~/.cpan/build/File-ShareDir-Install-0.11-4/blib/lib/
# 141: ~/.cpan/build/CPAN-Meta-Check-0.014-4/blib/arch/
# 142: ~/.cpan/build/CPAN-Meta-Check-0.014-4/blib/lib/
# 143: ~/.cpan/build/Module-Metadata-1.000033-2/blib/arch/
# 144: ~/.cpan/build/Module-Metadata-1.000033-2/blib/lib/
# 145: ~/.cpan/build/Dist-CheckConflicts-0.11-4/blib/arch/
# 146: ~/.cpan/build/Dist-CheckConflicts-0.11-4/blib/lib/
# 147: ~/.cpan/build/SQL-Abstract-1.84-3/blib/arch/
# 148: ~/.cpan/build/SQL-Abstract-1.84-3/blib/lib/
# 149: ~/.cpan/build/Module-Find-0.13-3/blib/arch/
# 150: ~/.cpan/build/Module-Find-0.13-3/blib/lib/
# 151: ~/.cpan/build/Hash-Merge-0.298-3/blib/arch/
# 152: ~/.cpan/build/Hash-Merge-0.298-3/blib/lib/
# 153: ~/.cpan/build/Clone-Choose-0.008-3/blib/arch/
# 154: ~/.cpan/build/Clone-Choose-0.008-3/blib/lib/
# 155: ~/.cpan/build/Data-Page-2.02-3/blib/arch/
# 156: ~/.cpan/build/Data-Page-2.02-3/blib/lib/
# 157: ~/.cpan/build/Class-Accessor-Chained-0.01-2/blib/arch/
# 158: ~/.cpan/build/Class-Accessor-Chained-0.01-2/blib/lib/
# 159: ~/.cpan/build/Class-Accessor-0.51-2/blib/arch/
# 160: ~/.cpan/build/Class-Accessor-0.51-2/blib/lib/
# 161: ~/.cpan/build/Data-Dumper-Concise-2.023-3/blib/arch/
# 162: ~/.cpan/build/Data-Dumper-Concise-2.023-3/blib/lib/
# 163: ~/.cpan/build/Context-Preserve-0.03-3/blib/arch/
# 164: ~/.cpan/build/Context-Preserve-0.03-3/blib/lib/
# 165: ~/.cpan/build/Config-Any-0.32-3/blib/arch/
# 166: ~/.cpan/build/Config-Any-0.32-3/blib/lib/
# 167: ~/.cpan/build/Class-C3-Componentised-1.001000-3/blib/arch/
# 168: ~/.cpan/build/Class-C3-Componentised-1.001000-3/blib/lib/
# 169: ~/.cpan/build/Class-C3-0.33-3/blib/arch/
# 170: ~/.cpan/build/Class-C3-0.33-3/blib/lib/
# 171: ~/.cpan/build/Algorithm-C3-0.10-3/blib/arch/
# 172: ~/.cpan/build/Algorithm-C3-0.10-3/blib/lib/
# 173: ~/.cpan/build/Class-Accessor-Grouped-0.10012-3/blib/arch/
# 174: ~/.cpan/build/Class-Accessor-Grouped-0.10012-3/blib/lib/
# 175: ~/.cpan/build/Class-XSAccessor-1.19-2/blib/arch/
# 176: ~/.cpan/build/Class-XSAccessor-1.19-2/blib/lib/
# 177: ~/.cpan/build/GraphQL-0.21-4/blib/arch/
# 178: ~/.cpan/build/GraphQL-0.21-4/blib/lib/
# 179: ~/.cpan/build/Return-Type-0.005-3/blib/arch/
# 180: ~/.cpan/build/Return-Type-0.005-3/blib/lib/
# 181: ~/.cpan/build/Pegex-0.64-3/blib/arch/
# 182: ~/.cpan/build/Pegex-0.64-3/blib/lib/
# 183: ~/.cpan/build/MooX-Thunking-0.07-3/blib/arch/
# 184: ~/.cpan/build/MooX-Thunking-0.07-3/blib/lib/
# 185: ~/.cpan/build/Moo-2.003002-4/blib/arch/
# 186: ~/.cpan/build/Moo-2.003002-4/blib/lib/
# 187: ~/.cpan/build/Class-Method-Modifiers-2.12-3/blib/arch/
# 188: ~/.cpan/build/Class-Method-Modifiers-2.12-3/blib/lib/
# 189: ~/.cpan/build/JSON-PP-2.94-3/blib/arch/
# 190: ~/.cpan/build/JSON-PP-2.94-3/blib/lib/
# 191: ~/.cpan/build/JSON-MaybeXS-1.003009-3/blib/arch/
# 192: ~/.cpan/build/JSON-MaybeXS-1.003009-3/blib/lib/
# 193: ~/.cpan/build/Cpanel-JSON-XS-3.0239-2/blib/arch/
# 194: ~/.cpan/build/Cpanel-JSON-XS-3.0239-2/blib/lib/
# 195: ~/.cpan/build/Function-Parameters-2.001003-3/blib/arch/
# 196: ~/.cpan/build/Function-Parameters-2.001003-3/blib/lib/
# 197: ~/.cpan/build/Dir-Self-0.11-3/blib/arch/
# 198: ~/.cpan/build/Dir-Self-0.11-3/blib/lib/
# 199: ~/.cpan/build/DateTime-Format-ISO8601-0.08-3/blib/arch/
# 200: ~/.cpan/build/DateTime-Format-ISO8601-0.08-3/blib/lib/
# 201: ~/.cpan/build/DateTime-Format-Builder-0.81-3/blib/arch/
# 202: ~/.cpan/build/DateTime-Format-Builder-0.81-3/blib/lib/
# 203: ~/.cpan/build/Params-Validate-1.29-2/blib/arch/
# 204: ~/.cpan/build/Params-Validate-1.29-2/blib/lib/
# 205: ~/.cpan/build/DateTime-Format-Strptime-1.74-2/blib/arch/
# 206: ~/.cpan/build/DateTime-Format-Strptime-1.74-2/blib/lib/
# 207: ~/.cpan/build/Package-DeprecationManager-0.17-4/blib/arch/
# 208: ~/.cpan/build/Package-DeprecationManager-0.17-4/blib/lib/
# 209: ~/.cpan/build/Sub-Name-0.21-5/blib/arch/
# 210: ~/.cpan/build/Sub-Name-0.21-5/blib/lib/
# 211: ~/.cpan/build/Sub-Install-0.928-4/blib/arch/
# 212: ~/.cpan/build/Sub-Install-0.928-4/blib/lib/
# 213: ~/.cpan/build/Params-Util-1.07-4/blib/arch/
# 214: ~/.cpan/build/Params-Util-1.07-4/blib/lib/
# 215: ~/.cpan/build/Class-Factory-Util-1.7-3/blib/arch/
# 216: ~/.cpan/build/Class-Factory-Util-1.7-3/blib/lib/
# 217: ~/.cpan/build/DateTime-1.44-3/blib/arch/
# 218: ~/.cpan/build/DateTime-1.44-3/blib/lib/
# 219: ~/.cpan/build/DateTime-TimeZone-2.15-3/blib/arch/
# 220: ~/.cpan/build/DateTime-TimeZone-2.15-3/blib/lib/
# 221: ~/.cpan/build/DateTime-Locale-1.17-3/blib/arch/
# 222: ~/.cpan/build/DateTime-Locale-1.17-3/blib/lib/
# 223: ~/.cpan/build/namespace-autoclean-0.28-3/blib/arch/
# 224: ~/.cpan/build/namespace-autoclean-0.28-3/blib/lib/
# 225: ~/.cpan/build/namespace-clean-0.27-4/blib/arch/
# 226: ~/.cpan/build/namespace-clean-0.27-4/blib/lib/
# 227: ~/.cpan/build/Package-Stash-0.37-4/blib/arch/
# 228: ~/.cpan/build/Package-Stash-0.37-4/blib/lib/
# 229: ~/.cpan/build/Package-Stash-XS-0.28-4/blib/arch/
# 230: ~/.cpan/build/Package-Stash-XS-0.28-4/blib/lib/
# 231: ~/.cpan/build/Sub-Identify-0.14-3/blib/arch/
# 232: ~/.cpan/build/Sub-Identify-0.14-3/blib/lib/
# 233: ~/.cpan/build/B-Hooks-EndOfScope-0.21-4/blib/arch/
# 234: ~/.cpan/build/B-Hooks-EndOfScope-0.21-4/blib/lib/
# 235: ~/.cpan/build/Variable-Magic-0.62-3/blib/arch/
# 236: ~/.cpan/build/Variable-Magic-0.62-3/blib/lib/
# 237: ~/.cpan/build/Module-Implementation-0.09-4/blib/arch/
# 238: ~/.cpan/build/Module-Implementation-0.09-4/blib/lib/
# 239: ~/.cpan/build/Devel-Hide-0.0009-4/blib/arch/
# 240: ~/.cpan/build/Devel-Hide-0.0009-4/blib/lib/
# 241: ~/.cpan/build/Test-Warnings-0.026-4/blib/arch/
# 242: ~/.cpan/build/Test-Warnings-0.026-4/blib/lib/
# 243: ~/.cpan/build/Test-File-ShareDir-1.001002-3/blib/arch/
# 244: ~/.cpan/build/Test-File-ShareDir-1.001002-3/blib/lib/
# 245: ~/.cpan/build/Scope-Guard-0.21-4/blib/arch/
# 246: ~/.cpan/build/Scope-Guard-0.21-4/blib/lib/
# 247: ~/.cpan/build/Class-Tiny-1.006-3/blib/arch/
# 248: ~/.cpan/build/Class-Tiny-1.006-3/blib/lib/
# 249: ~/.cpan/build/Params-ValidationCompiler-0.24-3/blib/arch/
# 250: ~/.cpan/build/Params-ValidationCompiler-0.24-3/blib/lib/
# 251: ~/.cpan/build/Test-Without-Module-0.20-3/blib/arch/
# 252: ~/.cpan/build/Test-Without-Module-0.20-3/blib/lib/
# 253: ~/.cpan/build/Test2-Plugin-NoWarnings-0.06-3/blib/arch/
# 254: ~/.cpan/build/Test2-Plugin-NoWarnings-0.06-3/blib/lib/
# 255: ~/.cpan/build/Test2-Suite-0.000083-3/blib/arch/
# 256: ~/.cpan/build/Test2-Suite-0.000083-3/blib/lib/
# 257: ~/.cpan/build/Term-Table-0.012-3/blib/arch/
# 258: ~/.cpan/build/Term-Table-0.012-3/blib/lib/
# 259: ~/.cpan/build/Test-Simple-1.302106-3/blib/arch/
# 260: ~/.cpan/build/Test-Simple-1.302106-3/blib/lib/
# 261: ~/.cpan/build/Sub-Info-0.002-3/blib/arch/
# 262: ~/.cpan/build/Sub-Info-0.002-3/blib/lib/
# 263: ~/.cpan/build/Importer-0.024-3/blib/arch/
# 264: ~/.cpan/build/Importer-0.024-3/blib/lib/
# 265: ~/.cpan/build/Specio-0.42-3/blib/arch/
# 266: ~/.cpan/build/Specio-0.42-3/blib/lib/
# 267: ~/.cpan/build/Test-Needs-0.002005-4/blib/arch/
# 268: ~/.cpan/build/Test-Needs-0.002005-4/blib/lib/
# 269: ~/.cpan/build/Sub-Quote-2.004000-4/blib/arch/
# 270: ~/.cpan/build/Sub-Quote-2.004000-4/blib/lib/
# 271: ~/.cpan/build/Role-Tiny-2.000006-4/blib/arch/
# 272: ~/.cpan/build/Role-Tiny-2.000006-4/blib/lib/
# 273: ~/.cpan/build/MRO-Compat-0.13-4/blib/arch/
# 274: ~/.cpan/build/MRO-Compat-0.13-4/blib/lib/
# 275: ~/.cpan/build/Eval-Closure-0.14-4/blib/arch/
# 276: ~/.cpan/build/Eval-Closure-0.14-4/blib/lib/
# 277: ~/.cpan/build/Scalar-List-Utils-1.49-5/blib/arch/
# 278: ~/.cpan/build/Scalar-List-Utils-1.49-5/blib/lib/
# 279: ~/.cpan/build/File-ShareDir-1.104-4/blib/arch/
# 280: ~/.cpan/build/File-ShareDir-1.104-4/blib/lib/
# 281: ~/.cpan/build/Class-Inspector-1.32-4/blib/arch/
# 282: ~/.cpan/build/Class-Inspector-1.32-4/blib/lib/
# 283: ~/.cpan/build/File-ShareDir-Install-0.11-4/blib/arch/
# 284: ~/.cpan/build/File-ShareDir-Install-0.11-4/blib/lib/
# 285: ~/.cpan/build/CPAN-Meta-Check-0.014-4/blib/arch/
# 286: ~/.cpan/build/CPAN-Meta-Check-0.014-4/blib/lib/
# 287: ~/.cpan/build/Module-Metadata-1.000033-2/blib/arch/
# 288: ~/.cpan/build/Module-Metadata-1.000033-2/blib/lib/
# 289: ~/.cpan/build/Dist-CheckConflicts-0.11-4/blib/arch/
# 290: ~/.cpan/build/Dist-CheckConflicts-0.11-4/blib/lib/
# 291: <<SA>>/
# 292: <<SL>>/
# 293: <<PA>>/
# 294: <<PL>>/
# 295: ./
# 
# Sourcing markers:
#        PA: $Config{archlib}
#        PL: $Config{privlib}
#        SA: $Config{sitearch}
#        SL: $Config{sitelib}
#       BLL: ./blib/lib/
# 
# =============================
#        PA            0.14  attributes                                                                      [ MD5: 7c0d758b038b14301a85cd2c3f33bc58 ]
#        PL            5.71  AutoLoader                                                                      [ MD5: f404e7c7c6f0073439a0525f47fe75a4 ]
#        PA            1.29  B                                                                               [ MD5: 1c182578a9d9a35def5848f6768e0e7e ]
#  $INC[90]            0.21  B::Hooks::EndOfScope                                                            [ MD5: a004874dd5b76eb1119b90c7a03158c6 ]
#  $INC[90]            0.21  B::Hooks::EndOfScope::XS                                                        [ MD5: a3cd2087d9dba94277ba4e15fb5e39ad ]
#        PL            2.18  base                                                                            [ MD5: 262cf42a8f0afc4a464bf1318fd6f85a ]
#        PL            1.04  bytes                                                                           [ MD5: d1dd254359351507b57b2271c382608a ]
#        SL          1.3301  Carp                                                                            [ MD5: 997f84a86948ff17f20a79182a978676 ]
#        SL          1.3301  Carp::Heavy                                                                     [ MD5: 9dba309b3d84151258a6a67a31ec49b8 ]
#  $INC[16]            0.51  Class::Accessor                                                                 [ MD5: a0a06301e39652deaee12c78d63dcc74 ]
#  $INC[14]                  Class::Accessor::Chained::Fast                                                  [ MD5: 544678632aaf294dc280944a83c509bc ]
#  $INC[16]            0.51  Class::Accessor::Fast                                                           [ MD5: d55e6349be3f027f1c5f6fa7eb833d8e ]
#  $INC[30]         0.10012  Class::Accessor::Grouped                                                        [ MD5: e7c277f33b36ef2ef9f68a564c26e753 ]
#  $INC[24]        1.001000  Class::C3::Componentised                                                        [ MD5: c8c95fc2278592a66aacfd18ed7a5645 ]
#        SL            0.08  Class::Data::Inheritable                                                        [ MD5: eaa489d785a175db193d92b13674d96d ]
# $INC[138]            1.32  Class::Inspector                                                                [ MD5: 4fa3edab7513f6f0afb42de5157d07da ]
#        SL             1.5  Class::Singleton                                                                [ MD5: d1b724a6b51de027cc1656e67ada9a32 ]
#        PL            0.63  Class::Struct                                                                   [ MD5: f147c95fe98e71c033b738292c7e205d ]
#  $INC[32]            1.19  Class::XSAccessor                                                               [ MD5: 0b7adfcc61192a80f97463e89d6d1696 ]
#  $INC[32]            1.19  Class::XSAccessor::Heavy                                                        [ MD5: db9379a668d6133fce801e4648cdef45 ]
#        PA                  Config                                                                          [ MD5: 849081d00e947ed4df83914f4d24dd91 ]
#        PL            1.21  constant                                                                        [ MD5: 71fb7e26bd9a5c0c16810772334abbd8 ]
#  $INC[20]            0.03  Context::Preserve                                                               [ MD5: 62155e2bc041508eff050250d74a0c38 ]
#  $INC[50]          3.0239  Cpanel::JSON::XS                                                                [ MD5: aabbc1806ed5d1cd61a91cc92da0ff0b ]
#        PA            3.47  Cwd                                                                             [ MD5: 0893f781ce49752238efe563a3bd2cbf ]
#        PA        2.130_02  Data::Dumper                                                                    [ MD5: 9177fa4c4fd0438356c986aaa6db9136 ]
#  $INC[18]           2.023  Data::Dumper::Concise                                                           [ MD5: b18cb47e46e385ccee825ac7e5e59d9e ]
#  $INC[12]            2.02  Data::Page                                                                      [ MD5: 52f4b3f7348e51e0654aa4f0b3503ab0 ]
#  $INC[74]            1.44  DateTime                                                                        [ MD5: 42c171b7fbfeabc47f32ad68941dada1 ]
#  $INC[74]            1.44  DateTime::Duration                                                              [ MD5: 104fae21f5f681f889d8c31e5c0d9bb6 ]
#  $INC[62]            1.74  DateTime::Format::Strptime                                                      [ MD5: c76b76b4f26e0b086993cad45398476e ]
#  $INC[62]            1.74  DateTime::Format::Strptime::Types                                               [ MD5: bc3db8fbf80a8b0519af5d33670a361f ]
#  $INC[74]            1.44  DateTime::Helpers                                                               [ MD5: cae7dfaf5b15dda271ed4ecf461597a9 ]
#  $INC[74]            1.44  DateTime::Infinite                                                              [ MD5: 277cf0f3275e07266f2200f168858f64 ]
#  $INC[78]            1.17  DateTime::Locale                                                                [ MD5: add5d177ed055c1598457396d86f3936 ]
#  $INC[78]            1.17  DateTime::Locale::Base                                                          [ MD5: 338d117be67c3d9b67519bccc4110a02 ]
#  $INC[78]            1.17  DateTime::Locale::Data                                                          [ MD5: ce8f42380777ddf4c99e0a87de9af497 ]
#  $INC[78]            1.17  DateTime::Locale::FromData                                                      [ MD5: 4346e7f9f672a6649d3f0ce8017c18c8 ]
#  $INC[78]            1.17  DateTime::Locale::Util                                                          [ MD5: e0b3a588f1cfab868c87ba9fb292c137 ]
#  $INC[76]            2.15  DateTime::TimeZone                                                              [ MD5: 2e42300ba4666da136d5016f6d8bdddd ]
#  $INC[76]            2.15  DateTime::TimeZone::Catalog                                                     [ MD5: 9f51ea1f3bdacc668e9a89b8adfbb5d9 ]
#  $INC[76]            2.15  DateTime::TimeZone::Floating                                                    [ MD5: 99e84771eebac221551280ca01d77972 ]
#  $INC[76]            2.15  DateTime::TimeZone::Local                                                       [ MD5: a587c92da6028a9a0a313da19e239e01 ]
#  $INC[76]            2.15  DateTime::TimeZone::OffsetOnly                                                  [ MD5: ac7b1b1f7bb4382fb5da1fe00e158b91 ]
#  $INC[76]            2.15  DateTime::TimeZone::OlsonDB::Change                                             [ MD5: edca9df6781210854c84e8b93d79a4a7 ]
#  $INC[76]            2.15  DateTime::TimeZone::UTC                                                         [ MD5: 3c282b9330adb02b5a60fd0f269bad6a ]
#  $INC[74]            1.44  DateTime::Types                                                                 [ MD5: 1621d52937d136a2ec549f617bc82163 ]
#        SA           1.632  DBI                                                                             [ MD5: 7396564cb01a6411b245f09f554a29ae ]
#       BLL        0.082840  DBIx::Class                                                                     [ MD5: 8bfd568d750eaffd5f53546d6ab095bf ]
#        SL            0.13  Devel::GlobalDestruction                                                        [ MD5: bc0273114c876e5526239817c461a4f4 ]
#        SL            2.00  Devel::StackTrace                                                               [ MD5: 4dd3bae294ce5357a1651e828eb90ee5 ]
#        SL            2.00  Devel::StackTrace::Frame                                                        [ MD5: 1a434d281df55ac9ed4d2892e15cef4c ]
#        SL            2.12  Devel::Symdump                                                                  [ MD5: 94aa8e6f121b93a345eceb440d284269 ]
#        PL            1.16  Digest::base                                                                    [ MD5: c46e2ebb720ee7d9c600ce5acbf34291 ]
#        PA            2.51  Digest::MD5                                                                     [ MD5: 7926d69ff6db3d4225c2f488d5407d75 ]
#        PA            1.13  DynaLoader                                                                      [ MD5: c572ba6bb2f713fbc01610688b8ec2e7 ]
#        SA            2.85  Encode                                                                          [ MD5: 1ee8c184126a92e1e58db2bc2fd2da88 ]
#        SA            2.20  Encode::Alias                                                                   [ MD5: 7a38d7cffbb79b5e300711a344b64ce1 ]
#        SA            2.05  Encode::Config                                                                  [ MD5: 7bdd1d8dffa8d3500086802451fc020d ]
#        SA            2.07  Encode::Encoding                                                                [ MD5: 34dc1ab677a5e9b9b4ab88acbde70db4 ]
#        PA            1.13  Errno                                                                           [ MD5: d26f6e3d34192af4d1777ec63dfdeea8 ]
# $INC[132]            0.14  Eval::Closure                                                                   [ MD5: 6c72ca7cb0924d00e0c1a8bee904c349 ]
#        SL            1.39  Exception::Class                                                                [ MD5: 14c13a67a9a95e0d502e4cfae97758b5 ]
#        SL            1.39  Exception::Class::Base                                                          [ MD5: 2048b3e116604bb8bc97e4adda503e04 ]
#        SL            5.70  Exporter                                                                        [ MD5: bb9375bb4c86a915c93d6711bb3e4940 ]
#        SL            5.70  Exporter::Heavy                                                                 [ MD5: d8032ca40b44e010673e6dd5816ca66b ]
#        SL            7.22  ExtUtils::Liblist                                                               [ MD5: d9b56ce3cef445d9568e125e6d917b29 ]
#        SL            7.22  ExtUtils::Liblist::Kid                                                          [ MD5: e5b9007d9159d4dcad98c549f2033c2c ]
#        SL            7.22  ExtUtils::MakeMaker                                                             [ MD5: 144c84bba0a1a148ff8d6955a3bd8d1b ]
#        SL            7.22  ExtUtils::MakeMaker::Config                                                     [ MD5: b57d12ff6df6a6dc2d16291cc2958f67 ]
#        SL            7.22  ExtUtils::MakeMaker::Locale                                                     [ MD5: af9be7408dc5225eee8fafb947c52a42 ]
#        SL            7.22  ExtUtils::MakeMaker::version                                                    [ MD5: ee5f24d7e9acbab066abf91e72fb4efa ]
#        SL            7.22  ExtUtils::MM                                                                    [ MD5: 7b8e0edd0c418e685071c5fd7e7cb55f ]
#        SL            7.22  ExtUtils::MM_Any                                                                [ MD5: 0ed009930bf7b98ee5813ba87e504037 ]
#        SL            7.22  ExtUtils::MM_Unix                                                               [ MD5: 9d9825090027f7daaac9349376df55b1 ]
#        SL            7.22  ExtUtils::MY                                                                    [ MD5: 40272ac937b495ade015ca13d77ca914 ]
#        PA            1.11  Fcntl                                                                           [ MD5: 70707096a90be3068ba6feae636d5ad6 ]
#        PL            1.20  feature                                                                         [ MD5: 29eb2dad64dd464536cc829ab861098d ]
#        PL            2.82  File::Basename                                                                  [ MD5: c30b6c3fe54516077a7ed223ded9c16d ]
#        PL            2.21  File::Copy                                                                      [ MD5: e4141265c1ae7cdef3adf35b655b30e6 ]
#        PL            1.19  File::Find                                                                      [ MD5: 9fde3243857aa2d105ebb0d2ee7d99b1 ]
#        PA            1.13  File::Glob                                                                      [ MD5: bb7ac6f6a1ef3802b12b2b7065c159f4 ]
#        SL            1.00  File::HomeDir                                                                   [ MD5: dab54a50acb9cf1a884ac88be4294e82 ]
#        SL            1.00  File::HomeDir::Driver                                                           [ MD5: c4065f96c83394a428c8f78c5168f55a ]
#        SL            1.00  File::HomeDir::FreeDesktop                                                      [ MD5: 7a8ffb88390d30a637b72323b428e192 ]
#        SL            1.00  File::HomeDir::Unix                                                             [ MD5: 46e9b0369bce4571a5c72f2392db50b4 ]
#        PL         2.08_01  File::Path                                                                      [ MD5: 810b139375e26bb443c5feed193f1049 ]
# $INC[136]           1.104  File::ShareDir                                                                  [ MD5: 19a51f60e6c3500357c2afadb8fe5050 ]
#        PA            3.47  File::Spec                                                                      [ MD5: 81b1a547f2e00ce1505b3e739a20ca7c ]
#        PA            3.47  File::Spec::Unix                                                                [ MD5: 0d4659fb9e9f3a0d39cc2bcdea02f1e1 ]
#        PL            1.05  File::stat                                                                      [ MD5: bb790be3c54930386270d818178fe12c ]
#        PL            0.22  File::Temp                                                                      [ MD5: 928bef3533c4816a412dc22a4ad6391a ]
#        SL            1.09  File::Which                                                                     [ MD5: 766fa97c9e98adc967df3f9df5a6cdfe ]
#        PA            0.08  I18N::Langinfo                                                                  [ MD5: a45f9692867bac034ec42c8cc259cc81 ]
#        PL            1.00  integer                                                                         [ MD5: 4a9b2a5bdd05b8f12371f0bd13135b95 ]
#        PA         1.25_04  IO                                                                              [ MD5: bad93c7ddf0444c22ddfdab8d4d9480a ]
#        PA            1.08  IO::Dir                                                                         [ MD5: 7315602a120fb92ac6aa2bc0f351ccf4 ]
#        PA            1.15  IO::File                                                                        [ MD5: bb92b7fe8e45373d1120ac37efbb8463 ]
#        PA            1.31  IO::Handle                                                                      [ MD5: 55e496bf88fb55034d5e54e5cdcf7a36 ]
#        PA            1.10  IO::Seekable                                                                    [ MD5: f62813b55c062f449160100dca67d043 ]
#        SL            2.90  JSON                                                                            [ MD5: e0370519fe2c243fefdeba07e7a78697 ]
#  $INC[46]            2.94  JSON::PP                                                                        [ MD5: 153e93b9a944a62bf561cec75da679c1 ]
#  $INC[46]            2.94  JSON::PP::Boolean                                                               [ MD5: 7c3b11d49c79981f9599f863622a5f77 ]
#                      1.01  JSON::PP::IncrParser                                                          ! -f $INC{'JSON/PP/IncrParser.pm'}
# $INC[134]            1.49  List::Util                                                                      [ MD5: 97c40e18b9acf62e85c1a6bef59dfa02 ]
#        PL           1.994  Math::BigInt                                                                    [ MD5: e874a525777ec6bea906ebc6ce558319 ]
#  $INC[42]                  Method::Generate::Accessor                                                      [ MD5: 8a8a82ab859cb3d2e4a33f22f98e8182 ]
#  $INC[42]                  Method::Generate::Constructor                                                   [ MD5: 65d3a011070e91b35113a075a80cdeac ]
#  $INC[94]            0.09  Module::Implementation                                                          [ MD5: 2a146bb117cd6b798e2b928231799546 ]
#        SL           0.014  Module::Runtime                                                                 [ MD5: fb1d248a05a99e7fc65e99178bce0c5b ]
#  $INC[42]        2.003002  Moo                                                                             [ MD5: 1c0bcc5d6d83f5d3c30eac11b62bda9b ]
#  $INC[42]                  Moo::Object                                                                     [ MD5: 454a78f98f0239ac4044db19f07e8567 ]
#  $INC[42]                  Moo::sification                                                                 [ MD5: 061e62ee1cc9fa0d4877ea1b7d2aabb0 ]
#        PA            1.07  mro                                                                             [ MD5: 9c190f7204bb66eeadb90f95309978b5 ]
# $INC[130]            0.13  MRO::Compat                                                                     [ MD5: 0e22f9bf6be934a1ef7ecc18c01ea6be ]
#  $INC[80]            0.28  namespace::autoclean                                                            [ MD5: bcf7b7af396c62ab1bbcec0a42fdb1c3 ]
#  $INC[82]            0.27  namespace::clean                                                                [ MD5: f3e03f7f5f26391565d98357834e909b ]
#        PL            1.13  overload                                                                        [ MD5: 1331c3b23a83f07976833aecb49b94ae ]
#  $INC[64]            0.17  Package::DeprecationManager                                                     [ MD5: 93dddddd7913b016f00963197be1c5f1 ]
#  $INC[84]            0.37  Package::Stash                                                                  [ MD5: e40c05afed4074ecb0455b05316523e8 ]
#  $INC[86]            0.28  Package::Stash::XS                                                              [ MD5: 5bafa791645794b7b7072bdefd80d787 ]
#  $INC[70]            1.07  Params::Util                                                                    [ MD5: dae515c40e02b36de308e51ddf0e8edd ]
# $INC[106]            0.24  Params::ValidationCompiler                                                      [ MD5: 09ed16305d47b53db7487b57c8f39dcc ]
# $INC[106]            0.24  Params::ValidationCompiler::Compiler                                            [ MD5: c0276f900a9a032fc217274db783d223 ]
#                       1.1  Params::ValidationCompiler::Exception::BadArguments                           ! -f $INC{'Params/ValidationCompiler/Exception/BadArguments.pm'}
#                       1.1  Params::ValidationCompiler::Exception::Named::Extra                           ! -f $INC{'Params/ValidationCompiler/Exception/Named/Extra.pm'}
#                       1.1  Params::ValidationCompiler::Exception::Named::Required                        ! -f $INC{'Params/ValidationCompiler/Exception/Named/Required.pm'}
#                       1.1  Params::ValidationCompiler::Exception::Positional::Extra                      ! -f $INC{'Params/ValidationCompiler/Exception/Positional/Extra.pm'}
#                       1.1  Params::ValidationCompiler::Exception::Positional::Required                   ! -f $INC{'Params/ValidationCompiler/Exception/Positional/Required.pm'}
#                       1.1  Params::ValidationCompiler::Exception::ValidationFailedForMooseTypeConstraint ! -f $INC{'Params/ValidationCompiler/Exception/ValidationFailedForMooseTypeConstraint.pm'}
# $INC[106]            0.24  Params::ValidationCompiler::Exceptions                                          [ MD5: 1816ae95327435373db78b253ecc8bdc ]
#        PL           0.225  parent                                                                          [ MD5: 4a04b50f47531054d0864acecb51a139 ]
#        SL            0.35  Path::Class                                                                     [ MD5: 3c3166e17b322995ebbf9be737ff7903 ]
#        SL            0.35  Path::Class::Dir                                                                [ MD5: 9dbcc6bfb86e8c5595a93539a1a5db24 ]
#        SL            0.35  Path::Class::Entity                                                             [ MD5: a0830c6f561098cfe949dda91d76d975 ]
#        SL            0.35  Path::Class::File                                                               [ MD5: 3cb7875be62e834a093db7aa49ad6122 ]
#                  5.014003  perl                                                                            [ MD5: f9eb68d34ed59478a9eb0ac68f2be5b6 ]
#        PL           1.002  Perl::OSType                                                                    [ MD5: 58ac4d2ce6ed8816511fde947d614745 ]
#        PL            1.07  PerlIO                                                                          [ MD5: 3b6158d7a490f429a795d171d38b4c90 ]
#        SL            0.23  Pod::Coverage                                                                   [ MD5: d53035083682c2a78d56d998ad7239d2 ]
#        PL            1.04  Pod::Escapes                                                                    [ MD5: 761e30e1f0fd2b278ddefd9fe22ae76e ]
#        PL            1.35  Pod::Find                                                                       [ MD5: b098603acdde868556abe1f91051806f ]
#        PL            1.31  Pod::InputObjects                                                               [ MD5: 6a65bf22bdba1221ed419da659b93b22 ]
#        PL            1.37  Pod::Parser                                                                     [ MD5: e88176796c4ad5a4ddb3473281c46eed ]
#        PL            3.16  Pod::Simple                                                                     [ MD5: a63e20543ad3ad4ca87d5fbea3cffbc3 ]
#        PL            3.16  Pod::Simple::BlackBox                                                           [ MD5: 6d642a2cb18bfddf48d3663bc8cd3d5f ]
#        PL            3.16  Pod::Simple::LinkSection                                                        [ MD5: 29e54e5bc6ae58498c6087a35ca73bb9 ]
#        PA            1.24  POSIX                                                                           [ MD5: 5dddd6161e397b3de92518e2ad2ec116 ]
#        PA            0.18  re                                                                              [ MD5: 04c5c3ff96448f44e8b7e14d9498ccc0 ]
# $INC[128]        2.000006  Role::Tiny                                                                      [ MD5: 71795ff0a5b8210463cf15a097657167 ]
# $INC[128]        2.000006  Role::Tiny::With                                                                [ MD5: a25d57a0ace910e1a825dae9d208b9de ]
# $INC[134]            1.49  Scalar::Util                                                                    [ MD5: 262ede380310476087a7f57ccc4ce055 ]
# $INC[102]            0.21  Scope::Guard                                                                    [ MD5: 914494bdeb65cd340f14eae265635cf2 ]
#        PL            1.02  SelectSaver                                                                     [ MD5: bddc465e351ad0508581b94ef112d322 ]
# $INC[122]            0.42  Specio                                                                          [ MD5: b57e12c8c20fed6c6209f1b18edb3f57 ]
# $INC[122]            0.42  Specio::Coercion                                                                [ MD5: 28734a9b4eca853f3e2ca15879f72639 ]
# $INC[122]            0.42  Specio::Constraint::AnyCan                                                      [ MD5: 6b443a17f15186a2eecf5fd8c8cef44f ]
# $INC[122]            0.42  Specio::Constraint::Enum                                                        [ MD5: c0cd6fd29fe2f6cd45c67b5eaa5037c3 ]
# $INC[122]            0.42  Specio::Constraint::ObjectCan                                                   [ MD5: bf5831b14b3bd77b3f370a303888bc07 ]
# $INC[122]            0.42  Specio::Constraint::ObjectIsa                                                   [ MD5: 4c3a311a026fb13bce1d7b1a60400f3a ]
# $INC[122]            0.42  Specio::Constraint::Parameterizable                                             [ MD5: ccb40321d9eda78753b6788e9319ae11 ]
# $INC[122]            0.42  Specio::Constraint::Parameterized                                               [ MD5: 32913e97e035e0a09534a789588d9097 ]
# $INC[122]            0.42  Specio::Constraint::Role::CanType                                               [ MD5: 93232be2c0f05a9e0bfd36266d312f47 ]
# $INC[122]            0.42  Specio::Constraint::Role::Interface                                             [ MD5: 7cf74e786aeb49437c09e809359a0478 ]
# $INC[122]            0.42  Specio::Constraint::Role::IsaType                                               [ MD5: f403e93c4b2c94034eca3c1b93b0d4a2 ]
# $INC[122]            0.42  Specio::Constraint::Simple                                                      [ MD5: ba0cc03eb207e283a30b4951970b857b ]
# $INC[122]            0.42  Specio::Constraint::Union                                                       [ MD5: ee6e87fbb219329dd0e630c1d689494f ]
# $INC[122]            0.42  Specio::Declare                                                                 [ MD5: 604ee9696333bdbeaf0fbeb4aaf41044 ]
# $INC[122]            0.42  Specio::DeclaredAt                                                              [ MD5: e591e3ca8e80f565b446d594217d713d ]
# $INC[122]            0.42  Specio::Exception                                                               [ MD5: 7566d278a939ced0a62f29aaaa3d451b ]
# $INC[122]            0.42  Specio::Exporter                                                                [ MD5: c4b6b29ab1c4d432d6e30bdacaa57db6 ]
# $INC[122]            0.42  Specio::Helpers                                                                 [ MD5: f84f90f44cee1e7054bc1dc8e33fdcf8 ]
# $INC[122]            0.42  Specio::Library::Builtins                                                       [ MD5: 4a9f281c9b0dfc94377c2ecee9ff77db ]
# $INC[122]            0.42  Specio::Library::Numeric                                                        [ MD5: 437536f91edac3c7181881fb55c2da52 ]
# $INC[122]            0.42  Specio::Library::String                                                         [ MD5: 3b5e8c791b62ef48ab54256a1a40a79e ]
# $INC[122]            0.42  Specio::OO                                                                      [ MD5: 10870cbb70636b8abc509caf308454ed ]
# $INC[122]            0.42  Specio::PartialDump                                                             [ MD5: 4ea9f171348ef77a4a9e65183ac68671 ]
# $INC[122]            0.42  Specio::Registry                                                                [ MD5: fedda4f1044caf0776a830d948659820 ]
# $INC[122]            0.42  Specio::Role::Inlinable                                                         [ MD5: fb9d04f436f26444e74f43f9d10cc9ad ]
# $INC[122]            0.42  Specio::TypeChecks                                                              [ MD5: a8e43b7cd2e0e32de8509c1531dd4825 ]
#   $INC[4]            1.84  SQL::Abstract                                                                   [ MD5: 054f92aa3facdeac09d1b230a9fd6877 ]
#        PA            2.27  Storable                                                                        [ MD5: 7bcb9016b3b6b43028460dbb2cf7f1fc ]
#        PL            1.04  strict                                                                          [ MD5: 93ec0a10fdbf14b33c1c15447221e050 ]
# $INC[126]        2.004000  Sub::Defer                                                                      [ MD5: fe3f07cc2efa25ff3372e5c9bbf77969 ]
#        SL        0.001011  Sub::Exporter::Progressive                                                      [ MD5: 0cf54ad3e2305402ed4d1f73e3f59601 ]
#  $INC[88]            0.14  Sub::Identify                                                                   [ MD5: c5aa7af217a6440b522298715d770472 ]
#  $INC[68]           0.928  Sub::Install                                                                    [ MD5: f077d4c445e5cceebd5aab8460fd2d5e ]
#  $INC[66]            0.21  Sub::Name                                                                       [ MD5: f03f7cf0bb678e86d57149b9037b8970 ]
# $INC[126]        2.004000  Sub::Quote                                                                      [ MD5: a0ffb5b408a2443d9a36d742d2faf7a4 ]
# $INC[134]            1.49  Sub::Util                                                                       [ MD5: 0039259cf79a8c0f67cd3d405d14addb ]
#        PL            1.07  Symbol                                                                          [ MD5: 083c3fe866ec1be9c84540b9ac8e6eee ]
# $INC[116]        1.302106  Test2::API                                                                      [ MD5: 4efc90e955e34ff78b248271fb342d15 ]
# $INC[116]        1.302106  Test2::API::Context                                                             [ MD5: 8528a4810fd82afd2efdcd123b4f55df ]
# $INC[116]        1.302106  Test2::API::Instance                                                            [ MD5: c685782b80cfffa196e44fe929f884ab ]
# $INC[116]        1.302106  Test2::API::Stack                                                               [ MD5: 2c7bf369b4401349b63843a0424f2143 ]
# $INC[116]        1.302106  Test2::Event                                                                    [ MD5: e1eb781e48a3cd88a0dea885455538be ]
# $INC[116]        1.302106  Test2::Event::Bail                                                              [ MD5: 1fcdd9e755953a9cd315be9978df8eee ]
# $INC[116]        1.302106  Test2::Event::Diag                                                              [ MD5: fd29cc89b5d92a1fc35c07056d4be0f0 ]
# $INC[116]        1.302106  Test2::Event::Exception                                                         [ MD5: e7ed82592e9adeff365bdbc55ad918e0 ]
# $INC[116]        1.302106  Test2::Event::Fail                                                              [ MD5: b52a0dfcf9935f5ab4e501dbbd4d03c3 ]
# $INC[116]        1.302106  Test2::Event::Note                                                              [ MD5: a3aac9b9c54edaa705705c84b2590d42 ]
# $INC[116]        1.302106  Test2::Event::Ok                                                                [ MD5: 484abfaf82cfcf1278a0a75cbdd6360f ]
# $INC[116]        1.302106  Test2::Event::Pass                                                              [ MD5: 2601d15b1c07835b5b6bf3949fdbb0a5 ]
# $INC[116]        1.302106  Test2::Event::Plan                                                              [ MD5: b1645fbfc16a7527bae57167c730df14 ]
# $INC[116]        1.302106  Test2::Event::Skip                                                              [ MD5: 2ebf52bd2cd0fe945959e5b926733b72 ]
# $INC[116]        1.302106  Test2::Event::Subtest                                                           [ MD5: afd10a67c9052269a3b278b07fcc1376 ]
# $INC[116]        1.302106  Test2::Event::Waiting                                                           [ MD5: 5289ea21e4cde3ff9436b07b025e9405 ]
# $INC[116]        1.302106  Test2::EventFacet                                                               [ MD5: bcefcddb0ba08758be0c535a8c8a9cd5 ]
# $INC[116]        1.302106  Test2::EventFacet::About                                                        [ MD5: e7e667ebabea673855f469d9d9af7f49 ]
# $INC[116]        1.302106  Test2::EventFacet::Amnesty                                                      [ MD5: 4681afc3a791e64936bb51207b290429 ]
# $INC[116]        1.302106  Test2::EventFacet::Assert                                                       [ MD5: 22272e4e3563c79b3041eb92499d53e5 ]
# $INC[116]        1.302106  Test2::EventFacet::Control                                                      [ MD5: 6f4c89b15c4b9c7d1792d808e149dae8 ]
# $INC[116]        1.302106  Test2::EventFacet::Error                                                        [ MD5: 035b90aa4b3ef4b0dd721ace4b0f6840 ]
# $INC[116]        1.302106  Test2::EventFacet::Info                                                         [ MD5: f663e441d2ebc305dbce6f338a270119 ]
# $INC[116]        1.302106  Test2::EventFacet::Meta                                                         [ MD5: 3223d7d9a28356f05abf411e9db41ad7 ]
# $INC[116]        1.302106  Test2::EventFacet::Parent                                                       [ MD5: 9f0819a16c5c10099b766aa5fc064a50 ]
# $INC[116]        1.302106  Test2::EventFacet::Plan                                                         [ MD5: 388ccf24a4e2cf204c06f23753297b75 ]
# $INC[116]        1.302106  Test2::EventFacet::Trace                                                        [ MD5: ca8c15af0a13acbdbe72dd33017d71aa ]
# $INC[116]        1.302106  Test2::Formatter                                                                [ MD5: 20d75f99d5489597e260d689575da440 ]
# $INC[116]        1.302106  Test2::Formatter::TAP                                                           [ MD5: 0ff4fc096c04aa6dff34a0ca170ec5d4 ]
# $INC[116]        1.302106  Test2::Hub                                                                      [ MD5: 934fb3a109aba903b69afd2d04e1d932 ]
# $INC[116]        1.302106  Test2::Hub::Interceptor                                                         [ MD5: 48c1661873ff009ca431d6faa59f6e4a ]
# $INC[116]        1.302106  Test2::Hub::Interceptor::Terminator                                             [ MD5: eb671be66676cbbf647e0175f60a0e52 ]
# $INC[116]        1.302106  Test2::Hub::Subtest                                                             [ MD5: b6e4d2c4164ef1d12922aebe97b0ce9a ]
# $INC[116]        1.302106  Test2::Util                                                                     [ MD5: 2250b03bdea03d63d8d6d9ccec029551 ]
# $INC[116]        1.302106  Test2::Util::ExternalMeta                                                       [ MD5: 3e440ed7c6c3c9ef438bae92bb28006d ]
# $INC[116]        1.302106  Test2::Util::HashBase                                                           [ MD5: 5dd5321d3204f34d106c761ca9fb0c93 ]
# $INC[116]        1.302106  Test2::Util::Trace                                                              [ MD5: 1f182ae761038ecfe0623e1d997b396b ]
# $INC[116]        1.302106  Test::Builder                                                                   [ MD5: b9333d426611492a37117deb2a7e0da8 ]
# $INC[116]        1.302106  Test::Builder::Formatter                                                        [ MD5: 5a1c53a566f9b76ebe5cbe58f5f96944 ]
# $INC[116]        1.302106  Test::Builder::Module                                                           [ MD5: b1083767cda3312cd1c8a5ade03c9703 ]
# $INC[116]        1.302106  Test::Builder::TodoDiag                                                         [ MD5: 731e477bf7139003333a2be4981842d8 ]
# $INC[116]        1.302106  Test::More                                                                      [ MD5: 64352bb79540f0c1172dd5cbffb84e14 ]
#        SL            1.48  Test::Pod                                                                       [ MD5: 372bf34ab11ceb04f6b8f162c2fbb899 ]
#        SL            1.10  Test::Pod::Coverage                                                             [ MD5: b751ee701f87277a9013c485f474424e ]
#        SL            1.32  Text::CSV                                                                       [ MD5: aa750353c19b04375f4f3373db300fee ]
#        SL            1.31  Text::CSV_PP                                                                    [ MD5: ac76df3040005b95ccbe2fa0f13f997b ]
#        PL            1.04  Tie::Hash                                                                       [ MD5: 943acc2a68dd546d8f40afa729dce7d3 ]
#        PA       1.9721_01  Time::HiRes                                                                     [ MD5: b63c2b82d4889d458fdd77fd2c2fedf5 ]
#        SL            0.22  Try::Tiny                                                                       [ MD5: ff7e9d19175c75297ebe48c5719042aa ]
#        PL            1.09  utf8                                                                            [ MD5: d9e5dc077947b452429358d90ff2228e ]
#  $INC[92]            0.62  Variable::Magic                                                                 [ MD5: f799b01d18fef4f04032b0737bca868c ]
#        PL            1.02  vars                                                                            [ MD5: 719c6895f36545f7ccb319a156ac9058 ]
#        PL            0.88  version                                                                         [ MD5: 349a567de143602e94c858a651507481 ]
#        PL            1.12  warnings                                                                        [ MD5: 45e2642a40bb2d1b2517b6b0043f0702 ]
#        PL            1.02  warnings::register                                                              [ MD5: e607c6dfd4cc596889d41737d3c52f65 ]
#        SA            0.22  XSLoader                                                                        [ MD5: 20fd04dd1e20ba6b35abd40f4c0bcaae ]
# =============================
# 
# List of loadable modules within both the core and *OPTIONAL* dependency chains
# present on this system (modules sourced from ./blib, ./lib, ./t, and ./xt
# with versions identical to their parent namespace were omitted for brevity)
# 
#     *** Note that *MANY* of these modules will *NEVER* be loaded ***
#             *** during normal operation of DBIx::Class ***
# 
# 
t/00describe_environment.t .......................... ok
t/100populate.t ..................................... ok
t/101source.t ....................................... ok
t/101populate_rs.t .................................. ok
t/102load_classes.t ................................. ok
t/103many_to_many_warning.t ......................... ok
t/104view.t ......................................... ok
t/106dbic_carp.t .................................... ok
t/107obj_result_class.t ............................. ok
t/18insert_default.t ................................ ok
t/20setuperrors.t ................................... ok
t/19retrieve_on_insert.t ............................ ok
t/26dumper.t ........................................ ok
t/33exception_wrap.t ................................ ok
t/35exception_inaction.t ............................ ok
t/34exception_action.t .............................. ok
t/39load_namespaces_1.t ............................. ok
t/39load_namespaces_2.t ............................. ok
t/39load_namespaces_3.t ............................. ok
t/39load_namespaces_4.t ............................. ok
t/39load_namespaces_exception.t ..................... ok
t/39load_namespaces_rt41083.t ....................... ok
t/39load_namespaces_stress.t ........................ ok
t/40compose_connection.t ............................ ok
t/40resultsetmanager.t .............................. ok
t/50fork.t .......................................... skipped: Test needs DBD::Pg (see DBIx::Class::Optional::Dependencies for details)
t/46where_attribute.t ............................... ok
t/51threads.t ....................................... skipped: Test needs DBD::Pg (see DBIx::Class::Optional::Dependencies for details)
t/51threadtxn.t ..................................... skipped: Set $ENV{DBICTEST_PG_DSN}, _USER and _PASS to run this test (note: creates and drops a table named artist!)
t/51threadnodb.t .................................... ok
t/53lean_startup.t .................................. ok
t/52leaks.t ......................................... ok
t/55namespaces_cleaned.t ............................ ok
t/60core.t .......................................... ok
t/61findnot.t ....................................... ok
t/63register_class.t ................................ ok
t/63register_column.t ............................... ok
t/63register_source.t ............................... ok
t/64db.t ............................................ ok
t/65multipk.t ....................................... ok
t/67pager.t ......................................... ok
t/69update.t ........................................ ok
t/70auto.t .......................................... ok
t/71mysql.t ......................................... skipped: Set $ENV{DBICTEST_MYSQL_DSN}, _USER and _PASS to run this test
t/72pg.t ............................................ skipped: Set $ENV{DBICTEST_PG_DSN}, _USER and _PASS to run this test
t/72pg_bytea.t ...................................... skipped: Test needs DBD::Pg (see DBIx::Class::Optional::Dependencies for details)
t/73oracle_blob.t ................................... skipped: Set $ENV{DBICTEST_ORA_DSN}, _USER and _PASS to run this test.
t/73oracle.t ........................................ skipped: Set $ENV{DBICTEST_ORA_DSN}, _USER and _PASS to run this test.
t/73oracle_hq.t ..................................... skipped: Set $ENV{DBICTEST_ORA_DSN}, _USER and _PASS to run this test.
t/745db2.t .......................................... skipped: Set $ENV{DBICTEST_DB2_DSN}, _USER and _PASS to run this test
t/746db2_400.t ...................................... skipped: Set $ENV{DBICTEST_DB2_400_DSN}, _USER and _PASS to run this test
t/746mssql.t ........................................ skipped: Set $ENV{DBICTEST_MSSQL_ODBC_DSN}, _USER and _PASS to run this test
t/746sybase.t ....................................... skipped: Set $ENV{DBICTEST_SYBASE_DSN}, _USER and _PASS to run this test. Warning: This test drops and creates the tables: 'artist', 'money_test' and 'bindtype_test'
t/747mssql_ado.t .................................... skipped: Set $ENV{DBICTEST_MSSQL_ADO_DSN}, _USER and _PASS to run this test
t/748informix.t ..................................... skipped: Set $ENV{DBICTEST_INFORMIX_DSN}, _USER and _PASS to run this test
t/749sqlanywhere.t .................................. skipped: Set $ENV{DBICTEST_SQLANYWHERE_DSN} and/or $ENV{DBICTEST_SQLANYWHERE_ODBC_DSN},
t/74mssql.t ......................................... skipped: Set $ENV{DBICTEST_MSSQL_DSN}, _USER and _PASS to run this test
t/750firebird.t ..................................... skipped: Set $ENV{DBICTEST_FIREBIRD_DSN} and/or $ENV{DBICTEST_FIREBIRD_INTERBASE_DSN} and/or $ENV{DBICTEST_FIREBIRD_ODBC_DSN}, _USER and _PASS to run these tests. WARNING: this test creates and drops the tables "artist", "bindtype_test" and "sequence_test"; the generators "gen_artist_artistid", "pkid1_seq", "pkid2_seq" and "nonpkid_seq" and the trigger "artist_bi".
t/751msaccess.t ..................................... skipped: Set $ENV{DBICTEST_MSACCESS_ODBC_DSN} and/or $ENV{DBICTEST_MSACCESS_ADO_DSN} (and optionally _USER and _PASS) to run these tests.
t/76joins.t ......................................... ok
t/752sqlite.t ....................................... ok
t/76select.t ........................................ ok
t/77join_count.t .................................... ok
t/78self_referencial.t .............................. ok
t/79aliasing.t ...................................... ok
t/80unique.t ........................................ ok
t/82cascade_copy.t .................................. ok
t/83cache.t ......................................... ok
t/84serialize.t ..................................... ok
t/85utf8.t .......................................... ok
t/86sqlt.t .......................................... skipped: Test needs SQL::Translator >= 0.11018 (see DBIx::Class::Optional::Dependencies for details)
t/86might_have.t .................................... ok
t/88result_set_column.t ............................. ok
t/90ensure_class_loaded.t ........................... ok
t/90join_torture.t .................................. ok
t/91merge_joinpref_attr.t ........................... ok
t/93autocast.t ...................................... ok
t/93single_accessor_object.t ........................ ok
t/94pk_mutation.t ................................... ok
t/94versioning.t .................................... skipped: Set $ENV{DBICTEST_MYSQL_DSN}, _USER and _PASS to run this test
t/96_is_deteministic_value.t ........................ ok
t/87ordered.t ....................................... ok
t/99dbic_sqlt_parser.t .............................. skipped: Test needs SQL::Translator >= 0.11018 (see DBIx::Class::Optional::Dependencies for details)
t/97result_class.t .................................. ok
t/admin/01load.t .................................... skipped: Test needs JSON::Any >= 1.23, Moose >= 0.98, MooseX::Types >= 0.21, MooseX::Types::JSON >= 0.02, MooseX::Types::LoadableClass >= 0.011, MooseX::Types::Path::Class >= 0.05 (see DBIx::Class::Optional::Dependencies for details)
t/admin/02ddl.t ..................................... skipped: Test needs JSON::Any >= 1.23, Moose >= 0.98, MooseX::Types >= 0.21, MooseX::Types::JSON >= 0.02, MooseX::Types::LoadableClass >= 0.011, MooseX::Types::Path::Class >= 0.05 (see DBIx::Class::Optional::Dependencies for details)
t/admin/03data.t .................................... skipped: Test needs JSON::Any >= 1.23, Moose >= 0.98, MooseX::Types >= 0.21, MooseX::Types::JSON >= 0.02, MooseX::Types::LoadableClass >= 0.011, MooseX::Types::Path::Class >= 0.05 (see DBIx::Class::Optional::Dependencies for details)
t/admin/10script.t .................................. skipped: Test needs Getopt::Long::Descriptive >= 0.081, JSON::Any >= 1.31, JSON::DWIW, JSON::XS, Moose >= 0.98, MooseX::Types >= 0.21, MooseX::Types::JSON >= 0.02, MooseX::Types::LoadableClass >= 0.011, MooseX::Types::Path::Class >= 0.05
t/cdbi/01-columns.t ................................. skipped: Class::DBI required for this test
t/cdbi/02-Film.t .................................... skipped: Class::DBI required for this test
t/cdbi/03-subclassing.t ............................. skipped: Class::DBI required for this test
t/cdbi/04-lazy.t .................................... skipped: Class::DBI required for this test
t/cdbi/06-hasa.t .................................... skipped: Class::DBI required for this test
t/cdbi/08-inheritcols.t ............................. skipped: Class::DBI required for this test
t/cdbi/09-has_many.t ................................ skipped: Class::DBI required for this test
t/cdbi/11-triggers.t ................................ skipped: Class::DBI required for this test
t/cdbi/12-filter.t .................................. skipped: Class::DBI required for this test
t/cdbi/13-constraint.t .............................. skipped: Class::DBI required for this test
t/cdbi/14-might_have.t .............................. skipped: Class::DBI required for this test
t/cdbi/15-accessor.t ................................ skipped: Class::DBI required for this test
t/cdbi/16-reserved.t ................................ skipped: Class::DBI required for this test
t/cdbi/18-has_a.t ................................... skipped: Class::DBI required for this test
t/cdbi/19-set_sql.t ................................. skipped: Class::DBI required for this test
t/cdbi/21-iterator.t ................................ skipped: Class::DBI required for this test
t/cdbi/22-deflate_order.t ........................... skipped: Class::DBI required for this test
t/cdbi/22-self_referential.t ........................ skipped: Class::DBI required for this test
t/cdbi/23-cascade.t ................................. skipped: Class::DBI required for this test
t/cdbi/24-meta_info.t ............................... skipped: Class::DBI required for this test
t/cdbi/26-mutator.t ................................. skipped: Class::DBI required for this test
t/cdbi/30-pager.t ................................... skipped: Class::DBI required for this test
t/cdbi/68-inflate_has_a.t ........................... skipped: Class::DBI required for this test
t/cdbi/71_column_object.t ........................... skipped: The tested functionality is only available in Class::DBI >= 3.0.5
t/cdbi/70_implicit_inflate.t ........................ skipped: Test needs DateTime::Format::SQLite
t/cdbi/98-failure.t ................................. skipped: Class::DBI required for this test
t/cdbi/abstract/search_where.t ...................... skipped: Class::DBI required for this test
t/cdbi/columns_as_hashes.t .......................... skipped: Class::DBI required for this test
t/cdbi/columns_dont_override_custom_accessors.t ..... skipped: Class::DBI required for this test
t/cdbi/construct.t .................................. skipped: Class::DBI required for this test
t/cdbi/copy.t ....................................... skipped: Class::DBI required for this test
t/cdbi/DeepAbstractSearch/01_search.t ............... skipped: Class::DBI required for this test
t/cdbi/early_column_heisenbug.t ..................... skipped: Class::DBI required for this test
t/cdbi/has_many_loads_foreign_class.t ............... skipped: Class::DBI required for this test
t/cdbi/hasa_without_loading.t ....................... skipped: Class::DBI required for this test
t/cdbi/max_min_value_of.t ........................... skipped: Class::DBI required for this test
t/cdbi/mk_group_accessors.t ......................... skipped: Class::DBI required for this test
t/cdbi/multi_column_set.t ........................... skipped: Class::DBI required for this test
t/cdbi/object_cache.t ............................... skipped: Class::DBI required for this test
t/cdbi/retrieve_from_sql_with_limit.t ............... skipped: Class::DBI required for this test
t/cdbi/set_to_undef.t ............................... skipped: Class::DBI required for this test
t/cdbi/set_vs_DateTime.t ............................ skipped: Class::DBI required for this test
t/cdbi/sweet/08pager.t .............................. skipped: Class::DBI required for this test
t/count/count_rs.t .................................. ok
t/count/distinct.t .................................. ok
t/count/group_by_func.t ............................. ok
t/count/grouped_pager.t ............................. ok
t/count/in_subquery.t ............................... ok
t/count/joined.t .................................... ok
t/count/prefetch.t .................................. ok
t/count/search_related.t ............................ ok
t/delete/cascade_missing.t .......................... ok
t/delete/complex.t .................................. ok
t/delete/m2m.t ...................................... ok
t/delete/related.t .................................. ok
t/discard_changes_in_DESTROY.t ...................... ok
t/inflate/core.t .................................... ok
t/inflate/datetime.t ................................ skipped: DT inflation tests need DateTime::Format::SQLite
t/inflate/datetime_firebird.t ....................... skipped: Set $ENV{DBICTEST_FIREBIRD_DSN} and/or $ENV{DBICTEST_FIREBIRD_INTERBASE_DSN} and/or $ENV{DBICTEST_FIREBIRD_ODBC_DSN}, _USER and _PASS to run these tests. WARNING: This test drops and creates a table called 'event'
t/inflate/datetime_determine_parser.t ............... skipped: Test needs DateTime::Format::SQLite
t/inflate/datetime_informix.t ....................... skipped: Set $ENV{DBICTEST_INFORMIX_DSN} _USER and _PASS to run this test'.
t/inflate/datetime_missing_deps.t ................... ok
t/inflate/datetime_msaccess.t ....................... skipped: Set $ENV{DBICTEST_MSACCESS_ODBC_DSN} and/or $ENV{DBICTEST_MSACCESS_ADO_DSN} (and optionally _USER and _PASS) to run these tests.
t/inflate/datetime_mssql.t .......................... skipped: Set $ENV{DBICTEST_MSSQL_ODBC_DSN} and/or $ENV{DBICTEST_MSSQL_DSN} and/or $ENV{DBICTEST_MSSQL_ADO_DSN} _USER and _PASS to run this test
t/inflate/datetime_oracle.t ......................... skipped: Set $ENV{DBICTEST_ORA_DSN}, _USER and _PASS to run this test. Warning: This test drops and creates a table called 'event'
t/inflate/datetime_mysql.t .......................... skipped: Inflation tests need DateTime::Format::MySQL
t/inflate/datetime_pg.t ............................. skipped: Test needs DateTime::Format::Pg >= 0.16004
t/inflate/datetime_sqlanywhere.t .................... skipped: Set $ENV{DBICTEST_SQLANYWHERE_DSN} and/or $ENV{DBICTEST_SQLANYWHERE_ODBC_DSN}
t/inflate/datetime_sybase.t ......................... skipped: Set $ENV{DBICTEST_SYBASE_DSN}, _USER and _PASS to run this test
t/inflate/file_column.t ............................. ok
t/inflate/hri.t ..................................... ok
t/inflate/hri_torture.t ............................. ok
t/multi_create/cd_single.t .......................... ok
t/inflate/serialize.t ............................... ok
t/multi_create/diamond.t ............................ ok
t/multi_create/existing_in_chain.t .................. ok
t/multi_create/find_or_multicreate.t ................ ok
t/multi_create/has_many.t ........................... ok
t/multi_create/insert_defaults.t .................... ok
t/multi_create/in_memory.t .......................... ok
t/multi_create/m2m.t ................................ ok
t/multi_create/multilev_single_PKeqFK.t ............. ok
t/multi_create/reentrance_count.t ................... skipped: Disable test entirely until multicreate is rewritten in terms of subqueries
t/multi_create/torture.t ............................ ok
t/multi_create/standard.t ........................... ok
t/ordered/cascade_delete.t .......................... ok
t/ordered/unordered_movement.t ...................... ok
t/prefetch/attrs_untouched.t ........................ ok
t/prefetch/correlated.t ............................. ok
t/prefetch/count.t .................................. ok
t/prefetch/double_prefetch.t ........................ ok
t/prefetch/empty_cache.t ............................ ok
t/prefetch/false_colvalues.t ........................ ok
t/prefetch/grouped.t ................................ ok
t/prefetch/diamond.t ................................ ok
t/prefetch/incomplete.t ............................. ok
t/prefetch/join_type.t .............................. ok
t/prefetch/lazy_cursor.t ............................ ok
t/prefetch/manual.t ................................. ok
t/prefetch/multiple_hasmany.t ....................... ok
t/prefetch/multiple_hasmany_torture.t ............... ok
t/prefetch/o2m_o2m_order_by_with_limit.t ............ ok
t/prefetch/one_to_many_to_one.t ..................... ok
t/prefetch/refined_search_on_relation.t ............. ok
t/prefetch/restricted_children_set.t ................ ok
t/prefetch/standard.t ............................... ok
t/prefetch/via_search_related.t ..................... ok
t/relationship/after_update.t ....................... ok
t/prefetch/with_limit.t ............................. ok
t/relationship/core.t ............................... ok
t/relationship/custom.t ............................. ok
t/relationship/custom_opaque.t ...................... ok
t/relationship/custom_with_null_in_cond.t ........... ok
t/relationship/doesnt_exist.t ....................... ok
t/relationship/dynamic_foreign_columns.t ............ ok
t/relationship/info.t ............................... ok
t/relationship/malformed_declaration.t .............. ok
t/relationship/proxy.t .............................. ok
t/relationship/set_column_on_fk.t ................... ok
t/relationship/unresolvable.t ....................... ok
t/relationship/update_or_create_multi.t ............. ok
t/relationship/update_or_create_single.t ............ ok
t/resultset/as_query.t .............................. ok
t/resultset/as_subselect_rs.t ....................... ok
t/resultset/bind_attr.t ............................. ok
t/resultset/find_on_subquery_cond.t ................. ok
t/resultset/inflate_result_api.t .................... ok
t/resultset/inflatemap_abuse.t ...................... ok
t/resultset/is_ordered.t ............................ ok
t/resultset/is_paged.t .............................. ok
t/resultset/nulls_only.t ............................ ok
t/resultset/plus_select.t ........................... ok
t/resultset/rowparser_internals.t ................... ok
t/resultset/update_delete.t ......................... ok
t/resultset_class.t ................................. ok
t/resultset_overload.t .............................. ok
t/resultsource/bare_resultclass_exception.t ......... ok
t/resultsource/set_primary_key.t .................... ok
t/row/copy_with_extra_selection.t ................... ok
t/row/filter_column.t ............................... ok
t/row/find_one_has_many.t ........................... ok
t/row/inflate_result.t .............................. ok
t/row/pkless.t ...................................... ok
t/row/set_extra_column.t ............................ ok
t/schema/anon.t ..................................... ok
t/schema/clone.t .................................... ok
t/search/deprecated_attributes.t .................... ok
t/search/distinct.t ................................. ok
t/search/empty_attrs.t .............................. ok
t/search/preserve_original_rs.t ..................... ok
t/search/reentrancy.t ............................... ok
t/search/related_has_many.t ......................... ok
t/search/related_strip_prefetch.t ................... ok
t/search/select_chains.t ............................ ok
t/search/select_chains_unbalanced.t ................. ok
t/search/stack_cond.t ............................... ok
t/search/void.t ..................................... ok
t/search/subquery.t ................................. ok
t/sqlmaker/core.t ................................... ok
t/sqlmaker/bind_transport.t ......................... ok
t/sqlmaker/core_quoted.t ............................ ok
t/sqlmaker/hierarchical/oracle.t .................... skipped: Test needs Math::Base36 >= 0.07
t/sqlmaker/legacy_joins.t ........................... ok
t/sqlmaker/limit_dialects/basic.t ................... ok
t/sqlmaker/limit_dialects/custom.t .................. ok
t/sqlmaker/limit_dialects/fetch_first.t ............. ok
t/sqlmaker/limit_dialects/first_skip.t .............. ok
t/sqlmaker/limit_dialects/generic_subq.t ............ ok
t/sqlmaker/limit_dialects/mssql_torture.t ........... ok
t/sqlmaker/dbihacks_internals.t ..................... ok
t/sqlmaker/limit_dialects/rownum.t .................. ok
t/sqlmaker/limit_dialects/rno.t ..................... ok
t/sqlmaker/limit_dialects/skip_first.t .............. ok
t/sqlmaker/limit_dialects/toplimit.t ................ ok
t/sqlmaker/literal_with_bind.t ...................... ok
t/sqlmaker/limit_dialects/torture.t ................. ok
t/sqlmaker/msaccess.t ............................... ok
t/sqlmaker/mysql.t .................................. ok
t/sqlmaker/oracle.t ................................. skipped: Test needs Math::Base36 >= 0.07
t/sqlmaker/oraclejoin.t ............................. skipped: Test needs Math::Base36 >= 0.07
t/sqlmaker/nest_deprec.t ............................ ok
t/sqlmaker/order_by_bindtransport.t ................. ok
t/sqlmaker/order_by_func.t .......................... ok
t/sqlmaker/pg.t ..................................... ok
t/sqlmaker/quotes.t ................................. ok
t/sqlmaker/sqlite.t ................................. ok
t/storage/base.t .................................... ok
t/storage/cursor.t .................................. ok
t/storage/dbh_do.t .................................. ok
t/storage/dbi_coderef.t ............................. ok
t/storage/dbic_pretty.t ............................. skipped: Test needs JSON::Any >= 1.23
t/storage/dbi_env.t ................................. ok
t/storage/debug.t ................................... ok
t/storage/deploy.t .................................. skipped: Test needs SQL::Translator >= 0.11018 (see DBIx::Class::Optional::Dependencies for details)
t/storage/deprecated_exception_source_bind_attrs.t .. ok
t/storage/disable_sth_caching.t ..................... ok
t/storage/exception.t ............................... ok
t/storage/error.t ................................... ok
t/storage/global_destruction.t ...................... ok
t/storage/nobindvars.t .............................. ok
t/storage/on_connect_call.t ......................... ok
t/storage/on_connect_do.t ........................... ok
t/storage/ping_count.t .............................. ok
t/storage/prefer_stringification.t .................. ok
t/storage/quote_names.t ............................. ok
t/storage/reconnect.t ............................... ok
t/storage/replicated.t .............................. skipped: Test needs Moose >= 0.98, MooseX::Types >= 0.21, MooseX::Types::LoadableClass >= 0.011, Test::Moose
t/storage/savepoints.t .............................. ok
t/storage/stats.t ................................... ok
t/storage/txn_scope_guard.t ......................... ok
t/update/all.t ...................................... ok
t/storage/txn.t ..................................... ok
t/update/ident_cond.t ............................... ok
# 
# 
# 
# 208 contributors made this library what it is today
# 
# 
# Distinguished patrons:
#   * ( 2014 ~ 2015 ) Henry Van Styn, creator of http://p3rl.org/RapidApp
# 
# 
t/zzzzzzz_authors.t ................................. ok
t/update/type_aware.t ............................... ok
t/zzzzzzz_perl_perf_bug.t ........................... skipped: Skipping as system appears to be a smoker
xt/authors.t ........................................ ok
t/zzzzzzz_sqlite_deadlock.t ......................... ok
xt/dbictest_unlink_guard.t .......................... ok
xt/old_envvars.t .................................... ok
xt/optional_deps.t .................................. ok
xt/footers.t ........................................ ok
xt/podcoverage.t .................................... ok
xt/pod.t ............................................ ok
xt/quote_sub.t ...................................... ok
xt/strictures.t ..................................... skipped: Test needs: Test::Strict >= 0.20
xt/whitespace.t ..................................... skipped: Test needs: Test::EOL >= 1.0, Test::NoTabs >= 0.9
xt/standalone_testschema_resultclasses.t ............ ok
All tests successful.
Files=319, Tests=41396, 187 wallclock secs ( 7.91 usr  1.99 sys + 261.84 cusr 53.86 csys = 325.60 CPU)
Result: PASS

------------------------------
PREREQUISITES
------------------------------

Prerequisite modules loaded:

requires:

    Module                   Need     Have    
    ------------------------ -------- --------
    Class::Accessor::Grouped 0.10012  0.10012 
    Class::C3::Componentised 1.0009   1.001000
    Class::Inspector         1.24     1.32    
    Config::Any              0.20     0.32    
    Context::Preserve        0.01     0.03    
    Data::Dumper::Concise    2.020    2.023   
    Data::Page               2.00     2.02    
    DBD::SQLite              1.29     1.44    
    DBI                      1.57     1.632   
    Devel::GlobalDestruction 0.09     0.13    
    File::Temp               0.22     0.22    
    Hash::Merge              0.12     0.298   
    List::Util               1.16     1.49    
    Module::Find             0.07     0.13    
    Moo                      2.000    2.003002
    MRO::Compat              0.12     0.13    
    namespace::clean         0.24     0.27    
    Package::Stash           0.28     0.37    
    Path::Class              0.18     0.35    
    perl                     5.008001 5.014003
    Scope::Guard             0.03     0.21    
    SQL::Abstract            1.81     1.84    
    Sub::Name                0.04     0.21    
    Test::Deep               0.101    1.127   
    Test::Exception          0.31     0.43    
    Test::More               0.94     1.302106
    Test::Warn               0.21     0.30    
    Text::Balanced           2.00     2.02    
    Try::Tiny                0.07     0.22    

build_requires:

    Module                   Need     Have    
    ------------------------ -------- --------
    DBD::SQLite              1.29     1.44    
    ExtUtils::MakeMaker      6.59     7.22    
    File::Temp               0.22     0.22    
    Package::Stash           0.28     0.37    
    Test::Deep               0.101    1.127   
    Test::Exception          0.31     0.43    
    Test::More               0.94     1.302106
    Test::Warn               0.21     0.30    

configure_requires:

    Module                   Need     Have    
    ------------------------ -------- --------
    ExtUtils::MakeMaker      6.59     7.22    


------------------------------
ENVIRONMENT AND OTHER CONTEXT
------------------------------

Environment variables:

    AUTOMATED_TESTING = 1
    HARNESS_OPTIONS = j2
    LANG = en_GB.UTF-8
    LANGUAGE = en_GB:en
    PATH = /home/njh/perl5/perlbrew/bin:/home/njh/perl5/perlbrew/perls/perl-5.14.3/bin:/home/njh/perl5/perlbrew/bin:/usr/bin:/bin:src/njh/smoker/bin
    PERL5LIB = /home/njh/.cpan/build/SQL-Abstract-1.84-3/blib/arch:/home/njh/.cpan/build/SQL-Abstract-1.84-3/blib/lib:/home/njh/.cpan/build/Module-Find-0.13-3/blib/arch:/home/njh/.cpan/build/Module-Find-0.13-3/blib/lib:/home/njh/.cpan/build/Hash-Merge-0.298-3/blib/arch:/home/njh/.cpan/build/Hash-Merge-0.298-3/blib/lib:/home/njh/.cpan/build/Clone-Choose-0.008-3/blib/arch:/home/njh/.cpan/build/Clone-Choose-0.008-3/blib/lib:/home/njh/.cpan/build/Data-Page-2.02-3/blib/arch:/home/njh/.cpan/build/Data-Page-2.02-3/blib/lib:/home/njh/.cpan/build/Class-Accessor-Chained-0.01-2/blib/arch:/home/njh/.cpan/build/Class-Accessor-Chained-0.01-2/blib/lib:/home/njh/.cpan/build/Class-Accessor-0.51-2/blib/arch:/home/njh/.cpan/build/Class-Accessor-0.51-2/blib/lib:/home/njh/.cpan/build/Data-Dumper-Concise-2.023-3/blib/arch:/home/njh/.cpan/build/Data-Dumper-Concise-2.023-3/blib/lib:/home/njh/.cpan/build/Context-Preserve-0.03-3/blib/arch:/home/njh/.cpan/build/Context-Preserve-0.03-3/blib/lib:/home/njh/.cpan/build/Config-Any-0.32-3/blib/arch:/home/njh/.cpan/build/Config-Any-0.32-3/blib/lib:/home/njh/.cpan/build/Class-C3-Componentised-1.001000-3/blib/arch:/home/njh/.cpan/build/Class-C3-Componentised-1.001000-3/blib/lib:/home/njh/.cpan/build/Class-C3-0.33-3/blib/arch:/home/njh/.cpan/build/Class-C3-0.33-3/blib/lib:/home/njh/.cpan/build/Algorithm-C3-0.10-3/blib/arch:/home/njh/.cpan/build/Algorithm-C3-0.10-3/blib/lib:/home/njh/.cpan/build/Class-Accessor-Grouped-0.10012-3/blib/arch:/home/njh/.cpan/build/Class-Accessor-Grouped-0.10012-3/blib/lib:/home/njh/.cpan/build/Class-XSAccessor-1.19-2/blib/arch:/home/njh/.cpan/build/Class-XSAccessor-1.19-2/blib/lib:/home/njh/.cpan/build/GraphQL-0.21-4/blib/arch:/home/njh/.cpan/build/GraphQL-0.21-4/blib/lib:/home/njh/.cpan/build/Return-Type-0.005-3/blib/arch:/home/njh/.cpan/build/Return-Type-0.005-3/blib/lib:/home/njh/.cpan/build/Pegex-0.64-3/blib/arch:/home/njh/.cpan/build/Pegex-0.64-3/blib/lib:/home/njh/.cpan/build/MooX-Thunking-0.07-3/blib/arch:/home/njh/.cpan/build/MooX-Thunking-0.07-3/blib/lib:/home/njh/.cpan/build/Moo-2.003002-4/blib/arch:/home/njh/.cpan/build/Moo-2.003002-4/blib/lib:/home/njh/.cpan/build/Class-Method-Modifiers-2.12-3/blib/arch:/home/njh/.cpan/build/Class-Method-Modifiers-2.12-3/blib/lib:/home/njh/.cpan/build/JSON-PP-2.94-3/blib/arch:/home/njh/.cpan/build/JSON-PP-2.94-3/blib/lib:/home/njh/.cpan/build/JSON-MaybeXS-1.003009-3/blib/arch:/home/njh/.cpan/build/JSON-MaybeXS-1.003009-3/blib/lib:/home/njh/.cpan/build/Cpanel-JSON-XS-3.0239-2/blib/arch:/home/njh/.cpan/build/Cpanel-JSON-XS-3.0239-2/blib/lib:/home/njh/.cpan/build/Function-Parameters-2.001003-3/blib/arch:/home/njh/.cpan/build/Function-Parameters-2.001003-3/blib/lib:/home/njh/.cpan/build/Dir-Self-0.11-3/blib/arch:/home/njh/.cpan/build/Dir-Self-0.11-3/blib/lib:/home/njh/.cpan/build/DateTime-Format-ISO8601-0.08-3/blib/arch:/home/njh/.cpan/build/DateTime-Format-ISO8601-0.08-3/blib/lib:/home/njh/.cpan/build/DateTime-Format-Builder-0.81-3/blib/arch:/home/njh/.cpan/build/DateTime-Format-Builder-0.81-3/blib/lib:/home/njh/.cpan/build/Params-Validate-1.29-2/blib/arch:/home/njh/.cpan/build/Params-Validate-1.29-2/blib/lib:/home/njh/.cpan/build/DateTime-Format-Strptime-1.74-2/blib/arch:/home/njh/.cpan/build/DateTime-Format-Strptime-1.74-2/blib/lib:/home/njh/.cpan/build/Package-DeprecationManager-0.17-4/blib/arch:/home/njh/.cpan/build/Package-DeprecationManager-0.17-4/blib/lib:/home/njh/.cpan/build/Sub-Name-0.21-5/blib/arch:/home/njh/.cpan/build/Sub-Name-0.21-5/blib/lib:/home/njh/.cpan/build/Sub-Install-0.928-4/blib/arch:/home/njh/.cpan/build/Sub-Install-0.928-4/blib/lib:/home/njh/.cpan/build/Params-Util-1.07-4/blib/arch:/home/njh/.cpan/build/Params-Util-1.07-4/blib/lib:/home/njh/.cpan/build/Class-Factory-Util-1.7-3/blib/arch:/home/njh/.cpan/build/Class-Factory-Util-1.7-3/blib/lib:/home/njh/.cpan/build/DateTime-1.44-3/blib/arch:/home/njh/.cpan/build/DateTime-1.44-3/blib/lib:/home/njh/.cpan/build/DateTime-TimeZone-2.15-3/blib/arch:/home/njh/.cpan/build/DateTime-TimeZone-2.15-3/blib/lib:/home/njh/.cpan/build/DateTime-Locale-1.17-3/blib/arch:/home/njh/.cpan/build/DateTime-Locale-1.17-3/blib/lib:/home/njh/.cpan/build/namespace-autoclean-0.28-3/blib/arch:/home/njh/.cpan/build/namespace-autoclean-0.28-3/blib/lib:/home/njh/.cpan/build/namespace-clean-0.27-4/blib/arch:/home/njh/.cpan/build/namespace-clean-0.27-4/blib/lib:/home/njh/.cpan/build/Package-Stash-0.37-4/blib/arch:/home/njh/.cpan/build/Package-Stash-0.37-4/blib/lib:/home/njh/.cpan/build/Package-Stash-XS-0.28-4/blib/arch:/home/njh/.cpan/build/Package-Stash-XS-0.28-4/blib/lib:/home/njh/.cpan/build/Sub-Identify-0.14-3/blib/arch:/home/njh/.cpan/build/Sub-Identify-0.14-3/blib/lib:/home/njh/.cpan/build/B-Hooks-EndOfScope-0.21-4/blib/arch:/home/njh/.cpan/build/B-Hooks-EndOfScope-0.21-4/blib/lib:/home/njh/.cpan/build/Variable-Magic-0.62-3/blib/arch:/home/njh/.cpan/build/Variable-Magic-0.62-3/blib/lib:/home/njh/.cpan/build/Module-Implementation-0.09-4/blib/arch:/home/njh/.cpan/build/Module-Implementation-0.09-4/blib/lib:/home/njh/.cpan/build/Devel-Hide-0.0009-4/blib/arch:/home/njh/.cpan/build/Devel-Hide-0.0009-4/blib/lib:/home/njh/.cpan/build/Test-Warnings-0.026-4/blib/arch:/home/njh/.cpan/build/Test-Warnings-0.026-4/blib/lib:/home/njh/.cpan/build/Test-File-ShareDir-1.001002-3/blib/arch:/home/njh/.cpan/build/Test-File-ShareDir-1.001002-3/blib/lib:/home/njh/.cpan/build/Scope-Guard-0.21-4/blib/arch:/home/njh/.cpan/build/Scope-Guard-0.21-4/blib/lib:/home/njh/.cpan/build/Class-Tiny-1.006-3/blib/arch:/home/njh/.cpan/build/Class-Tiny-1.006-3/blib/lib:/home/njh/.cpan/build/Params-ValidationCompiler-0.24-3/blib/arch:/home/njh/.cpan/build/Params-ValidationCompiler-0.24-3/blib/lib:/home/njh/.cpan/build/Test-Without-Module-0.20-3/blib/arch:/home/njh/.cpan/build/Test-Without-Module-0.20-3/blib/lib:/home/njh/.cpan/build/Test2-Plugin-NoWarnings-0.06-3/blib/arch:/home/njh/.cpan/build/Test2-Plugin-NoWarnings-0.06-3/blib/lib:/home/njh/.cpan/build/Test2-Suite-0.000083-3/blib/arch:/home/njh/.cpan/build/Test2-Suite-0.000083-3/blib/lib:/home/njh/.cpan/build/Term-Table-0.012-3/blib/arch:/home/njh/.cpan/build/Term-Table-0.012-3/blib/lib:/home/njh/.cpan/build/Test-Simple-1.302106-3/blib/arch:/home/njh/.cpan/build/Test-Simple-1.302106-3/blib/lib:/home/njh/.cpan/build/Sub-Info-0.002-3/blib/arch:/home/njh/.cpan/build/Sub-Info-0.002-3/blib/lib:/home/njh/.cpan/build/Importer-0.024-3/blib/arch:/home/njh/.cpan/build/Importer-0.024-3/blib/lib:/home/njh/.cpan/build/Specio-0.42-3/blib/arch:/home/njh/.cpan/build/Specio-0.42-3/blib/lib:/home/njh/.cpan/build/Test-Needs-0.002005-4/blib/arch:/home/njh/.cpan/build/Test-Needs-0.002005-4/blib/lib:/home/njh/.cpan/build/Sub-Quote-2.004000-4/blib/arch:/home/njh/.cpan/build/Sub-Quote-2.004000-4/blib/lib:/home/njh/.cpan/build/Role-Tiny-2.000006-4/blib/arch:/home/njh/.cpan/build/Role-Tiny-2.000006-4/blib/lib:/home/njh/.cpan/build/MRO-Compat-0.13-4/blib/arch:/home/njh/.cpan/build/MRO-Compat-0.13-4/blib/lib:/home/njh/.cpan/build/Eval-Closure-0.14-4/blib/arch:/home/njh/.cpan/build/Eval-Closure-0.14-4/blib/lib:/home/njh/.cpan/build/Scalar-List-Utils-1.49-5/blib/arch:/home/njh/.cpan/build/Scalar-List-Utils-1.49-5/blib/lib:/home/njh/.cpan/build/File-ShareDir-1.104-4/blib/arch:/home/njh/.cpan/build/File-ShareDir-1.104-4/blib/lib:/home/njh/.cpan/build/Class-Inspector-1.32-4/blib/arch:/home/njh/.cpan/build/Class-Inspector-1.32-4/blib/lib:/home/njh/.cpan/build/File-ShareDir-Install-0.11-4/blib/arch:/home/njh/.cpan/build/File-ShareDir-Install-0.11-4/blib/lib:/home/njh/.cpan/build/CPAN-Meta-Check-0.014-4/blib/arch:/home/njh/.cpan/build/CPAN-Meta-Check-0.014-4/blib/lib:/home/njh/.cpan/build/Module-Metadata-1.000033-2/blib/arch:/home/njh/.cpan/build/Module-Metadata-1.000033-2/blib/lib:/home/njh/.cpan/build/Dist-CheckConflicts-0.11-4/blib/arch:/home/njh/.cpan/build/Dist-CheckConflicts-0.11-4/blib/lib
    PERL5OPT = 
    PERL5_CPANPLUS_IS_RUNNING = 31528
    PERL5_CPAN_IS_RUNNING = 31528
    PERLBREW_BASHRC_VERSION = 0.75
    PERLBREW_LIB = 
    PERLBREW_MANPATH = /home/njh/perl5/perlbrew/perls/perl-5.14.3/man
    PERLBREW_PATH = /home/njh/perl5/perlbrew/bin:/home/njh/perl5/perlbrew/perls/perl-5.14.3/bin
    PERLBREW_PERL = perl-5.14.3
    PERLBREW_ROOT = /home/njh/perl5/perlbrew
    PERLBREW_VERSION = 0.75
    PERL_LOCAL_LIB_ROOT = 
    SHELL = /bin/sh

Perl special variables (and OS-specific diagnostics, for MSWin32):

    $^X = /home/njh/perl5/perlbrew/perls/perl-5.14.3/bin/perl
    $UID/$EUID = 1000 / 1000
    $GID = 1000 4 24 25 29 30 44 46 103 108 116 127 1000
    $EGID = 1000 4 24 25 29 30 44 46 103 108 116 127 1000

Perl module toolchain versions installed:

    Module              Have    
    ------------------- --------
    CPAN                2.16    
    CPAN::Meta          2.150005
    Cwd                 3.47    
    ExtUtils::CBuilder  0.280220
    ExtUtils::Command   7.22    
    ExtUtils::Install   1.56    
    ExtUtils::MakeMaker 7.22    
    ExtUtils::Manifest  1.70    
    ExtUtils::ParseXS   3.30    
    File::Spec          3.47    
    JSON                2.90    
    JSON::PP            2.94    
    Module::Build       0.4210  
    Module::Signature   n/a     
    Parse::CPAN::Meta   1.4422  
    Test::Harness       3.36    
    Test::More          1.302106
    YAML                1.23    
    YAML::Syck          1.30    
    version             0.88    


--

Summary of my perl5 (revision 5 version 14 subversion 3) configuration:
   
  Platform:
    osname=linux, osvers=3.16-3-amd64, archname=x86_64-linux-thread-multi
    uname='linux compaq 3.16-3-amd64 #1 smp debian 3.16.5-1 (2014-10-10) x86_64 gnulinux '
    config_args='-de -Dprefix=/home/njh/perl5/perlbrew/perls/perl-5.14.3 -Duseithreads -Dusemultiplicity -Dusedevel -Accflags= -Aeval:scriptdir=/home/njh/perl5/perlbrew/perls/perl-5.14.3/bin'
    hint=recommended, useposix=true, d_sigaction=define
    useithreads=define, usemultiplicity=define
    useperlio=define, d_sfio=undef, uselargefiles=define, usesocks=undef
    use64bitint=define, use64bitall=define, uselongdouble=undef
    usemymalloc=n, bincompat5005=undef
  Compiler:
    cc='cc', ccflags ='-D_REENTRANT -D_GNU_SOURCE -fno-strict-aliasing -pipe -fstack-protector -I/usr/local/include -D_LARGEFILE_SOURCE -D_FILE_OFFSET_BITS=64',
    optimize='-O2',
    cppflags='-D_REENTRANT -D_GNU_SOURCE -fno-strict-aliasing -pipe -fstack-protector -I/usr/local/include'
    ccversion='', gccversion='4.9.2', gccosandvers=''
    intsize=4, longsize=8, ptrsize=8, doublesize=8, byteorder=12345678
    d_longlong=define, longlongsize=8, d_longdbl=define, longdblsize=16
    ivtype='long', ivsize=8, nvtype='double', nvsize=8, Off_t='off_t', lseeksize=8
    alignbytes=8, prototype=define
  Linker and Libraries:
    ld='cc', ldflags =' -fstack-protector -L/usr/local/lib'
    libpth=/usr/local/lib /lib/x86_64-linux-gnu /lib/../lib /usr/lib/x86_64-linux-gnu /usr/lib/../lib /lib /usr/lib
    libs=-lnsl -lgdbm -ldb -ldl -lm -lcrypt -lutil -lpthread -lc -lgdbm_compat
    perllibs=-lnsl -ldl -lm -lcrypt -lutil -lpthread -lc
    libc=, so=so, useshrplib=false, libperl=libperl.a
    gnulibc_version='2.19'
  Dynamic Linking:
    dlsrc=dl_dlopen.xs, dlext=so, d_dlsymun=undef, ccdlflags='-Wl,-E'
    cccdlflags='-fPIC', lddlflags='-shared -O2 -L/usr/local/lib -fstack-protector'


Characteristics of this binary (from libperl): 
  Compile-time options: MULTIPLICITY PERL_DONT_CREATE_GVSV
                        PERL_IMPLICIT_CONTEXT PERL_MALLOC_WRAP
                        PERL_PRESERVE_IVUV PERL_USE_DEVEL USE_64_BIT_ALL
                        USE_64_BIT_INT USE_ITHREADS USE_LARGE_FILES
                        USE_PERLIO USE_PERL_ATOF USE_REENTRANT_API
  Built under linux
  Compiled at Nov 15 2014 06:26:17
  %ENV:
    PERL5LIB="/home/njh/.cpan/build/SQL-Abstract-1.84-3/blib/arch:/home/njh/.cpan/build/SQL-Abstract-1.84-3/blib/lib:/home/njh/.cpan/build/Module-Find-0.13-3/blib/arch:/home/njh/.cpan/build/Module-Find-0.13-3/blib/lib:/home/njh/.cpan/build/Hash-Merge-0.298-3/blib/arch:/home/njh/.cpan/build/Hash-Merge-0.298-3/blib/lib:/home/njh/.cpan/build/Clone-Choose-0.008-3/blib/arch:/home/njh/.cpan/build/Clone-Choose-0.008-3/blib/lib:/home/njh/.cpan/build/Data-Page-2.02-3/blib/arch:/home/njh/.cpan/build/Data-Page-2.02-3/blib/lib:/home/njh/.cpan/build/Class-Accessor-Chained-0.01-2/blib/arch:/home/njh/.cpan/build/Class-Accessor-Chained-0.01-2/blib/lib:/home/njh/.cpan/build/Class-Accessor-0.51-2/blib/arch:/home/njh/.cpan/build/Class-Accessor-0.51-2/blib/lib:/home/njh/.cpan/build/Data-Dumper-Concise-2.023-3/blib/arch:/home/njh/.cpan/build/Data-Dumper-Concise-2.023-3/blib/lib:/home/njh/.cpan/build/Context-Preserve-0.03-3/blib/arch:/home/njh/.cpan/build/Context-Preserve-0.03-3/blib/lib:/home/njh/.cpan/build/Config-Any-0.32-3/blib/arch:/home/njh/.cpan/build/Config-Any-0.32-3/blib/lib:/home/njh/.cpan/build/Class-C3-Componentised-1.001000-3/blib/arch:/home/njh/.cpan/build/Class-C3-Componentised-1.001000-3/blib/lib:/home/njh/.cpan/build/Class-C3-0.33-3/blib/arch:/home/njh/.cpan/build/Class-C3-0.33-3/blib/lib:/home/njh/.cpan/build/Algorithm-C3-0.10-3/blib/arch:/home/njh/.cpan/build/Algorithm-C3-0.10-3/blib/lib:/home/njh/.cpan/build/Class-Accessor-Grouped-0.10012-3/blib/arch:/home/njh/.cpan/build/Class-Accessor-Grouped-0.10012-3/blib/lib:/home/njh/.cpan/build/Class-XSAccessor-1.19-2/blib/arch:/home/njh/.cpan/build/Class-XSAccessor-1.19-2/blib/lib:/home/njh/.cpan/build/GraphQL-0.21-4/blib/arch:/home/njh/.cpan/build/GraphQL-0.21-4/blib/lib:/home/njh/.cpan/build/Return-Type-0.005-3/blib/arch:/home/njh/.cpan/build/Return-Type-0.005-3/blib/lib:/home/njh/.cpan/build/Pegex-0.64-3/blib/arch:/home/njh/.cpan/build/Pegex-0.64-3/blib/lib:/home/njh/.cpan/build/MooX-Thunking-0.07-3/blib/arch:/home/njh/.cpan/build/MooX-Thunking-0.07-3/blib/lib:/home/njh/.cpan/build/Moo-2.003002-4/blib/arch:/home/njh/.cpan/build/Moo-2.003002-4/blib/lib:/home/njh/.cpan/build/Class-Method-Modifiers-2.12-3/blib/arch:/home/njh/.cpan/build/Class-Method-Modifiers-2.12-3/blib/lib:/home/njh/.cpan/build/JSON-PP-2.94-3/blib/arch:/home/njh/.cpan/build/JSON-PP-2.94-3/blib/lib:/home/njh/.cpan/build/JSON-MaybeXS-1.003009-3/blib/arch:/home/njh/.cpan/build/JSON-MaybeXS-1.003009-3/blib/lib:/home/njh/.cpan/build/Cpanel-JSON-XS-3.0239-2/blib/arch:/home/njh/.cpan/build/Cpanel-JSON-XS-3.0239-2/blib/lib:/home/njh/.cpan/build/Function-Parameters-2.001003-3/blib/arch:/home/njh/.cpan/build/Function-Parameters-2.001003-3/blib/lib:/home/njh/.cpan/build/Dir-Self-0.11-3/blib/arch:/home/njh/.cpan/build/Dir-Self-0.11-3/blib/lib:/home/njh/.cpan/build/DateTime-Format-ISO8601-0.08-3/blib/arch:/home/njh/.cpan/build/DateTime-Format-ISO8601-0.08-3/blib/lib:/home/njh/.cpan/build/DateTime-Format-Builder-0.81-3/blib/arch:/home/njh/.cpan/build/DateTime-Format-Builder-0.81-3/blib/lib:/home/njh/.cpan/build/Params-Validate-1.29-2/blib/arch:/home/njh/.cpan/build/Params-Validate-1.29-2/blib/lib:/home/njh/.cpan/build/DateTime-Format-Strptime-1.74-2/blib/arch:/home/njh/.cpan/build/DateTime-Format-Strptime-1.74-2/blib/lib:/home/njh/.cpan/build/Package-DeprecationManager-0.17-4/blib/arch:/home/njh/.cpan/build/Package-DeprecationManager-0.17-4/blib/lib:/home/njh/.cpan/build/Sub-Name-0.21-5/blib/arch:/home/njh/.cpan/build/Sub-Name-0.21-5/blib/lib:/home/njh/.cpan/build/Sub-Install-0.928-4/blib/arch:/home/njh/.cpan/build/Sub-Install-0.928-4/blib/lib:/home/njh/.cpan/build/Params-Util-1.07-4/blib/arch:/home/njh/.cpan/build/Params-Util-1.07-4/blib/lib:/home/njh/.cpan/build/Class-Factory-Util-1.7-3/blib/arch:/home/njh/.cpan/build/Class-Factory-Util-1.7-3/blib/lib:/home/njh/.cpan/build/DateTime-1.44-3/blib/arch:/home/njh/.cpan/build/DateTime-1.44-3/blib/lib:/home/njh/.cpan/build/DateTime-TimeZone-2.15-3/blib/arch:/home/njh/.cpan/build/DateTime-TimeZone-2.15-3/blib/lib:/home/njh/.cpan/build/DateTime-Locale-1.17-3/blib/arch:/home/njh/.cpan/build/DateTime-Locale-1.17-3/blib/lib:/home/njh/.cpan/build/namespace-autoclean-0.28-3/blib/arch:/home/njh/.cpan/build/namespace-autoclean-0.28-3/blib/lib:/home/njh/.cpan/build/namespace-clean-0.27-4/blib/arch:/home/njh/.cpan/build/namespace-clean-0.27-4/blib/lib:/home/njh/.cpan/build/Package-Stash-0.37-4/blib/arch:/home/njh/.cpan/build/Package-Stash-0.37-4/blib/lib:/home/njh/.cpan/build/Package-Stash-XS-0.28-4/blib/arch:/home/njh/.cpan/build/Package-Stash-XS-0.28-4/blib/lib:/home/njh/.cpan/build/Sub-Identify-0.14-3/blib/arch:/home/njh/.cpan/build/Sub-Identify-0.14-3/blib/lib:/home/njh/.cpan/build/B-Hooks-EndOfScope-0.21-4/blib/arch:/home/njh/.cpan/build/B-Hooks-EndOfScope-0.21-4/blib/lib:/home/njh/.cpan/build/Variable-Magic-0.62-3/blib/arch:/home/njh/.cpan/build/Variable-Magic-0.62-3/blib/lib:/home/njh/.cpan/build/Module-Implementation-0.09-4/blib/arch:/home/njh/.cpan/build/Module-Implementation-0.09-4/blib/lib:/home/njh/.cpan/build/Devel-Hide-0.0009-4/blib/arch:/home/njh/.cpan/build/Devel-Hide-0.0009-4/blib/lib:/home/njh/.cpan/build/Test-Warnings-0.026-4/blib/arch:/home/njh/.cpan/build/Test-Warnings-0.026-4/blib/lib:/home/njh/.cpan/build/Test-File-ShareDir-1.001002-3/blib/arch:/home/njh/.cpan/build/Test-File-ShareDir-1.001002-3/blib/lib:/home/njh/.cpan/build/Scope-Guard-0.21-4/blib/arch:/home/njh/.cpan/build/Scope-Guard-0.21-4/blib/lib:/home/njh/.cpan/build/Class-Tiny-1.006-3/blib/arch:/home/njh/.cpan/build/Class-Tiny-1.006-3/blib/lib:/home/njh/.cpan/build/Params-ValidationCompiler-0.24-3/blib/arch:/home/njh/.cpan/build/Params-ValidationCompiler-0.24-3/blib/lib:/home/njh/.cpan/build/Test-Without-Module-0.20-3/blib/arch:/home/njh/.cpan/build/Test-Without-Module-0.20-3/blib/lib:/home/njh/.cpan/build/Test2-Plugin-NoWarnings-0.06-3/blib/arch:/home/njh/.cpan/build/Test2-Plugin-NoWarnings-0.06-3/blib/lib:/home/njh/.cpan/build/Test2-Suite-0.000083-3/blib/arch:/home/njh/.cpan/build/Test2-Suite-0.000083-3/blib/lib:/home/njh/.cpan/build/Term-Table-0.012-3/blib/arch:/home/njh/.cpan/build/Term-Table-0.012-3/blib/lib:/home/njh/.cpan/build/Test-Simple-1.302106-3/blib/arch:/home/njh/.cpan/build/Test-Simple-1.302106-3/blib/lib:/home/njh/.cpan/build/Sub-Info-0.002-3/blib/arch:/home/njh/.cpan/build/Sub-Info-0.002-3/blib/lib:/home/njh/.cpan/build/Importer-0.024-3/blib/arch:/home/njh/.cpan/build/Importer-0.024-3/blib/lib:/home/njh/.cpan/build/Specio-0.42-3/blib/arch:/home/njh/.cpan/build/Specio-0.42-3/blib/lib:/home/njh/.cpan/build/Test-Needs-0.002005-4/blib/arch:/home/njh/.cpan/build/Test-Needs-0.002005-4/blib/lib:/home/njh/.cpan/build/Sub-Quote-2.004000-4/blib/arch:/home/njh/.cpan/build/Sub-Quote-2.004000-4/blib/lib:/home/njh/.cpan/build/Role-Tiny-2.000006-4/blib/arch:/home/njh/.cpan/build/Role-Tiny-2.000006-4/blib/lib:/home/njh/.cpan/build/MRO-Compat-0.13-4/blib/arch:/home/njh/.cpan/build/MRO-Compat-0.13-4/blib/lib:/home/njh/.cpan/build/Eval-Closure-0.14-4/blib/arch:/home/njh/.cpan/build/Eval-Closure-0.14-4/blib/lib:/home/njh/.cpan/build/Scalar-List-Utils-1.49-5/blib/arch:/home/njh/.cpan/build/Scalar-List-Utils-1.49-5/blib/lib:/home/njh/.cpan/build/File-ShareDir-1.104-4/blib/arch:/home/njh/.cpan/build/File-ShareDir-1.104-4/blib/lib:/home/njh/.cpan/build/Class-Inspector-1.32-4/blib/arch:/home/njh/.cpan/build/Class-Inspector-1.32-4/blib/lib:/home/njh/.cpan/build/File-ShareDir-Install-0.11-4/blib/arch:/home/njh/.cpan/build/File-ShareDir-Install-0.11-4/blib/lib:/home/njh/.cpan/build/CPAN-Meta-Check-0.014-4/blib/arch:/home/njh/.cpan/build/CPAN-Meta-Check-0.014-4/blib/lib:/home/njh/.cpan/build/Module-Metadata-1.000033-2/blib/arch:/home/njh/.cpan/build/Module-Metadata-1.000033-2/blib/lib:/home/njh/.cpan/build/Dist-CheckConflicts-0.11-4/blib/arch:/home/njh/.cpan/build/Dist-CheckConflicts-0.11-4/blib/lib"
    PERL5OPT=""
    PERL5_CPANPLUS_IS_RUNNING="31528"
    PERL5_CPAN_IS_RUNNING="31528"
    PERLBREW_BASHRC_VERSION="0.75"
    PERLBREW_LIB=""
    PERLBREW_MANPATH="/home/njh/perl5/perlbrew/perls/perl-5.14.3/man"
    PERLBREW_PATH="/home/njh/perl5/perlbrew/bin:/home/njh/perl5/perlbrew/perls/perl-5.14.3/bin"
    PERLBREW_PERL="perl-5.14.3"
    PERLBREW_ROOT="/home/njh/perl5/perlbrew"
    PERLBREW_VERSION="0.75"
    PERL_LOCAL_LIB_ROOT=""
  @INC:
    /home/njh/.cpan/build/SQL-Abstract-1.84-3/blib/arch
    /home/njh/.cpan/build/SQL-Abstract-1.84-3/blib/lib
    /home/njh/.cpan/build/Module-Find-0.13-3/blib/arch
    /home/njh/.cpan/build/Module-Find-0.13-3/blib/lib
    /home/njh/.cpan/build/Hash-Merge-0.298-3/blib/arch
    /home/njh/.cpan/build/Hash-Merge-0.298-3/blib/lib
    /home/njh/.cpan/build/Clone-Choose-0.008-3/blib/arch
    /home/njh/.cpan/build/Clone-Choose-0.008-3/blib/lib
    /home/njh/.cpan/build/Data-Page-2.02-3/blib/arch
    /home/njh/.cpan/build/Data-Page-2.02-3/blib/lib
    /home/njh/.cpan/build/Class-Accessor-Chained-0.01-2/blib/arch
    /home/njh/.cpan/build/Class-Accessor-Chained-0.01-2/blib/lib
    /home/njh/.cpan/build/Class-Accessor-0.51-2/blib/arch
    /home/njh/.cpan/build/Class-Accessor-0.51-2/blib/lib
    /home/njh/.cpan/build/Data-Dumper-Concise-2.023-3/blib/arch
    /home/njh/.cpan/build/Data-Dumper-Concise-2.023-3/blib/lib
    /home/njh/.cpan/build/Context-Preserve-0.03-3/blib/arch
    /home/njh/.cpan/build/Context-Preserve-0.03-3/blib/lib
    /home/njh/.cpan/build/Config-Any-0.32-3/blib/arch
    /home/njh/.cpan/build/Config-Any-0.32-3/blib/lib
    /home/njh/.cpan/build/Class-C3-Componentised-1.001000-3/blib/arch
    /home/njh/.cpan/build/Class-C3-Componentised-1.001000-3/blib/lib
    /home/njh/.cpan/build/Class-C3-0.33-3/blib/arch
    /home/njh/.cpan/build/Class-C3-0.33-3/blib/lib
    /home/njh/.cpan/build/Algorithm-C3-0.10-3/blib/arch
    /home/njh/.cpan/build/Algorithm-C3-0.10-3/blib/lib
    /home/njh/.cpan/build/Class-Accessor-Grouped-0.10012-3/blib/arch
    /home/njh/.cpan/build/Class-Accessor-Grouped-0.10012-3/blib/lib
    /home/njh/.cpan/build/Class-XSAccessor-1.19-2/blib/arch
    /home/njh/.cpan/build/Class-XSAccessor-1.19-2/blib/lib
    /home/njh/.cpan/build/GraphQL-0.21-4/blib/arch
    /home/njh/.cpan/build/GraphQL-0.21-4/blib/lib
    /home/njh/.cpan/build/Return-Type-0.005-3/blib/arch
    /home/njh/.cpan/build/Return-Type-0.005-3/blib/lib
    /home/njh/.cpan/build/Pegex-0.64-3/blib/arch
    /home/njh/.cpan/build/Pegex-0.64-3/blib/lib
    /home/njh/.cpan/build/MooX-Thunking-0.07-3/blib/arch
    /home/njh/.cpan/build/MooX-Thunking-0.07-3/blib/lib
    /home/njh/.cpan/build/Moo-2.003002-4/blib/arch
    /home/njh/.cpan/build/Moo-2.003002-4/blib/lib
    /home/njh/.cpan/build/Class-Method-Modifiers-2.12-3/blib/arch
    /home/njh/.cpan/build/Class-Method-Modifiers-2.12-3/blib/lib
    /home/njh/.cpan/build/JSON-PP-2.94-3/blib/arch
    /home/njh/.cpan/build/JSON-PP-2.94-3/blib/lib
    /home/njh/.cpan/build/JSON-MaybeXS-1.003009-3/blib/arch
    /home/njh/.cpan/build/JSON-MaybeXS-1.003009-3/blib/lib
    /home/njh/.cpan/build/Cpanel-JSON-XS-3.0239-2/blib/arch
    /home/njh/.cpan/build/Cpanel-JSON-XS-3.0239-2/blib/lib
    /home/njh/.cpan/build/Function-Parameters-2.001003-3/blib/arch
    /home/njh/.cpan/build/Function-Parameters-2.001003-3/blib/lib
    /home/njh/.cpan/build/Dir-Self-0.11-3/blib/arch
    /home/njh/.cpan/build/Dir-Self-0.11-3/blib/lib
    /home/njh/.cpan/build/DateTime-Format-ISO8601-0.08-3/blib/arch
    /home/njh/.cpan/build/DateTime-Format-ISO8601-0.08-3/blib/lib
    /home/njh/.cpan/build/DateTime-Format-Builder-0.81-3/blib/arch
    /home/njh/.cpan/build/DateTime-Format-Builder-0.81-3/blib/lib
    /home/njh/.cpan/build/Params-Validate-1.29-2/blib/arch
    /home/njh/.cpan/build/Params-Validate-1.29-2/blib/lib
    /home/njh/.cpan/build/DateTime-Format-Strptime-1.74-2/blib/arch
    /home/njh/.cpan/build/DateTime-Format-Strptime-1.74-2/blib/lib
    /home/njh/.cpan/build/Package-DeprecationManager-0.17-4/blib/arch
    /home/njh/.cpan/build/Package-DeprecationManager-0.17-4/blib/lib
    /home/njh/.cpan/build/Sub-Name-0.21-5/blib/arch
    /home/njh/.cpan/build/Sub-Name-0.21-5/blib/lib
    /home/njh/.cpan/build/Sub-Install-0.928-4/blib/arch
    /home/njh/.cpan/build/Sub-Install-0.928-4/blib/lib
    /home/njh/.cpan/build/Params-Util-1.07-4/blib/arch
    /home/njh/.cpan/build/Params-Util-1.07-4/blib/lib
    /home/njh/.cpan/build/Class-Factory-Util-1.7-3/blib/arch
    /home/njh/.cpan/build/Class-Factory-Util-1.7-3/blib/lib
    /home/njh/.cpan/build/DateTime-1.44-3/blib/arch
    /home/njh/.cpan/build/DateTime-1.44-3/blib/lib
    /home/njh/.cpan/build/DateTime-TimeZone-2.15-3/blib/arch
    /home/njh/.cpan/build/DateTime-TimeZone-2.15-3/blib/lib
    /home/njh/.cpan/build/DateTime-Locale-1.17-3/blib/arch
    /home/njh/.cpan/build/DateTime-Locale-1.17-3/blib/lib
    /home/njh/.cpan/build/namespace-autoclean-0.28-3/blib/arch
    /home/njh/.cpan/build/namespace-autoclean-0.28-3/blib/lib
    /home/njh/.cpan/build/namespace-clean-0.27-4/blib/arch
    /home/njh/.cpan/build/namespace-clean-0.27-4/blib/lib
    /home/njh/.cpan/build/Package-Stash-0.37-4/blib/arch
    /home/njh/.cpan/build/Package-Stash-0.37-4/blib/lib
    /home/njh/.cpan/build/Package-Stash-XS-0.28-4/blib/arch
    /home/njh/.cpan/build/Package-Stash-XS-0.28-4/blib/lib
    /home/njh/.cpan/build/Sub-Identify-0.14-3/blib/arch
    /home/njh/.cpan/build/Sub-Identify-0.14-3/blib/lib
    /home/njh/.cpan/build/B-Hooks-EndOfScope-0.21-4/blib/arch
    /home/njh/.cpan/build/B-Hooks-EndOfScope-0.21-4/blib/lib
    /home/njh/.cpan/build/Variable-Magic-0.62-3/blib/arch
    /home/njh/.cpan/build/Variable-Magic-0.62-3/blib/lib
    /home/njh/.cpan/build/Module-Implementation-0.09-4/blib/arch
    /home/njh/.cpan/build/Module-Implementation-0.09-4/blib/lib
    /home/njh/.cpan/build/Devel-Hide-0.0009-4/blib/arch
    /home/njh/.cpan/build/Devel-Hide-0.0009-4/blib/lib
    /home/njh/.cpan/build/Test-Warnings-0.026-4/blib/arch
    /home/njh/.cpan/build/Test-Warnings-0.026-4/blib/lib
    /home/njh/.cpan/build/Test-File-ShareDir-1.001002-3/blib/arch
    /home/njh/.cpan/build/Test-File-ShareDir-1.001002-3/blib/lib
    /home/njh/.cpan/build/Scope-Guard-0.21-4/blib/arch
    /home/njh/.cpan/build/Scope-Guard-0.21-4/blib/lib
    /home/njh/.cpan/build/Class-Tiny-1.006-3/blib/arch
    /home/njh/.cpan/build/Class-Tiny-1.006-3/blib/lib
    /home/njh/.cpan/build/Params-ValidationCompiler-0.24-3/blib/arch
    /home/njh/.cpan/build/Params-ValidationCompiler-0.24-3/blib/lib
    /home/njh/.cpan/build/Test-Without-Module-0.20-3/blib/arch
    /home/njh/.cpan/build/Test-Without-Module-0.20-3/blib/lib
    /home/njh/.cpan/build/Test2-Plugin-NoWarnings-0.06-3/blib/arch
    /home/njh/.cpan/build/Test2-Plugin-NoWarnings-0.06-3/blib/lib
    /home/njh/.cpan/build/Test2-Suite-0.000083-3/blib/arch
    /home/njh/.cpan/build/Test2-Suite-0.000083-3/blib/lib
    /home/njh/.cpan/build/Term-Table-0.012-3/blib/arch
    /home/njh/.cpan/build/Term-Table-0.012-3/blib/lib
    /home/njh/.cpan/build/Test-Simple-1.302106-3/blib/arch
    /home/njh/.cpan/build/Test-Simple-1.302106-3/blib/lib
    /home/njh/.cpan/build/Sub-Info-0.002-3/blib/arch
    /home/njh/.cpan/build/Sub-Info-0.002-3/blib/lib
    /home/njh/.cpan/build/Importer-0.024-3/blib/arch
    /home/njh/.cpan/build/Importer-0.024-3/blib/lib
    /home/njh/.cpan/build/Specio-0.42-3/blib/arch
    /home/njh/.cpan/build/Specio-0.42-3/blib/lib
    /home/njh/.cpan/build/Test-Needs-0.002005-4/blib/arch
    /home/njh/.cpan/build/Test-Needs-0.002005-4/blib/lib
    /home/njh/.cpan/build/Sub-Quote-2.004000-4/blib/arch
    /home/njh/.cpan/build/Sub-Quote-2.004000-4/blib/lib
    /home/njh/.cpan/build/Role-Tiny-2.000006-4/blib/arch
    /home/njh/.cpan/build/Role-Tiny-2.000006-4/blib/lib
    /home/njh/.cpan/build/MRO-Compat-0.13-4/blib/arch
    /home/njh/.cpan/build/MRO-Compat-0.13-4/blib/lib
    /home/njh/.cpan/build/Eval-Closure-0.14-4/blib/arch
    /home/njh/.cpan/build/Eval-Closure-0.14-4/blib/lib
    /home/njh/.cpan/build/Scalar-List-Utils-1.49-5/blib/arch
    /home/njh/.cpan/build/Scalar-List-Utils-1.49-5/blib/lib
    /home/njh/.cpan/build/File-ShareDir-1.104-4/blib/arch
    /home/njh/.cpan/build/File-ShareDir-1.104-4/blib/lib
    /home/njh/.cpan/build/Class-Inspector-1.32-4/blib/arch
    /home/njh/.cpan/build/Class-Inspector-1.32-4/blib/lib
    /home/njh/.cpan/build/File-ShareDir-Install-0.11-4/blib/arch
    /home/njh/.cpan/build/File-ShareDir-Install-0.11-4/blib/lib
    /home/njh/.cpan/build/CPAN-Meta-Check-0.014-4/blib/arch
    /home/njh/.cpan/build/CPAN-Meta-Check-0.014-4/blib/lib
    /home/njh/.cpan/build/Module-Metadata-1.000033-2/blib/arch
    /home/njh/.cpan/build/Module-Metadata-1.000033-2/blib/lib
    /home/njh/.cpan/build/Dist-CheckConflicts-0.11-4/blib/arch
    /home/njh/.cpan/build/Dist-CheckConflicts-0.11-4/blib/lib
    /home/njh/perl5/perlbrew/perls/perl-5.14.3/lib/site_perl/5.14.3/x86_64-linux-thread-multi
    /home/njh/perl5/perlbrew/perls/perl-5.14.3/lib/site_perl/5.14.3
    /home/njh/perl5/perlbrew/perls/perl-5.14.3/lib/5.14.3/x86_64-linux-thread-multi
    /home/njh/perl5/perlbrew/perls/perl-5.14.3/lib/5.14.3
    .