Report for Math-Complex-1.59

Back
From: metabase:user:30f4dfbe-2aae-11df-837a-5e0a49663a4f
Subject: PASS Math-Complex-1.59 v5.8.8 Mac OS X
Date: 2012-11-02T18:36:51Z

This distribution has been tested as part of the CPAN Testers
project, supporting the Perl programming language.  See
http://wiki.cpantesters.org/ for more information or email
questions to cpan-testers-discuss@perl.org


--
Dear Andrew Main (Zefram),

This is a computer-generated report for Math-Complex-1.59
on perl 5.8.8, created by CPAN-Reporter-1.1803.

Thank you for uploading your work to CPAN.  Congratulations!
All tests were successful.

Sections of this report:

    * Tester comments
    * Program output
    * Prerequisites
    * Environment and other context

------------------------------
TESTER COMMENTS
------------------------------

Additional comments from tester:

none provided

------------------------------
PROGRAM OUTPUT
------------------------------

Output from '/usr/bin/make test':

PERL_DL_NONLAZY=1 /usr/local/bin/perl "-MExtUtils::Command::MM" "-e" "test_harness(0, 'blib/lib', 'blib/arch')" t/*.t
t/Complex.t ....... ok
t/pod-coverage.t .. ok
t/pod.t ........... ok
t/Trig.t .......... ok
t/underbar.t ...... ok
All tests successful.
Files=5, Tests=1235, 11 wallclock secs ( 2.97 usr  0.00 sys +  7.04 cusr  0.66 csys = 10.67 CPU)
Result: PASS

------------------------------
PREREQUISITES
------------------------------

Prerequisite modules loaded:

requires:

    Module              Need Have
    ------------------- ---- ----
    Config              0    0   
    Exporter            0    5.63
    ExtUtils::MakeMaker 0    6.62
    overload            0    1.04
    Scalar::Util        1.11 1.23
    strict              0    1.03
    Test::More          0    0.98
    warnings            0    1.05

build_requires:

    Module              Need Have
    ------------------- ---- ----
    ExtUtils::MakeMaker 0    6.62

configure_requires:

    Module              Need Have
    ------------------- ---- ----
    ExtUtils::MakeMaker 0    6.62


------------------------------
ENVIRONMENT AND OTHER CONTEXT
------------------------------

Environment variables:

    LANG = en_US
    LC_ALL = C
    MANPATH_WITHOUT_PERLBREW = 
    PATH = /Users/njh/perl5/perlbrew/bin:/usr/local/bin:/usr/bin:/bin:/Users/njh:/Users/njh/bin
    PATH_WITHOUT_PERLBREW = /usr/local/bin:/usr/bin:/bin:/Users/njh:/Users/njh/bin
    PERL5LIB = /var/root/.cpan/build/Locale-Codes-3.23-K4EYI7/blib/arch:/var/root/.cpan/build/Locale-Codes-3.23-K4EYI7/blib/lib
    PERL5OPT = 
    PERL5_CPANPLUS_IS_RUNNING = 416
    PERL5_CPAN_IS_RUNNING = 416
    PERLBREW_BASHRC_VERSION = 0.39
    PERLBREW_HOME = /Users/njh/.perlbrew
    PERLBREW_PATH = /Users/njh/perl5/perlbrew/bin
    PERLBREW_ROOT = /Users/njh/perl5/perlbrew
    SHELL = /bin/tcsh
    TERM = vt100

Perl special variables (and OS-specific diagnostics, for MSWin32):

    $^X = /usr/local/bin/perl
    $UID/$EUID = 0 / 0
    $GID = 0 80 31 20 5 4 3 2 1 0
    $EGID = 0 80 31 20 5 4 3 2 1 0

Perl module toolchain versions installed:

    Module              Have    
    ------------------- --------
    CPAN                1.9402  
    Cwd                 3.31    
    ExtUtils::CBuilder  0.280205
    ExtUtils::Command   1.17    
    ExtUtils::Install   1.54    
    ExtUtils::MakeMaker 6.62    
    ExtUtils::Manifest  1.61    
    ExtUtils::ParseXS   3.15    
    File::Spec          3.31    
    Module::Build       0.4003  
    Module::Signature   n/a     
    Test::Harness       3.25    
    Test::More          0.98    
    YAML                0.84    
    YAML::Syck          1.20    
    version             0.97    


--

Summary of my perl5 (revision 5 version 8 subversion 8) configuration:
  Platform:
    osname=darwin, osvers=5.5, archname=darwin
    uname='darwin mac.bandsman.co.uk 5.5 darwin kernel version 5.5: thu may 30 14:51:26 pdt 2002; root:xnuxnu-201.42.3.obj~1release_ppc power macintosh powerpc '
    config_args='-de'
    hint=recommended, useposix=true, d_sigaction=define
    usethreads=undef use5005threads=undef useithreads=undef usemultiplicity=undef
    useperlio=define d_sfio=undef uselargefiles=define usesocks=undef
    use64bitint=undef use64bitall=undef uselongdouble=undef
    usemymalloc=n, bincompat5005=undef
  Compiler:
    cc='cc', ccflags ='-fno-common -DPERL_DARWIN -no-cpp-precomp -fno-strict-aliasing -pipe -I/usr/local/include',
    optimize='-O2',
    cppflags='-no-cpp-precomp -fno-common -DPERL_DARWIN -no-cpp-precomp -fno-strict-aliasing -pipe -I/usr/local/include'
    ccversion='', gccversion='2.95.2 19991024 (release)', gccosandvers=''
    intsize=4, longsize=4, ptrsize=4, doublesize=8, byteorder=4321
    d_longlong=define, longlongsize=8, d_longdbl=define, longdblsize=8
    ivtype='long', ivsize=4, nvtype='double', nvsize=8, Off_t='off_t', lseeksize=8
    alignbytes=8, prototype=define
  Linker and Libraries:
    ld='cc', ldflags =' -flat_namespace -L/usr/local/lib'
    libpth=/usr/local/lib /usr/lib
    libs=-lm -lc
    perllibs=-lm -lc
    libc=/usr/lib/libc.dylib, so=dylib, useshrplib=false, libperl=libperl.a
    gnulibc_version=''
  Dynamic Linking:
    dlsrc=dl_dyld.xs, dlext=bundle, d_dlsymun=undef, ccdlflags=' '
    cccdlflags=' ', lddlflags=' -flat_namespace -bundle -undefined suppress -L/usr/local/lib'


Characteristics of this binary (from libperl): 
  Compile-time options: PERL_MALLOC_WRAP USE_LARGE_FILES USE_PERLIO
  Built under darwin
  Compiled at Feb  7 2007 10:28:54
  %ENV:
    PERL5LIB="/var/root/.cpan/build/Locale-Codes-3.23-K4EYI7/blib/arch:/var/root/.cpan/build/Locale-Codes-3.23-K4EYI7/blib/lib"
    PERL5OPT=""
    PERL5_CPANPLUS_IS_RUNNING="416"
    PERL5_CPAN_IS_RUNNING="416"
    PERLBREW_BASHRC_VERSION="0.39"
    PERLBREW_HOME="/Users/njh/.perlbrew"
    PERLBREW_PATH="/Users/njh/perl5/perlbrew/bin"
    PERLBREW_ROOT="/Users/njh/perl5/perlbrew"
  @INC:
    /var/root/.cpan/build/Locale-Codes-3.23-K4EYI7/blib/arch
    /var/root/.cpan/build/Locale-Codes-3.23-K4EYI7/blib/lib
    /usr/local/lib/perl5/5.8.8/darwin
    /usr/local/lib/perl5/5.8.8
    /usr/local/lib/perl5/site_perl/5.8.8/darwin
    /usr/local/lib/perl5/site_perl/5.8.8
    /usr/local/lib/perl5/site_perl
    .