Report for Lingua-Identify-CLD-0.10

Back
From: metabase:user:314402c4-2aae-11df-837a-5e0a49663a4f
Subject: PASS Lingua-Identify-CLD-0.10 v5.25.12 GNU/Linux
Date: 2017-04-24T18:38:54Z

This distribution has been tested as part of the CPAN Testers
project, supporting the Perl programming language.  See
http://wiki.cpantesters.org/ for more information or email
questions to cpan-testers-discuss@perl.org


--
Dear Alberto Manuel Brandao Simoes,

This is a computer-generated report for Lingua-Identify-CLD-0.10
on perl 5.25.12, created by CPAN-Reporter-1.2018.

Thank you for uploading your work to CPAN.  Congratulations!
All tests were successful.

Sections of this report:

    * Tester comments
    * Program output
    * Prerequisites
    * Environment and other context

------------------------------
TESTER COMMENTS
------------------------------

Additional comments from tester:

none provided

------------------------------
PROGRAM OUTPUT
------------------------------

Output from './Build test':

cc -I/opt/perl-5.25.12t/lib/5.25.12/x86_64-linux-thread-multi/CORE -fPIC -c -D_REENTRANT -D_GNU_SOURCE -fwrapv -fno-strict-aliasing -pipe -fstack-protector-strong -I/usr/local/include -D_LARGEFILE_SOURCE -D_FILE_OFFSET_BITS=64 -O2 -o /var/tmp/cpansmoker-1002/2017042418/zZ9ojLbKdL/library.o /var/tmp/cpansmoker-1002/2017042418/zZ9ojLbKdL/library.c
cc -I/opt/perl-5.25.12t/lib/5.25.12/x86_64-linux-thread-multi/CORE -fPIC -c -D_REENTRANT -D_GNU_SOURCE -fwrapv -fno-strict-aliasing -pipe -fstack-protector-strong -I/usr/local/include -D_LARGEFILE_SOURCE -D_FILE_OFFSET_BITS=64 -O2 -o /var/tmp/cpansmoker-1002/2017042418/zZ9ojLbKdL/test.o /var/tmp/cpansmoker-1002/2017042418/zZ9ojLbKdL/test.c
cc -shared -O2 -L/usr/local/lib -fstack-protector-strong -o /var/tmp/cpansmoker-1002/2017042418/zZ9ojLbKdL/libfoo.so /var/tmp/cpansmoker-1002/2017042418/zZ9ojLbKdL/library.o
cc -fstack-protector-strong -L/usr/local/lib -o /var/tmp/cpansmoker-1002/2017042418/zZ9ojLbKdL/foo /var/tmp/cpansmoker-1002/2017042418/zZ9ojLbKdL/test.o -L/var/tmp/cpansmoker-1002/2017042418/zZ9ojLbKdL -lfoo

** Preparing XS code
# Testing Lingua::Identify::CLD 0.10, Perl 5.025012, /opt/perl-5.25.12t/bin/perl5.25.12
t/00-load.t ....... ok
t/01-identify.t ... ok
t/02-html.t ....... ok
t/manifest.t ...... skipped: Author tests not required for installation
t/pod-coverage.t .. skipped: Set AUTHOR_TESTS to enable author tests
t/pod.t ........... skipped: Set AUTHOR_TESTS to enable author tests
All tests successful.
Files=6, Tests=27,  0 wallclock secs ( 0.04 usr  0.01 sys +  0.50 cusr  0.04 csys =  0.59 CPU)
Result: PASS

------------------------------
PREREQUISITES
------------------------------

Prerequisite modules loaded:

requires:

    Module               Need  Have    
    -------------------- ----- --------
    perl                 5.008 5.025012
    XSLoader             0.10  0.27    

build_requires:

    Module               Need  Have    
    -------------------- ----- --------
    Config::AutoConf     0.17  0.314   
    ExtUtils::CBuilder   0.27  0.280225
    ExtUtils::LibBuilder 0.04  0.08    
    ExtUtils::ParseXS    0     3.34    
    Test::More           0     1.302083

configure_requires:

    Module               Need  Have    
    -------------------- ----- --------
    Config::AutoConf     0.16  0.314   
    ExtUtils::LibBuilder 0.04  0.08    
    Module::Build        0.38  0.4222  


------------------------------
ENVIRONMENT AND OTHER CONTEXT
------------------------------

Environment variables:

    LANG = en_US.UTF-8
    PATH = /usr/local/bin:/usr/bin:/bin:/usr/local/sbin:/usr/sbin:/sbin:/home/cpansand/bin/linux-gnu:/home/cpansand/bin/sh:/home/cpansand/bin:/usr/games:/home/cpansand/devel:/home/eserte/src/srezic-misc/scripts
    PERL5LIB = /home/cpansand/.cpan/build/2017042418/ExtUtils-LibBuilder-0.08-0/blib/arch:/home/cpansand/.cpan/build/2017042418/ExtUtils-LibBuilder-0.08-0/blib/lib:/home/cpansand/.cpan/build/2017042418/Lingua-Identify-0.56-0/blib/arch:/home/cpansand/.cpan/build/2017042418/Lingua-Identify-0.56-0/blib/lib:/home/cpansand/.cpan/build/2017042418/Text-Ngram-0.15-0/blib/arch:/home/cpansand/.cpan/build/2017042418/Text-Ngram-0.15-0/blib/lib:/home/cpansand/.cpan/build/2017042418/Unicode-CaseFold-1.00-0/blib/arch:/home/cpansand/.cpan/build/2017042418/Unicode-CaseFold-1.00-0/blib/lib:/home/cpansand/.cpan/build/2017042418/Text-Affixes-0.09-0/blib/arch:/home/cpansand/.cpan/build/2017042418/Text-Affixes-0.09-0/blib/lib:/home/cpansand/.cpan/build/2017042418/File-GetLineMaxLength-1.01-1/blib/arch:/home/cpansand/.cpan/build/2017042418/File-GetLineMaxLength-1.01-1/blib/lib
    PERL5OPT = 
    PERL5_CPANPLUS_IS_RUNNING = 32678
    PERL5_CPAN_IS_RUNNING = 32678
    PERL5_CPAN_IS_RUNNING_IN_RECURSION = 32196,32678
    PERLDOC = -MPod::Perldoc::ToTextOverstrike
    PERL_BATCH = yes
    PERL_CANARY_STABILITY_NOPROMPT = 1
    PERL_CPAN_REPORTER_CONFIG = /var/tmp/cpansmoker-1002/2017042418/cpanreporter_000_config.ini
    PERL_EXTUTILS_AUTOINSTALL = --defaultdeps
    PERL_USE_UNSAFE_INC = 1
    SHELL = /bin/zsh
    TERM = screen
    TMPDIR = /var/tmp/cpansmoker-1002/2017042418

Perl special variables (and OS-specific diagnostics, for MSWin32):

    $^X = /opt/perl-5.25.12t/bin/perl5.25.12
    $UID/$EUID = 1002 / 1002
    $GID = 1002 1002
    $EGID = 1002 1002

Perl module toolchain versions installed:

    Module              Have      
    ------------------- ----------
    CPAN                2.18      
    CPAN::Meta          2.150010  
    Cwd                 3.67      
    ExtUtils::CBuilder  0.280225  
    ExtUtils::Command   7.24      
    ExtUtils::Install   2.04      
    ExtUtils::MakeMaker 7.24      
    ExtUtils::Manifest  1.70      
    ExtUtils::ParseXS   3.34      
    File::Spec          3.67      
    JSON                2.90      
    JSON::PP            2.27400_02
    Module::Build       0.4222    
    Module::Signature   0.81      
    Parse::CPAN::Meta   2.150010  
    Test::Harness       3.38      
    Test::More          1.302083  
    YAML                1.23      
    YAML::Syck          1.30      
    version             0.9917    


--

Summary of my perl5 (revision 5 version 25 subversion 12) configuration:
   
  Platform:
    osname=linux
    osvers=4.4.0-72-generic
    archname=x86_64-linux-thread-multi
    uname='linux prod3 4.4.0-72-generic #93-ubuntu smp fri mar 31 14:07:41 utc 2017 x86_64 x86_64 x86_64 gnulinux '
    config_args='-ds -e -Dprefix=/opt/perl-5.25.12t -Dusedevel -Dusemallocwrap=no -Dusethreads -Dcf_email=srezic@cpan.org'
    hint=recommended
    useposix=true
    d_sigaction=define
    useithreads=define
    usemultiplicity=define
    use64bitint=define
    use64bitall=define
    uselongdouble=undef
    usemymalloc=n
    default_inc_excludes_dot=define
    bincompat5005=undef
  Compiler:
    cc='cc'
    ccflags ='-D_REENTRANT -D_GNU_SOURCE -fwrapv -fno-strict-aliasing -pipe -fstack-protector-strong -I/usr/local/include -D_LARGEFILE_SOURCE -D_FILE_OFFSET_BITS=64'
    optimize='-O2'
    cppflags='-D_REENTRANT -D_GNU_SOURCE -fwrapv -fno-strict-aliasing -pipe -fstack-protector-strong -I/usr/local/include'
    ccversion=''
    gccversion='5.4.0 20160609'
    gccosandvers=''
    intsize=4
    longsize=8
    ptrsize=8
    doublesize=8
    byteorder=12345678
    doublekind=3
    d_longlong=define
    longlongsize=8
    d_longdbl=define
    longdblsize=16
    longdblkind=3
    ivtype='long'
    ivsize=8
    nvtype='double'
    nvsize=8
    Off_t='off_t'
    lseeksize=8
    alignbytes=8
    prototype=define
  Linker and Libraries:
    ld='cc'
    ldflags =' -fstack-protector-strong -L/usr/local/lib'
    libpth=/usr/local/lib /usr/lib/gcc/x86_64-linux-gnu/5/include-fixed /usr/include/x86_64-linux-gnu /usr/lib /lib/x86_64-linux-gnu /lib/../lib /usr/lib/x86_64-linux-gnu /usr/lib/../lib /lib
    libs=-lpthread -lnsl -lgdbm -ldb -ldl -lm -lcrypt -lutil -lc -lgdbm_compat
    perllibs=-lpthread -lnsl -ldl -lm -lcrypt -lutil -lc
    libc=libc-2.23.so
    so=so
    useshrplib=false
    libperl=libperl.a
    gnulibc_version='2.23'
  Dynamic Linking:
    dlsrc=dl_dlopen.xs
    dlext=so
    d_dlsymun=undef
    ccdlflags='-Wl,-E'
    cccdlflags='-fPIC'
    lddlflags='-shared -O2 -L/usr/local/lib -fstack-protector-strong'


Characteristics of this binary (from libperl): 
  Compile-time options:
    HAS_TIMES
    MULTIPLICITY
    PERLIO_LAYERS
    PERL_COPY_ON_WRITE
    PERL_DONT_CREATE_GVSV
    PERL_IMPLICIT_CONTEXT
    PERL_OP_PARENT
    PERL_PRESERVE_IVUV
    PERL_USE_DEVEL
    USE_64_BIT_ALL
    USE_64_BIT_INT
    USE_ITHREADS
    USE_LARGE_FILES
    USE_LOCALE
    USE_LOCALE_COLLATE
    USE_LOCALE_CTYPE
    USE_LOCALE_NUMERIC
    USE_LOCALE_TIME
    USE_PERLIO
    USE_PERL_ATOF
    USE_REENTRANT_API
  Built under linux
  Compiled at Apr 20 2017 20:37:58
  %ENV:
    PERL5LIB="/home/cpansand/.cpan/build/2017042418/ExtUtils-LibBuilder-0.08-0/blib/arch:/home/cpansand/.cpan/build/2017042418/ExtUtils-LibBuilder-0.08-0/blib/lib:/home/cpansand/.cpan/build/2017042418/Lingua-Identify-0.56-0/blib/arch:/home/cpansand/.cpan/build/2017042418/Lingua-Identify-0.56-0/blib/lib:/home/cpansand/.cpan/build/2017042418/Text-Ngram-0.15-0/blib/arch:/home/cpansand/.cpan/build/2017042418/Text-Ngram-0.15-0/blib/lib:/home/cpansand/.cpan/build/2017042418/Unicode-CaseFold-1.00-0/blib/arch:/home/cpansand/.cpan/build/2017042418/Unicode-CaseFold-1.00-0/blib/lib:/home/cpansand/.cpan/build/2017042418/Text-Affixes-0.09-0/blib/arch:/home/cpansand/.cpan/build/2017042418/Text-Affixes-0.09-0/blib/lib:/home/cpansand/.cpan/build/2017042418/File-GetLineMaxLength-1.01-1/blib/arch:/home/cpansand/.cpan/build/2017042418/File-GetLineMaxLength-1.01-1/blib/lib"
    PERL5OPT=""
    PERL5_CPANPLUS_IS_RUNNING="32678"
    PERL5_CPAN_IS_RUNNING="32678"
    PERL5_CPAN_IS_RUNNING_IN_RECURSION="32196,32678"
    PERLDOC="-MPod::Perldoc::ToTextOverstrike"
    PERL_BATCH="yes"
    PERL_CANARY_STABILITY_NOPROMPT="1"
    PERL_CPAN_REPORTER_CONFIG="/var/tmp/cpansmoker-1002/2017042418/cpanreporter_000_config.ini"
    PERL_EXTUTILS_AUTOINSTALL="--defaultdeps"
    PERL_USE_UNSAFE_INC="1"
  @INC:
    /home/cpansand/.cpan/build/2017042418/ExtUtils-LibBuilder-0.08-0/blib/arch
    /home/cpansand/.cpan/build/2017042418/ExtUtils-LibBuilder-0.08-0/blib/lib
    /home/cpansand/.cpan/build/2017042418/Lingua-Identify-0.56-0/blib/arch
    /home/cpansand/.cpan/build/2017042418/Lingua-Identify-0.56-0/blib/lib
    /home/cpansand/.cpan/build/2017042418/Text-Ngram-0.15-0/blib/arch
    /home/cpansand/.cpan/build/2017042418/Text-Ngram-0.15-0/blib/lib
    /home/cpansand/.cpan/build/2017042418/Unicode-CaseFold-1.00-0/blib/arch
    /home/cpansand/.cpan/build/2017042418/Unicode-CaseFold-1.00-0/blib/lib
    /home/cpansand/.cpan/build/2017042418/Text-Affixes-0.09-0/blib/arch
    /home/cpansand/.cpan/build/2017042418/Text-Affixes-0.09-0/blib/lib
    /home/cpansand/.cpan/build/2017042418/File-GetLineMaxLength-1.01-1/blib/arch
    /home/cpansand/.cpan/build/2017042418/File-GetLineMaxLength-1.01-1/blib/lib
    /opt/perl-5.25.12t/lib/site_perl/5.25.12/x86_64-linux-thread-multi
    /opt/perl-5.25.12t/lib/site_perl/5.25.12
    /opt/perl-5.25.12t/lib/5.25.12/x86_64-linux-thread-multi
    /opt/perl-5.25.12t/lib/5.25.12
    .