Report for SOAP-WSDL-v3.001

Back
From: metabase:user:b53c7f44-4c0e-11e4-9ced-a04ade49192c
Subject: PASS SOAP-WSDL-v3.001 v5.10.0 GNU/Linux
Date: 2015-01-17T19:23:08Z

This distribution has been tested as part of the CPAN Testers
project, supporting the Perl programming language.  See
http://wiki.cpantesters.org/ for more information or email
questions to cpan-testers-discuss@perl.org


--
Dear Scott Walters,

This is a computer-generated report for SOAP-WSDL-v3.001
on perl 5.10.0, created by CPAN-Reporter-1.2011.

Thank you for uploading your work to CPAN.  Congratulations!
All tests were successful.

Sections of this report:

    * Tester comments
    * Program output
    * Prerequisites
    * Environment and other context

------------------------------
TESTER COMMENTS
------------------------------

Additional comments from tester:

this report is from an automated smoke testing program
and was not reviewed by a human for accuracy

------------------------------
PROGRAM OUTPUT
------------------------------

Output from '/usr/bin/make test':

PERL_DL_NONLAZY=1 "/opt/perl430-27-O0-5.10.0/bin/perl" "-MExtUtils::Command::MM" "-MTest::Harness" "-e" "undef *Test::Harness::Switches; test_harness(0, 'blib/lib', 'blib/arch')" t/*.t t/*/*.t t/*/*/*.t t/*/*/*/*.t t/*/*/*/*/*.t t/*/*/*/*/*/*.t
t/002_parse_wsdl.t .................................... ok
t/003_wsdl_based_serializer.t ......................... ok
t/006_client.t ........................................ ok
t/008_client_wsdl_complexType.t ....................... ok
t/009_data_classes.t .................................. ok
t/011_simpleType.t .................................... ok
t/012_element.t ....................................... ok
t/013_complexType.t ................................... ok
t/016_client_object.t ................................. ok
t/094_cpan_meta.t ..................................... skipped: Author test.  Set $ENV{RELEASE_TESTING} to a true value to run.
t/095_copying.t ....................................... skipped: Author test.  Set $ENV{RELEASE_TESTING} to a true value to run.
t/096_characters.t .................................... skipped: Author test.  Set $ENV{RELEASE_TESTING} to a true value to run.
t/097_kwalitee.t ...................................... skipped: Author test.  Set $ENV{RELEASE_TESTING} to a true value to run.
t/098_pod.t ........................................... ok
t/099_pod_coverage.t .................................. skipped: Author test.  Set $ENV{RELEASE_TESTING} to a true value to run.
t/SOAP/WSDL.t ......................................... ok
t/SOAP/WSDL/02_port.t ................................. ok
t/SOAP/WSDL/03_complexType-all.t ...................... ok
t/SOAP/WSDL/03_complexType-choice.t ................... ok
t/SOAP/WSDL/03_complexType-complexContent.t ........... ok
t/SOAP/WSDL/03_complexType-element-ref.t .............. ok
t/SOAP/WSDL/03_complexType-group.t .................... ok
t/SOAP/WSDL/03_complexType-sequence.t ................. ok
t/SOAP/WSDL/03_complexType-simpleContent.t ............ ok
t/SOAP/WSDL/04_element-complexType.t .................. skipped: TODO: implement tests
t/SOAP/WSDL/04_element-simpleType.t ................... ok
t/SOAP/WSDL/04_element.t .............................. ok
t/SOAP/WSDL/05_simpleType-list.t ...................... ok
t/SOAP/WSDL/05_simpleType-restriction.t ............... ok
t/SOAP/WSDL/05_simpleType-union.t ..................... skipped: Not supported yet
t/SOAP/WSDL/06_keep_alive.t ........................... ok
t/SOAP/WSDL/11_helloworld.NET.t ....................... ok
t/SOAP/WSDL/12_binding.t .............................. ok
t/SOAP/WSDL/Base.t .................................... ok
t/SOAP/WSDL/Client.t .................................. ok
t/SOAP/WSDL/Client/Base.t ............................. ok
t/SOAP/WSDL/Definitions.t ............................. ok
t/SOAP/WSDL/Deserializer/Hash.t ....................... ok
t/SOAP/WSDL/Deserializer/SOM.t ........................ ok
t/SOAP/WSDL/Deserializer/XSD.t ........................ ok
t/SOAP/WSDL/Expat/Base.t .............................. ok
t/SOAP/WSDL/Expat/MessageParser.t ..................... ok
file:///root/.cpan/build/SOAP-WSDL-v3.001-KCPwji/t/acceptance/wsdl/WSDLParser-imported.wsdl already imported; ignoring it.
t/SOAP/WSDL/Expat/WSDLParser.t ........................ ok
t/SOAP/WSDL/Factory/Deserializer.t .................... ok
t/SOAP/WSDL/Factory/Serializer.t ...................... ok
t/SOAP/WSDL/Factory/Transport.t ....................... ok
t/SOAP/WSDL/Generator/Template.t ...................... ok
t/SOAP/WSDL/Generator/Template/XSD/Import.t ........... ok
t/SOAP/WSDL/Generator/Template/XSD/Unqualified.t ...... ok
t/SOAP/WSDL/Generator/Visitor.t ....................... ok
t/SOAP/WSDL/Generator/Visitor/Typemap.t ............... ok
t/SOAP/WSDL/Generator/XSD.t ........................... ok
t/SOAP/WSDL/Generator/XSD_custom_resolver.t ........... ok
t/SOAP/WSDL/Generator/XSD_dot_names.t ................. ok
t/SOAP/WSDL/Generator/XSD_nested_complextype.t ........ ok
t/SOAP/WSDL/Generator/XSD_unsupported.t ............... ok
t/SOAP/WSDL/Part.t .................................... ok
t/SOAP/WSDL/PortType.t ................................ ok
t/SOAP/WSDL/Serializer/XSD.t .......................... ok
Use of uninitialized value in hash element at /opt/perl430-27-O0-5.10.0/lib/site_perl/5.10.0/Class/Std/Fast.pm line 159.
Use of uninitialized value in hash element at /opt/perl430-27-O0-5.10.0/lib/site_perl/5.10.0/Class/Std/Fast.pm line 159.
Use of uninitialized value in hash element at /opt/perl430-27-O0-5.10.0/lib/site_perl/5.10.0/Class/Std/Fast.pm line 159.
Use of uninitialized value in hash element at /opt/perl430-27-O0-5.10.0/lib/site_perl/5.10.0/Class/Std/Fast.pm line 159.
Use of uninitialized value in hash element at /opt/perl430-27-O0-5.10.0/lib/site_perl/5.10.0/Class/Std/Fast.pm line 159.
t/SOAP/WSDL/Server.t .................................. ok
t/SOAP/WSDL/Server/CGI.t .............................. ok
t/SOAP/WSDL/Server/Mod_Perl2.t ........................ ok
HTTP/1.0 500 Internal Server Error
Content-Type: text/xml; charset="utf-8"
<?xml version="1.0" ?><SOAP-ENV:Envelope xmlns:SOAP-ENV="http://schemas.xmlsoap.org/soap/envelope/" xmlns:xsi="http://www.w3.org/2001/XMLSchema-instance" ><SOAP-ENV:Body><Fault xmlns="http://schemas.xmlsoap.org/soap/envelope/"><faultcode>SOAP-ENV:Server</faultcode><faultstring>Error deserializing message: 
no element found at line 1, column 0, byte -1 at /root/.cpan/build/SOAP-WSDL-v3.001-KCPwji/blib/lib/SOAP/WSDL/Expat/Base.pm line 79.
 at line 1 at /root/.cpan/build/SOAP-WSDL-v3.001-KCPwji/blib/lib/SOAP/WSDL/Expat/Base.pm line 82.
. 
Message was: 
</faultstring><faultactor>urn:localhost</faultactor></Fault></SOAP-ENV:Body></SOAP-ENV:Envelope>

t/SOAP/WSDL/Server/Simple.t ........................... ok
t/SOAP/WSDL/Transport/01_Test.t ....................... ok
t/SOAP/WSDL/Transport/HTTP.t .......................... ok
t/SOAP/WSDL/Typelib/Fault11.t ......................... ok
t/SOAP/WSDL/Types.t ................................... ok
t/SOAP/WSDL/XSD/Attribute.t ........................... ok
t/SOAP/WSDL/XSD/AttributeGroup.t ...................... ok
t/SOAP/WSDL/XSD/Builtin.t ............................. ok
t/SOAP/WSDL/XSD/ComplexType.t ......................... ok
t/SOAP/WSDL/XSD/Element.t ............................. ok
t/SOAP/WSDL/XSD/Enumeration.t ......................... ok
t/SOAP/WSDL/XSD/Schema.t .............................. ok
t/SOAP/WSDL/XSD/SimpleType.t .......................... ok
t/SOAP/WSDL/XSD/Typelib/Attribute.t ................... ok
t/SOAP/WSDL/XSD/Typelib/Builtin/anySimpleType.t ....... ok
t/SOAP/WSDL/XSD/Typelib/Builtin/anyType.t ............. ok
t/SOAP/WSDL/XSD/Typelib/Builtin/anyURI.t .............. ok
t/SOAP/WSDL/XSD/Typelib/Builtin/base64Binary.t ........ ok
t/SOAP/WSDL/XSD/Typelib/Builtin/boolean.t ............. ok
t/SOAP/WSDL/XSD/Typelib/Builtin/byte.t ................ ok
t/SOAP/WSDL/XSD/Typelib/Builtin/date.t ................ ok
t/SOAP/WSDL/XSD/Typelib/Builtin/dateTime.t ............ ok
t/SOAP/WSDL/XSD/Typelib/Builtin/decimal.t ............. ok
t/SOAP/WSDL/XSD/Typelib/Builtin/double.t .............. ok
t/SOAP/WSDL/XSD/Typelib/Builtin/duration.t ............ ok
t/SOAP/WSDL/XSD/Typelib/Builtin/ENTITY.t .............. ok
t/SOAP/WSDL/XSD/Typelib/Builtin/float.t ............... ok
t/SOAP/WSDL/XSD/Typelib/Builtin/gDay.t ................ ok
t/SOAP/WSDL/XSD/Typelib/Builtin/gMonth.t .............. ok
t/SOAP/WSDL/XSD/Typelib/Builtin/gMonthDay.t ........... ok
t/SOAP/WSDL/XSD/Typelib/Builtin/gYear.t ............... ok
t/SOAP/WSDL/XSD/Typelib/Builtin/gYearMonth.t .......... ok
t/SOAP/WSDL/XSD/Typelib/Builtin/hexBinary.t ........... ok
t/SOAP/WSDL/XSD/Typelib/Builtin/ID.t .................. ok
t/SOAP/WSDL/XSD/Typelib/Builtin/IDREF.t ............... ok
t/SOAP/WSDL/XSD/Typelib/Builtin/IDREFS.t .............. ok
t/SOAP/WSDL/XSD/Typelib/Builtin/int.t ................. ok
t/SOAP/WSDL/XSD/Typelib/Builtin/integer.t ............. ok
t/SOAP/WSDL/XSD/Typelib/Builtin/language.t ............ ok
t/SOAP/WSDL/XSD/Typelib/Builtin/list.t ................ ok
t/SOAP/WSDL/XSD/Typelib/Builtin/long.t ................ ok
t/SOAP/WSDL/XSD/Typelib/Builtin/Name.t ................ ok
t/SOAP/WSDL/XSD/Typelib/Builtin/NCName.t .............. ok
t/SOAP/WSDL/XSD/Typelib/Builtin/negativeInteger.t ..... ok
t/SOAP/WSDL/XSD/Typelib/Builtin/NMTOKEN.t ............. ok
t/SOAP/WSDL/XSD/Typelib/Builtin/NMTOKENS.t ............ ok
t/SOAP/WSDL/XSD/Typelib/Builtin/nonNegativeInteger.t .. ok
t/SOAP/WSDL/XSD/Typelib/Builtin/nonPositiveInteger.t .. ok
t/SOAP/WSDL/XSD/Typelib/Builtin/normalizedString.t .... ok
t/SOAP/WSDL/XSD/Typelib/Builtin/NOTATION.t ............ ok
t/SOAP/WSDL/XSD/Typelib/Builtin/positiveInteger.t ..... ok
t/SOAP/WSDL/XSD/Typelib/Builtin/QName.t ............... ok
t/SOAP/WSDL/XSD/Typelib/Builtin/short.t ............... ok
t/SOAP/WSDL/XSD/Typelib/Builtin/string.t .............. ok
t/SOAP/WSDL/XSD/Typelib/Builtin/time.t ................ ok
t/SOAP/WSDL/XSD/Typelib/Builtin/token.t ............... ok
t/SOAP/WSDL/XSD/Typelib/Builtin/unsignedByte.t ........ ok
t/SOAP/WSDL/XSD/Typelib/Builtin/unsignedInt.t ......... ok
t/SOAP/WSDL/XSD/Typelib/Builtin/unsignedLong.t ........ ok
t/SOAP/WSDL/XSD/Typelib/Builtin/unsignedShort.t ....... ok
t/SOAP/WSDL/XSD/Typelib/ComplexType.t ................. ok
t/SOAP/WSDL/XSD/Typelib/Element.t ..................... ok
All tests successful.
Files=124, Tests=1241, 178 wallclock secs ( 2.54 usr  0.30 sys + 158.82 cusr  6.73 csys = 168.39 CPU)
Result: PASS

------------------------------
PREREQUISITES
------------------------------

Prerequisite modules loaded:

requires:

    Module              Need     Have    
    ------------------- -------- --------
    Class::Std::Fast    0.000005 0.0.8   
    Cwd                 0        3.47    
    Data::Dumper        0        2.154   
    Date::Format        0        2.24    
    Date::Parse         0        2.30    
    File::Basename      0        2.76    
    File::Path          0        2.09    
    File::Spec          0        3.47    
    Getopt::Long        0        2.43    
    List::Util          0        1.41    
    LWP::UserAgent      0        6.06    
    Module::Build       0        0.4210  
    perl                5.008    5.010000
    Storable            0        2.51    
    Template            2.18     2.26    
    Term::ReadKey       0        2.32    
    Test::More          0        1.001014
    URI                 0        1.65    
    XML::Parser::Expat  0        2.43    

build_requires:

    Module              Need     Have    
    ------------------- -------- --------
    ExtUtils::MakeMaker 0        7.04    

configure_requires:

    Module              Need     Have    
    ------------------- -------- --------
    ExtUtils::MakeMaker 0        7.04    


------------------------------
ENVIRONMENT AND OTHER CONTEXT
------------------------------

Environment variables:

    AUTOMATED_TESTING = 1
    LANG = en_US.utf8
    MB_TEST_EXPERIMENTAL = 1
    NONINTERACTIVE_TESTING = 1
    PATH = /usr/lib/qt-3.3/bin:/usr/kerberos/sbin:/usr/kerberos/bin:/usr/lib/ccache:/usr/local/sbin:/usr/sbin:/sbin:/usr/local/bin:/usr/bin:/bin:/usr/lib/firebird/bin:/opt/real/RealPlayer:/root/bin:/usr/lib/firebird/bin:/opt/real/RealPlayer
    PERL5LIB = 
    PERL5OPT = 
    PERL5_CPANPLUS_IS_RUNNING = 21240
    PERL5_CPAN_IS_RUNNING = 21240
    PERL_ANYEVENT_MODEL = POE
    PERL_EXTUTILS_AUTOINSTALL = --defaultdeps
    PERL_MM_USE_DEFAULT = 1
    SHELL = /bin/bash
    TERM = xterm

Perl special variables (and OS-specific diagnostics, for MSWin32):

    $^X = /opt/perl430-27-O0-5.10.0/bin/perl
    $UID/$EUID = 0 / 0
    $GID = 0 0 1 2 3 4 6 10
    $EGID = 0 0 1 2 3 4 6 10

Perl module toolchain versions installed:

    Module              Have    
    ------------------- --------
    CPAN                2.05    
    CPAN::Meta          2.143240
    Cwd                 3.47    
    ExtUtils::CBuilder  0.280220
    ExtUtils::Command   1.16    
    ExtUtils::Install   2.04    
    ExtUtils::MakeMaker 7.04    
    ExtUtils::Manifest  1.70    
    ExtUtils::ParseXS   3.24    
    File::Spec          3.47    
    JSON                2.90    
    JSON::PP            2.27300 
    Module::Build       0.4210  
    Module::Signature   0.73    
    Parse::CPAN::Meta   1.4414  
    Test::Harness       3.35    
    Test::More          1.001014
    YAML                1.13    
    YAML::Syck          1.29    
    version             0.9909  


--

Summary of my perl5 (revision 5 version 10 subversion 0) configuration:
  Platform:
    osname=linux, osvers=2.6.27.25-78.2.56.fc9.i686, archname=i686-linux-thread-multi-64int-ld
    uname='linux localhost.localdomain 2.6.27.25-78.2.56.fc9.i686 #1 smp thu jun 18 12:47:50 edt 2009 i686 i686 i386 gnulinux '
    config_args='-Dcc=gcc -Dprefix=/opt/perl430-27-O0-5.10.0 -DDEBUGGING'
    hint=recommended, useposix=true, d_sigaction=define
    useithreads=define, usemultiplicity=define
    useperlio=define, d_sfio=undef, uselargefiles=define, usesocks=undef
    use64bitint=define, use64bitall=undef, uselongdouble=define
    usemymalloc=y, bincompat5005=undef
  Compiler:
    cc='gcc', ccflags ='-D_REENTRANT -D_GNU_SOURCE -DDEBUGGING -fno-strict-aliasing -pipe -I/usr/local/include -D_LARGEFILE_SOURCE -D_FILE_OFFSET_BITS=64 -I/usr/include/gdbm',
    optimize='-O0 -g',
    cppflags='-D_REENTRANT -D_GNU_SOURCE -DDEBUGGING -fno-strict-aliasing -pipe -I/usr/local/include -I/usr/include/gdbm'
    ccversion='', gccversion='4.3.0 20080428 (Red Hat 4.3.0-8)', gccosandvers=''
    intsize=4, longsize=4, ptrsize=4, doublesize=8, byteorder=12345678
    d_longlong=define, longlongsize=8, d_longdbl=define, longdblsize=12
    ivtype='long long', ivsize=8, nvtype='long double', nvsize=12, Off_t='off_t', lseeksize=8
    alignbytes=4, prototype=define
  Linker and Libraries:
    ld='gcc', ldflags =' -L/usr/local/lib'
    libpth=/usr/local/lib /lib /usr/lib
    libs=-lnsl -lgdbm -ldb -ldl -lm -lcrypt -lutil -lpthread -lc
    perllibs=-lnsl -ldl -lm -lcrypt -lutil -lpthread -lc
    libc=/lib/libc-2.8.so, so=so, useshrplib=true, libperl=libperl.so
    gnulibc_version='2.8'
  Dynamic Linking:
    dlsrc=dl_dlopen.xs, dlext=so, d_dlsymun=undef, ccdlflags='-Wl,-E -Wl,-rpath,/opt/perl430-27-O0-5.10.0/lib/5.10.0/i686-linux-thread-multi-64int-ld/CORE'
    cccdlflags='-fPIC', lddlflags='-shared -O0 -g -L/usr/local/lib'


Characteristics of this binary (from libperl): 
  Compile-time options: DEBUGGING MULTIPLICITY MYMALLOC PERL_DONT_CREATE_GVSV
                        PERL_IMPLICIT_CONTEXT PERL_MAD PERL_MALLOC_WRAP
                        PERL_TRACK_MEMPOOL USE_64_BIT_INT USE_ITHREADS
                        USE_LARGE_FILES USE_LONG_DOUBLE USE_PERLIO
                        USE_REENTRANT_API
  Built under linux
  Compiled at Oct 10 2014 07:58:53
  %ENV:
    PERL5LIB=""
    PERL5OPT=""
    PERL5_CPANPLUS_IS_RUNNING="21240"
    PERL5_CPAN_IS_RUNNING="21240"
    PERL_ANYEVENT_MODEL="POE"
    PERL_EXTUTILS_AUTOINSTALL="--defaultdeps"
    PERL_MM_USE_DEFAULT="1"
  @INC:
    /opt/perl430-27-O0-5.10.0/lib/5.10.0/i686-linux-thread-multi-64int-ld
    /opt/perl430-27-O0-5.10.0/lib/5.10.0
    /opt/perl430-27-O0-5.10.0/lib/site_perl/5.10.0/i686-linux-thread-multi-64int-ld
    /opt/perl430-27-O0-5.10.0/lib/site_perl/5.10.0
    .