SQL-Abstract v1.90_01 Perl 5 v5.24.2 x86_64-linux

Status
Pass
From
Andreas J. König (ANDK)
Dist
SQL-Abstract v1.90_01
Platform
Perl 5 v5.24.2 x86_64-linux
Date
2019-10-09 02:05:30
ID
44d74df0-ea39-11e9-ac92-8173f269f15e
This distribution has been tested as part of the CPAN Testers
project, supporting the Perl programming language.  See
http://wiki.cpantesters.org/ for more information or email
questions to cpan-testers-discuss@perl.org


--
Dear Matt S Trout,

This is a computer-generated report for SQL-Abstract-1.90_01
on perl 5.24.2, created by CPAN-Reporter-1.2018.

Thank you for uploading your work to CPAN.  Congratulations!
All tests were successful.

Sections of this report:

    * Tester comments
    * Program output
    * Prerequisites
    * Environment and other context

------------------------------
TESTER COMMENTS
------------------------------

Additional comments from tester:

this report is from an automated smoke testing program
and was not reviewed by a human for accuracy

------------------------------
PROGRAM OUTPUT
------------------------------

Output from '/usr/bin/make test':

PERL_DL_NONLAZY=1 "/home/sand/src/perl/repoperls/installed-perls/host/k93msid/v5.24.2/da1c/bin/perl" "-MExtUtils::Command::MM" "-MTest::Harness" "-e" "undef *Test::Harness::Switches; test_harness(0, 'blib/lib', 'blib/arch')" t/*.t t/*/*.t
t/00new.t ................. ok
t/01generate.t ............ ok
t/02where.t ............... ok
t/03values.t .............. ok
t/04modifiers.t ........... ok
t/05in_between.t .......... ok
t/06order_by.t ............ ok
t/07subqueries.t .......... ok
t/08special_ops.t ......... ok
t/09refkind.t ............. ok
t/10test.t ................ ok
t/11parser.t .............. ok
t/12confmerge.t ........... ok
t/12format_keyword.t ...... ok
t/13whitespace_keyword.t .. ok
t/14roundtrippin.t ........ ok
t/15placeholders.t ........ ok
t/16no_sideeffects.t ...... ok
t/20injection_guard.t ..... ok
t/21op_ident.t ............ ok
t/22op_value.t ............ ok
t/23_is_X_value.t ......... ok
t/24order_by_chunks.t ..... ok
t/80extra_clauses.t ....... ok
t/dbic/bulk-insert.t ...... ok
t/dbic/no-repeats.t ....... ok
t/dbic/show-progress.t .... ok
All tests successful.
Files=27, Tests=3938, 15 wallclock secs ( 0.21 usr  0.19 sys +  4.89 cusr  0.89 csys =  6.18 CPU)
Result: PASS

------------------------------
PREREQUISITES
------------------------------

Prerequisite modules loaded:

requires:

    Module              Need     Have     
    ------------------- -------- ---------
    Exporter            5.57     5.73     
    Hash::Merge         0.12     0.300    
    List::Util          0        1.52     
    Moo                 2.000001 2.003004 
    MRO::Compat         0.12     0.13     
    perl                5.006    5.024002 
    Scalar::Util        0        1.52     
    Sub::Quote          2.000001 2.006_004
    Text::Balanced      2.00     2.03     

build_requires:

    Module              Need     Have     
    ------------------- -------- ---------
    Storable            0        3.15     
    Test::Deep          0.101    1.128    
    Test::Exception     0.31     0.43     
    Test::More          0.88     1.302167 
    Test::Warn          0        0.36     

configure_requires:

    Module              Need     Have     
    ------------------- -------- ---------
    ExtUtils::MakeMaker 0        7.39_01  


------------------------------
ENVIRONMENT AND OTHER CONTEXT
------------------------------

Environment variables:

    AUTOMATED_TESTING = 1
    LANG = en_US.UTF-8
    PATH = /home/sand/bin:/usr/local/bin:/usr/bin:/bin:/usr/games:/usr/local/perl/bin:/usr/X11/bin:/sbin:/usr/sbin
    PERL5LIB = 
    PERL5OPT = 
    PERL5_CPANPLUS_IS_RUNNING = 17790
    PERL5_CPAN_IS_RUNNING = 17790
    PERL_CANARY_STABILITY_NOPROMPT = 1
    PERL_MM_USE_DEFAULT = 1
    PERL_USE_UNSAFE_INC = 1
    SHELL = /usr/bin/zsh
    TERM = screen

Perl special variables (and OS-specific diagnostics, for MSWin32):

    $^X = /home/sand/src/perl/repoperls/installed-perls/host/k93msid/v5.24.2/da1c/bin/perl
    $UID/$EUID = 1005 / 1005
    $GID = 1005 1005
    $EGID = 1005 1005

Perl module toolchain versions installed:

    Module              Have    
    ------------------- --------
    CPAN                2.27    
    CPAN::Meta          2.150010
    Cwd                 3.75    
    ExtUtils::CBuilder  0.280231
    ExtUtils::Command   7.39_01 
    ExtUtils::Install   2.06    
    ExtUtils::MakeMaker 7.39_01 
    ExtUtils::Manifest  1.70    
    ExtUtils::ParseXS   3.35    
    File::Spec          3.75    
    JSON                4.02    
    JSON::PP            4.03    
    Module::Build       0.42_30 
    Module::Signature   0.83    
    Parse::CPAN::Meta   2.150010
    Test::Harness       3.42    
    Test::More          1.302167
    YAML                1.28_001
    YAML::Syck          1.31    
    version             0.9924  


--

Summary of my perl5 (revision 5 version 24 subversion 2) configuration:
  Derived from: eb3b805818a89c08b5564d383beddf70f69af1a3
  Platform:
    osname=linux, osvers=4.18.0-2-amd64, archname=x86_64-linux
    uname='linux k93msid 4.18.0-2-amd64 #1 smp debian 4.18.10-2 (2018-10-07) x86_64 gnulinux '
    config_args='-Dprefix=/home/sand/src/perl/repoperls/installed-perls/host/k93msid/v5.24.2/da1c -Dmyhostname=k93msid -Dinstallusrbinperl=n -Uversiononly -Dusedevel -des -Ui_db -Dlibswanted=cl pthread socket inet nsl gdbm dbm malloc dl ld sun m crypt sec util c cposix posix ucb BSD gdbm_compat -Uuseithreads -Uuselongdouble -DEBUGGING=-g'
    hint=recommended, useposix=true, d_sigaction=define
    useithreads=undef, usemultiplicity=undef
    use64bitint=define, use64bitall=define, uselongdouble=undef
    usemymalloc=n, bincompat5005=undef
  Compiler:
    cc='cc', ccflags ='-fwrapv -fno-strict-aliasing -pipe -fstack-protector-strong -I/usr/local/include -D_LARGEFILE_SOURCE -D_FILE_OFFSET_BITS=64',
    optimize='-O2 -g',
    cppflags='-fwrapv -fno-strict-aliasing -pipe -fstack-protector-strong -I/usr/local/include'
    ccversion='', gccversion='8.2.0', gccosandvers=''
    intsize=4, longsize=8, ptrsize=8, doublesize=8, byteorder=12345678, doublekind=3
    d_longlong=define, longlongsize=8, d_longdbl=define, longdblsize=16, longdblkind=3
    ivtype='long', ivsize=8, nvtype='double', nvsize=8, Off_t='off_t', lseeksize=8
    alignbytes=8, prototype=define
  Linker and Libraries:
    ld='cc', ldflags =' -fstack-protector-strong -L/usr/local/lib'
    libpth=/usr/local/lib /usr/lib/gcc/x86_64-linux-gnu/8/include-fixed /usr/include/x86_64-linux-gnu /usr/lib /lib/x86_64-linux-gnu /lib/../lib /usr/lib/x86_64-linux-gnu /usr/lib/../lib /lib
    libs=-lpthread -lnsl -ldl -lm -lcrypt -lutil -lc
    perllibs=-lpthread -lnsl -ldl -lm -lcrypt -lutil -lc
    libc=libc-2.27.so, so=so, useshrplib=false, libperl=libperl.a
    gnulibc_version='2.27'
  Dynamic Linking:
    dlsrc=dl_dlopen.xs, dlext=so, d_dlsymun=undef, ccdlflags='-Wl,-E'
    cccdlflags='-fPIC', lddlflags='-shared -O2 -g -L/usr/local/lib -fstack-protector-strong'


Characteristics of this binary (from libperl): 
  Compile-time options: HAS_TIMES PERLIO_LAYERS PERL_COPY_ON_WRITE
                        PERL_DONT_CREATE_GVSV
                        PERL_HASH_FUNC_ONE_AT_A_TIME_HARD PERL_MALLOC_WRAP
                        PERL_PRESERVE_IVUV PERL_USE_DEVEL USE_64_BIT_ALL
                        USE_64_BIT_INT USE_LARGE_FILES USE_LOCALE
                        USE_LOCALE_COLLATE USE_LOCALE_CTYPE
                        USE_LOCALE_NUMERIC USE_LOCALE_TIME USE_PERLIO
                        USE_PERL_ATOF
  Locally applied patches:
	uncommitted-changes
  Built under linux
  Compiled at Oct 28 2018 21:02:05
  %ENV:
    PERL5LIB=""
    PERL5OPT=""
    PERL5_CPANPLUS_IS_RUNNING="17790"
    PERL5_CPAN_IS_RUNNING="17790"
    PERL_CANARY_STABILITY_NOPROMPT="1"
    PERL_MM_USE_DEFAULT="1"
    PERL_USE_UNSAFE_INC="1"
  @INC:
    /home/sand/src/perl/repoperls/installed-perls/host/k93msid/v5.24.2/da1c/lib/site_perl/5.24.2/x86_64-linux
    /home/sand/src/perl/repoperls/installed-perls/host/k93msid/v5.24.2/da1c/lib/site_perl/5.24.2
    /home/sand/src/perl/repoperls/installed-perls/host/k93msid/v5.24.2/da1c/lib/5.24.2/x86_64-linux
    /home/sand/src/perl/repoperls/installed-perls/host/k93msid/v5.24.2/da1c/lib/5.24.2
    .