Report for Soar-WM-0.04

Back
From: metabase:user:30ae4450-2aae-11df-837a-5e0a49663a4f
Subject: PASS Soar-WM-0.04 v5.25.10 
Date: 2017-04-14T21:18:50Z

This distribution has been tested as part of the CPAN Testers
project, supporting the Perl programming language.  See
http://wiki.cpantesters.org/ for more information or email
questions to cpan-testers-discuss@perl.org


--
Dear Nathan Gary Glenn,

This is a computer-generated report for Soar-WM-0.04
on perl 5.25.10, created by CPAN-Reporter-1.2018.

Thank you for uploading your work to CPAN.  Congratulations!
All tests were successful.

Sections of this report:

    * Tester comments
    * Program output
    * Prerequisites
    * Environment and other context

------------------------------
TESTER COMMENTS
------------------------------

Additional comments from tester:

this report is from an automated smoke testing program
and was not reviewed by a human for accuracy

------------------------------
PROGRAM OUTPUT
------------------------------

Output from 'C:\Strawberry2510\perl\bin\perl.exe ./Build test':

t/00-compile.t ................ ok
# 
# 
# Generated by Dist::Zilla::Plugin::ReportVersions::Tiny v1.08
# perl: 5.025010 (wanted 5.010) on MSWin32 from C:\Strawberry2510\perl\bin\perl.exe
# 
# Carp                                          => 1.42       (want any version)
# Data::Dumper                                  => 2.167      (want any version)
# Data::Section::Simple                         => 0.07       (want any version)
# Exporter                                      => 5.72       (want any version)
# File::Find                                    => 1.34       (want any version)
# File::Spec                                    => 3.66       (want any version)
# File::Temp                                    => 0.2304     (want any version)
# FindBin                                       => 1.51       (want any version)
# Module::Build                                 => 0.422      (want 0.3601) 
# Pod::Coverage::TrustPod                       => 0.100003   (want any version)
# Test::CPAN::Meta                              => 0.25       (want any version)
# Test::Deep                                    => 1.126      (want any version)
# Test::More                                    => 1.302075   (want 0.88)   
# Test::NoWarnings                              => 1.04       (want any version)
# Test::Pod                                     => 1.51       (want 1.41)   
# Test::Pod::Coverage                           => 1.10       (want 1.08)   
# Test::Warn                                    => 0.32       (want any version)
# autodie                                       => 2.29       (want any version)
# base                                          => 2.24       (want any version)
# strict                                        => 1.11       (want any version)
# version                                       => 0.9917     (want 0.9901) 
# warnings                                      => 1.37       (want any version)
# 
# Thanks for using my code.  I hope it works for you.
# If not, please try and include this output in the bug report.
# That will help me reproduce the issue and solve your problem.
# 
t/000-report-versions-tiny.t .. ok
t/01-slurp.t .................. ok
t/02-wm.t ..................... ok
t/03-traversal.t .............. ok
t/04-errors.t ................. ok
All tests successful.
Files=6, Tests=34,  3 wallclock secs ( 0.07 usr +  0.10 sys =  0.17 CPU)
Result: PASS

------------------------------
PREREQUISITES
------------------------------

Prerequisite modules loaded:

requires:

    Module                Need   Have    
    --------------------- ------ --------
    autodie               0      2.29    
    base                  0      2.24    
    Carp                  0      1.42    
    Exporter              0      5.72    
    perl                  5.010  5.025010
    strict                0      1.11    
    warnings              0      1.37    

build_requires:

    Module                Need   Have    
    --------------------- ------ --------
    Data::Dumper          0      2.167   
    Data::Section::Simple 0      0.07    
    File::Find            0      1.34    
    File::Spec            0      3.66    
    File::Temp            0      0.2304  
    FindBin               0      1.51    
    Module::Build         0.3601 0.4220  
    Test::Deep            0      1.126   
    Test::More            0.88   1.302075
    Test::NoWarnings      0      1.04    
    Test::Warn            0      0.32    

configure_requires:

    Module                Need   Have    
    --------------------- ------ --------
    Module::Build         0.3601 0.4220  


------------------------------
ENVIRONMENT AND OTHER CONTEXT
------------------------------

Environment variables:

    AUTOMATED_TESTING = 1
    COMSPEC = C:\WINDOWS\system32\cmd.exe
    NUMBER_OF_PROCESSORS = 1
    PATH = C:\WINDOWS\system32;C:\WINDOWS;C:\WINDOWS\System32\Wbem;C:\Git\cmd;C:\Strawberry2510\c\bin;C:\Strawberry2510\perl\site\bin;C:\Strawberry2510\perl\bin
    PERL5LIB = 
    PERL5OPT = 
    PERL5_CPANPLUS_IS_RUNNING = 36080
    PERL5_CPAN_IS_RUNNING = 36080
    PERL5_CPAN_IS_RUNNING_IN_RECURSION = 1512,36080
    PERL_CR_SMOKER_CURRENT = Task-XNLSoar-Graphing-0.03
    PERL_CR_SMOKER_RUNONCE = 1
    PERL_EXTUTILS_AUTOINSTALL = --defaultdeps
    PERL_MM_USE_DEFAULT = 1
    PERL_USE_UNSAFE_INC = 1
    PROCESSOR_IDENTIFIER = x86 Family 16 Model 5 Stepping 3, AuthenticAMD
    TEMP = C:\DOCUME~1\a\LOCALS~1\Temp

Perl special variables (and OS-specific diagnostics, for MSWin32):

    $^X = C:\Strawberry2510\perl\bin\perl.exe
    $UID/$EUID = 0 / 0
    $GID = 0
    $EGID = 0
    Win32::GetOSName = WinXP/.Net
    Win32::GetOSVersion = Service Pack 3, 5, 1, 2600, 2, 3, 0, 256, 1
    Win32::FsType = NTFS
    Win32::IsAdminUser = 1

Perl module toolchain versions installed:

    Module              Have      
    ------------------- ----------
    CPAN                2.17      
    CPAN::Meta          2.150010  
    Cwd                 3.66      
    ExtUtils::CBuilder  0.280225  
    ExtUtils::Command   7.24      
    ExtUtils::Install   2.04      
    ExtUtils::MakeMaker 7.24      
    ExtUtils::Manifest  1.70      
    ExtUtils::ParseXS   3.33      
    File::Spec          3.66      
    JSON                2.90      
    JSON::PP            2.27400_02
    Module::Build       0.4220    
    Module::Signature   0.81      
    Parse::CPAN::Meta   2.150010  
    Test::Harness       3.36_01   
    Test::More          1.302075  
    YAML                1.23      
    YAML::Syck          1.29      
    version             0.9917    


--

Summary of my perl5 (revision 5 version 25 subversion 10) configuration:
   
  Platform:
    osname=MSWin32
    osvers=4.0
    archname=MSWin32-x86-multi-thread
    uname='Win32 strawberry-perl 5.25.10.1-beta1 #1 Fri Feb 24 21:36:42 2017 i386'
    config_args='undef'
    hint=recommended
    useposix=true
    d_sigaction=undef
    useithreads=define
    usemultiplicity=define
    use64bitint=undef
    use64bitall=undef
    uselongdouble=undef
    usemymalloc=n
    bincompat5005=undef
  Compiler:
    cc='gcc'
    ccflags =' -s -O2 -DWIN32  -DPERL_TEXTMODE_SCRIPTS -DPERL_IMPLICIT_CONTEXT -DPERL_IMPLICIT_SYS -fwrapv -fno-strict-aliasing -mms-bitfields'
    optimize='-s -O2'
    cppflags='-DWIN32'
    ccversion=''
    gccversion='4.9.2'
    gccosandvers=''
    intsize=4
    longsize=4
    ptrsize=4
    doublesize=8
    byteorder=1234
    doublekind=3
    d_longlong=define
    longlongsize=8
    d_longdbl=define
    longdblsize=12
    longdblkind=3
    ivtype='long'
    ivsize=4
    nvtype='double'
    nvsize=8
    Off_t='long long'
    lseeksize=8
    alignbytes=8
    prototype=define
  Linker and Libraries:
    ld='g++'
    ldflags ='-s -L"C:\STRAWB~1\perl\lib\CORE" -L"C:\STRAWB~1\c\lib"'
    libpth=C:\STRAWB~1\c\lib C:\STRAWB~1\c\i686-w64-mingw32\lib C:\STRAWB~1\c\lib\gcc\i686-w64-mingw32\4.9.2
    libs=-lmoldname -lkernel32 -luser32 -lgdi32 -lwinspool -lcomdlg32 -ladvapi32 -lshell32 -lole32 -loleaut32 -lnetapi32 -luuid -lws2_32 -lmpr -lwinmm -lversion -lodbc32 -lodbccp32 -lcomctl32
    perllibs=-lmoldname -lkernel32 -luser32 -lgdi32 -lwinspool -lcomdlg32 -ladvapi32 -lshell32 -lole32 -loleaut32 -lnetapi32 -luuid -lws2_32 -lmpr -lwinmm -lversion -lodbc32 -lodbccp32 -lcomctl32
    libc=
    so=dll
    useshrplib=true
    libperl=libperl525.a
    gnulibc_version=''
  Dynamic Linking:
    dlsrc=dl_win32.xs
    dlext=xs.dll
    d_dlsymun=undef
    ccdlflags=' '
    cccdlflags=' '
    lddlflags='-mdll -s -L"C:\STRAWB~1\perl\lib\CORE" -L"C:\STRAWB~1\c\lib"'


Characteristics of this binary (from libperl): 
  Compile-time options:
    HAS_TIMES
    HAVE_INTERP_INTERN
    MULTIPLICITY
    PERLIO_LAYERS
    PERL_COPY_ON_WRITE
    PERL_DONT_CREATE_GVSV
    PERL_HASH_FUNC_ONE_AT_A_TIME_HARD
    PERL_IMPLICIT_CONTEXT
    PERL_IMPLICIT_SYS
    PERL_MALLOC_WRAP
    PERL_OP_PARENT
    PERL_PRESERVE_IVUV
    USE_ITHREADS
    USE_LARGE_FILES
    USE_LOCALE
    USE_LOCALE_COLLATE
    USE_LOCALE_CTYPE
    USE_LOCALE_NUMERIC
    USE_LOCALE_TIME
    USE_PERLIO
    USE_PERL_ATOF
  Built under MSWin32
  Compiled at Feb 24 2017 21:45:33
  %ENV:
    PERL5_CPANPLUS_IS_RUNNING="36080"
    PERL5_CPAN_IS_RUNNING="36080"
    PERL5_CPAN_IS_RUNNING_IN_RECURSION="1512,36080"
    PERL_CR_SMOKER_CURRENT="Task-XNLSoar-Graphing-0.03"
    PERL_CR_SMOKER_RUNONCE="1"
    PERL_EXTUTILS_AUTOINSTALL="--defaultdeps"
    PERL_MM_USE_DEFAULT="1"
    PERL_USE_UNSAFE_INC="1"
  @INC:
    C:/Strawberry2510/perl/site/lib
    C:/Strawberry2510/perl/vendor/lib
    C:/Strawberry2510/perl/lib
    .